BEGIN:VCALENDAR
VERSION:2.0
PRODID:-//Mercy Presbyterian Church - ECPv6.15.18//NONSGML v1.0//EN
CALSCALE:GREGORIAN
METHOD:PUBLISH
X-WR-CALNAME:Mercy Presbyterian Church
X-ORIGINAL-URL:https://www.mercypres.org
X-WR-CALDESC:Events for Mercy Presbyterian Church
REFRESH-INTERVAL;VALUE=DURATION:PT1H
X-Robots-Tag:noindex
X-PUBLISHED-TTL:PT1H
BEGIN:VTIMEZONE
TZID:America/New_York
BEGIN:DAYLIGHT
TZOFFSETFROM:-0500
TZOFFSETTO:-0400
TZNAME:EDT
DTSTART:20250309T070000
END:DAYLIGHT
BEGIN:STANDARD
TZOFFSETFROM:-0400
TZOFFSETTO:-0500
TZNAME:EST
DTSTART:20251102T060000
END:STANDARD
BEGIN:DAYLIGHT
TZOFFSETFROM:-0500
TZOFFSETTO:-0400
TZNAME:EDT
DTSTART:20260308T070000
END:DAYLIGHT
BEGIN:STANDARD
TZOFFSETFROM:-0400
TZOFFSETTO:-0500
TZNAME:EST
DTSTART:20261101T060000
END:STANDARD
BEGIN:DAYLIGHT
TZOFFSETFROM:-0500
TZOFFSETTO:-0400
TZNAME:EDT
DTSTART:20270314T070000
END:DAYLIGHT
BEGIN:STANDARD
TZOFFSETFROM:-0400
TZOFFSETTO:-0500
TZNAME:EST
DTSTART:20271107T060000
END:STANDARD
END:VTIMEZONE
BEGIN:VEVENT
DTSTART;VALUE=DATE:20260424
DTEND;VALUE=DATE:20260426
DTSTAMP:20260423T105609
CREATED:20260126T175059Z
LAST-MODIFIED:20260126T175059Z
UID:10005831-1776988800-1777161599@www.mercypres.org
SUMMARY:Blue Ridge Presbytery Meeting
DESCRIPTION:Quarterly meeting of the Blue Ridge Presbytery\, hosted here at Mercy. \nAll are invited Friday evening at 7pm\, as members of our Presbytery come together for a worship service and communion. \nYou may also consider joining us on Saturday morning to observe the business of the Presbytery as we conduct items of business on behalf of our churches.
URL:https://www.mercypres.org/event-occurrence/blue-ridge-presbytery-meeting/
LOCATION:Mercy Presbyterian Church\, 1997 Thomas Jefferson Rd\, Forest\, VA\, 24551\, United States
CATEGORIES:Misc.
ATTACH;FMTTYPE=image/jpeg:https://www.mercypres.org/wp-content/uploads/2026/01/presbytery.jpg
ORGANIZER;CN="Bryan Rigg":MAILTO:bryan.rigg@mercypres.org
END:VEVENT
BEGIN:VEVENT
DTSTART;TZID=America/New_York:20260425T090000
DTEND;TZID=America/New_York:20260425T110000
DTSTAMP:20260423T105609
CREATED:20260120T144213Z
LAST-MODIFIED:20260304T172513Z
UID:10005889-1777107600-1777114800@www.mercypres.org
SUMMARY:GriefShare
DESCRIPTION:13-week program | Begins February 14\n\n\n\n\nGrief can feel overwhelming\, confusing\, and lonely. The GriefShare Grief Support Group at Mercy Presbyterian Church offers a safe and caring place to find help\, hope\, and understanding after the loss of a loved one. \nGriefShare is a 13-week grief support program for people who have experienced the death of a family member or friend. Each session provides guidance\, encouragement\, and a supportive community where you can heal at your own pace. \nGrief does not follow a set timeline. In this group\, you will learn what is normal in grief\, what to expect in the weeks ahead\, and healthy ways to cope with grief as it changes over time. \n\n\nMore Info: MercyPres.org/GriefShare\nRegister: Click Here
URL:https://www.mercypres.org/event-occurrence/griefshare-start-date/2026-04-25/
LOCATION:Mercy Presbyterian Church\, 1997 Thomas Jefferson Rd\, Forest\, VA\, 24551\, United States
CATEGORIES:Misc.
ATTACH;FMTTYPE=image/jpeg:https://www.mercypres.org/wp-content/uploads/2026/01/4.jpg
END:VEVENT
BEGIN:VEVENT
DTSTART;TZID=America/New_York:20260425T140000
DTEND;TZID=America/New_York:20260425T180000
DTSTAMP:20260423T105609
CREATED:20260206T022622Z
LAST-MODIFIED:20260422T150557Z
UID:10005849-1777125600-1777140000@www.mercypres.org
SUMMARY:Men's Baseball & Cookout
DESCRIPTION:All Aboard the Flame Train! \nJoin the Men of Mercy for a unique entertainment event at the Liberty Baseball Flame Train this season! \nApril 25th; Hotdogs and fellowship at 2pm\, game starts at 3pm. \nCost of $7  includes: Flame Train\, ticket to the game\, and hotdogs/chips/drinks provided by Mercy in a private hospitality area to enjoy the game.\nBring a guest who doesn’t attend Mercy\, and their ticket is free of charge! \nRegistration for this event has closed and tickets have all been claimed. For inquiries\, contact John Homon (view in directory).
URL:https://www.mercypres.org/event-occurrence/mens-baseball-bbq/
LOCATION:Liberty University
CATEGORIES:Men
ATTACH;FMTTYPE=image/png:https://www.mercypres.org/wp-content/uploads/2026/02/Baseball-e1770344775597.png
ORGANIZER;CN="John Homon":MAILTO:jhomon316@gmail.com
END:VEVENT
END:VCALENDAR