BEGIN:VCALENDAR
VERSION:2.0
PRODID:-//Mercy Presbyterian Church - ECPv6.15.20//NONSGML v1.0//EN
CALSCALE:GREGORIAN
METHOD:PUBLISH
X-WR-CALNAME:Mercy Presbyterian Church
X-ORIGINAL-URL:https://www.mercypres.org
X-WR-CALDESC:Events for Mercy Presbyterian Church
REFRESH-INTERVAL;VALUE=DURATION:PT1H
X-Robots-Tag:noindex
X-PUBLISHED-TTL:PT1H
BEGIN:VTIMEZONE
TZID:America/New_York
BEGIN:DAYLIGHT
TZOFFSETFROM:-0500
TZOFFSETTO:-0400
TZNAME:EDT
DTSTART:20240310T070000
END:DAYLIGHT
BEGIN:STANDARD
TZOFFSETFROM:-0400
TZOFFSETTO:-0500
TZNAME:EST
DTSTART:20241103T060000
END:STANDARD
BEGIN:DAYLIGHT
TZOFFSETFROM:-0500
TZOFFSETTO:-0400
TZNAME:EDT
DTSTART:20250309T070000
END:DAYLIGHT
BEGIN:STANDARD
TZOFFSETFROM:-0400
TZOFFSETTO:-0500
TZNAME:EST
DTSTART:20251102T060000
END:STANDARD
BEGIN:DAYLIGHT
TZOFFSETFROM:-0500
TZOFFSETTO:-0400
TZNAME:EDT
DTSTART:20260308T070000
END:DAYLIGHT
BEGIN:STANDARD
TZOFFSETFROM:-0400
TZOFFSETTO:-0500
TZNAME:EST
DTSTART:20261101T060000
END:STANDARD
END:VTIMEZONE
BEGIN:VEVENT
DTSTART;TZID=America/New_York:20251001T190000
DTEND;TZID=America/New_York:20251001T203000
DTSTAMP:20260423T194417
CREATED:20250827T134554Z
LAST-MODIFIED:20251118T152853Z
UID:10004498-1759345200-1759350600@www.mercypres.org
SUMMARY:Men's Study Group (evening)
DESCRIPTION:We have 2 men’s groups meeting on Wednesday evenings: \n\n2nd and 4th Wed.\, 7pm\nEast Home\nJohn East (john.east@mercypres.org) \n\n1st and 3rd Wed.\, 7pm\nMercy\nScott Robinson (scott.robinson@mercypres.org) \n 
URL:https://www.mercypres.org/event-occurrence/mens-study-group-evening/2025-10-01/
LOCATION:VA
CATEGORIES:Men
ATTACH;FMTTYPE=image/jpeg:https://www.mercypres.org/wp-content/uploads/2025/08/mens-4-e1755287285514.jpg
END:VEVENT
BEGIN:VEVENT
DTSTART;TZID=America/New_York:20251005T143000
DTEND;TZID=America/New_York:20251005T153000
DTSTAMP:20260423T194417
CREATED:20250827T134956Z
LAST-MODIFIED:20250827T134956Z
UID:10004750-1759674600-1759678200@www.mercypres.org
SUMMARY:Men's Study Group (Sundays)
DESCRIPTION:Join us for a weekly men’s Bible study on Sunday afternoons. \n  \nContacts:\nVic Ritter\nSteve Rudolph
URL:https://www.mercypres.org/event-occurrence/mens-study-group-sundays/2025-10-05/
LOCATION:Mercy Presbyterian Church\, 1997 Thomas Jefferson Rd\, Forest\, VA\, 24551\, United States
CATEGORIES:Men
ATTACH;FMTTYPE=image/jpeg:https://www.mercypres.org/wp-content/uploads/2025/08/mens3-e1755287237345.jpg
END:VEVENT
BEGIN:VEVENT
DTSTART;TZID=America/New_York:20251007T063000
DTEND;TZID=America/New_York:20251007T080000
DTSTAMP:20260423T194417
CREATED:20250827T135855Z
LAST-MODIFIED:20250827T140326Z
UID:10005011-1759818600-1759824000@www.mercypres.org
SUMMARY:Men's Study Group (morning)
DESCRIPTION:Join us for a weekly men’s Bible study on Tuesday mornings. \n  \nContact:\nDick Bitzer
URL:https://www.mercypres.org/event-occurrence/mens-study-group-morning/2025-10-07/
LOCATION:Mercy Presbyterian Church\, 1997 Thomas Jefferson Rd\, Forest\, VA\, 24551\, United States
CATEGORIES:Men
ATTACH;FMTTYPE=image/jpeg:https://www.mercypres.org/wp-content/uploads/2025/08/website-event-image.jpg
ORGANIZER;CN="Dick Bitzer":MAILTO:dlbitzer08@gmail.com
END:VEVENT
BEGIN:VEVENT
DTSTART;TZID=America/New_York:20251008T190000
DTEND;TZID=America/New_York:20251008T203000
DTSTAMP:20260423T194417
CREATED:20250827T134554Z
LAST-MODIFIED:20251118T152853Z
UID:10004499-1759950000-1759955400@www.mercypres.org
SUMMARY:Men's Study Group (evening)
DESCRIPTION:We have 2 men’s groups meeting on Wednesday evenings: \n\n2nd and 4th Wed.\, 7pm\nEast Home\nJohn East (john.east@mercypres.org) \n\n1st and 3rd Wed.\, 7pm\nMercy\nScott Robinson (scott.robinson@mercypres.org) \n 
URL:https://www.mercypres.org/event-occurrence/mens-study-group-evening/2025-10-08/
LOCATION:VA
CATEGORIES:Men
ATTACH;FMTTYPE=image/jpeg:https://www.mercypres.org/wp-content/uploads/2025/08/mens-4-e1755287285514.jpg
END:VEVENT
BEGIN:VEVENT
DTSTART;TZID=America/New_York:20251012T143000
DTEND;TZID=America/New_York:20251012T153000
DTSTAMP:20260423T194417
CREATED:20250827T134956Z
LAST-MODIFIED:20250827T134956Z
UID:10004751-1760279400-1760283000@www.mercypres.org
SUMMARY:Men's Study Group (Sundays)
DESCRIPTION:Join us for a weekly men’s Bible study on Sunday afternoons. \n  \nContacts:\nVic Ritter\nSteve Rudolph
URL:https://www.mercypres.org/event-occurrence/mens-study-group-sundays/2025-10-12/
LOCATION:Mercy Presbyterian Church\, 1997 Thomas Jefferson Rd\, Forest\, VA\, 24551\, United States
CATEGORIES:Men
ATTACH;FMTTYPE=image/jpeg:https://www.mercypres.org/wp-content/uploads/2025/08/mens3-e1755287237345.jpg
END:VEVENT
BEGIN:VEVENT
DTSTART;TZID=America/New_York:20251014T063000
DTEND;TZID=America/New_York:20251014T080000
DTSTAMP:20260423T194417
CREATED:20250827T135855Z
LAST-MODIFIED:20250827T140326Z
UID:10005012-1760423400-1760428800@www.mercypres.org
SUMMARY:Men's Study Group (morning)
DESCRIPTION:Join us for a weekly men’s Bible study on Tuesday mornings. \n  \nContact:\nDick Bitzer
URL:https://www.mercypres.org/event-occurrence/mens-study-group-morning/2025-10-14/
LOCATION:Mercy Presbyterian Church\, 1997 Thomas Jefferson Rd\, Forest\, VA\, 24551\, United States
CATEGORIES:Men
ATTACH;FMTTYPE=image/jpeg:https://www.mercypres.org/wp-content/uploads/2025/08/website-event-image.jpg
ORGANIZER;CN="Dick Bitzer":MAILTO:dlbitzer08@gmail.com
END:VEVENT
BEGIN:VEVENT
DTSTART;TZID=America/New_York:20251015T190000
DTEND;TZID=America/New_York:20251015T203000
DTSTAMP:20260423T194417
CREATED:20250827T134554Z
LAST-MODIFIED:20251118T152853Z
UID:10004500-1760554800-1760560200@www.mercypres.org
SUMMARY:Men's Study Group (evening)
DESCRIPTION:We have 2 men’s groups meeting on Wednesday evenings: \n\n2nd and 4th Wed.\, 7pm\nEast Home\nJohn East (john.east@mercypres.org) \n\n1st and 3rd Wed.\, 7pm\nMercy\nScott Robinson (scott.robinson@mercypres.org) \n 
URL:https://www.mercypres.org/event-occurrence/mens-study-group-evening/2025-10-15/
LOCATION:VA
CATEGORIES:Men
ATTACH;FMTTYPE=image/jpeg:https://www.mercypres.org/wp-content/uploads/2025/08/mens-4-e1755287285514.jpg
END:VEVENT
BEGIN:VEVENT
DTSTART;TZID=America/New_York:20251018T080000
DTEND;TZID=America/New_York:20251018T093000
DTSTAMP:20260423T194417
CREATED:20250730T192455Z
LAST-MODIFIED:20251002T194948Z
UID:10003803-1760774400-1760779800@www.mercypres.org
SUMMARY:Men's Pancake Breakfast
DESCRIPTION:Join us for pancakes\, toppings\, coffee\, fruit\, and fellowship.
URL:https://www.mercypres.org/event-occurrence/mens-pancake-breakfast/
LOCATION:VA
CATEGORIES:Men
ATTACH;FMTTYPE=image/jpeg:https://www.mercypres.org/wp-content/uploads/2025/07/15751332572_7a29170563_b-e1753903292445.jpg
ORGANIZER;CN="Nate Fowler":MAILTO:nate.fowler@mercypres.org
END:VEVENT
BEGIN:VEVENT
DTSTART;TZID=America/New_York:20251019T143000
DTEND;TZID=America/New_York:20251019T153000
DTSTAMP:20260423T194417
CREATED:20250827T134956Z
LAST-MODIFIED:20250827T134956Z
UID:10004752-1760884200-1760887800@www.mercypres.org
SUMMARY:Men's Study Group (Sundays)
DESCRIPTION:Join us for a weekly men’s Bible study on Sunday afternoons. \n  \nContacts:\nVic Ritter\nSteve Rudolph
URL:https://www.mercypres.org/event-occurrence/mens-study-group-sundays/2025-10-19/
LOCATION:Mercy Presbyterian Church\, 1997 Thomas Jefferson Rd\, Forest\, VA\, 24551\, United States
CATEGORIES:Men
ATTACH;FMTTYPE=image/jpeg:https://www.mercypres.org/wp-content/uploads/2025/08/mens3-e1755287237345.jpg
END:VEVENT
BEGIN:VEVENT
DTSTART;TZID=America/New_York:20251021T063000
DTEND;TZID=America/New_York:20251021T080000
DTSTAMP:20260423T194417
CREATED:20250827T135855Z
LAST-MODIFIED:20250827T140326Z
UID:10005013-1761028200-1761033600@www.mercypres.org
SUMMARY:Men's Study Group (morning)
DESCRIPTION:Join us for a weekly men’s Bible study on Tuesday mornings. \n  \nContact:\nDick Bitzer
URL:https://www.mercypres.org/event-occurrence/mens-study-group-morning/2025-10-21/
LOCATION:Mercy Presbyterian Church\, 1997 Thomas Jefferson Rd\, Forest\, VA\, 24551\, United States
CATEGORIES:Men
ATTACH;FMTTYPE=image/jpeg:https://www.mercypres.org/wp-content/uploads/2025/08/website-event-image.jpg
ORGANIZER;CN="Dick Bitzer":MAILTO:dlbitzer08@gmail.com
END:VEVENT
BEGIN:VEVENT
DTSTART;TZID=America/New_York:20251022T190000
DTEND;TZID=America/New_York:20251022T203000
DTSTAMP:20260423T194417
CREATED:20250827T134554Z
LAST-MODIFIED:20251118T152853Z
UID:10004501-1761159600-1761165000@www.mercypres.org
SUMMARY:Men's Study Group (evening)
DESCRIPTION:We have 2 men’s groups meeting on Wednesday evenings: \n\n2nd and 4th Wed.\, 7pm\nEast Home\nJohn East (john.east@mercypres.org) \n\n1st and 3rd Wed.\, 7pm\nMercy\nScott Robinson (scott.robinson@mercypres.org) \n 
URL:https://www.mercypres.org/event-occurrence/mens-study-group-evening/2025-10-22/
LOCATION:VA
CATEGORIES:Men
ATTACH;FMTTYPE=image/jpeg:https://www.mercypres.org/wp-content/uploads/2025/08/mens-4-e1755287285514.jpg
END:VEVENT
BEGIN:VEVENT
DTSTART;TZID=America/New_York:20251026T143000
DTEND;TZID=America/New_York:20251026T153000
DTSTAMP:20260423T194417
CREATED:20250827T134956Z
LAST-MODIFIED:20250827T134956Z
UID:10004753-1761489000-1761492600@www.mercypres.org
SUMMARY:Men's Study Group (Sundays)
DESCRIPTION:Join us for a weekly men’s Bible study on Sunday afternoons. \n  \nContacts:\nVic Ritter\nSteve Rudolph
URL:https://www.mercypres.org/event-occurrence/mens-study-group-sundays/2025-10-26/
LOCATION:Mercy Presbyterian Church\, 1997 Thomas Jefferson Rd\, Forest\, VA\, 24551\, United States
CATEGORIES:Men
ATTACH;FMTTYPE=image/jpeg:https://www.mercypres.org/wp-content/uploads/2025/08/mens3-e1755287237345.jpg
END:VEVENT
BEGIN:VEVENT
DTSTART;TZID=America/New_York:20251028T063000
DTEND;TZID=America/New_York:20251028T080000
DTSTAMP:20260423T194417
CREATED:20250827T135855Z
LAST-MODIFIED:20250827T140326Z
UID:10005014-1761633000-1761638400@www.mercypres.org
SUMMARY:Men's Study Group (morning)
DESCRIPTION:Join us for a weekly men’s Bible study on Tuesday mornings. \n  \nContact:\nDick Bitzer
URL:https://www.mercypres.org/event-occurrence/mens-study-group-morning/2025-10-28/
LOCATION:Mercy Presbyterian Church\, 1997 Thomas Jefferson Rd\, Forest\, VA\, 24551\, United States
CATEGORIES:Men
ATTACH;FMTTYPE=image/jpeg:https://www.mercypres.org/wp-content/uploads/2025/08/website-event-image.jpg
ORGANIZER;CN="Dick Bitzer":MAILTO:dlbitzer08@gmail.com
END:VEVENT
END:VCALENDAR