BEGIN:VCALENDAR
VERSION:2.0
PRODID:-//Mercy Presbyterian Church - ECPv6.15.20//NONSGML v1.0//EN
CALSCALE:GREGORIAN
METHOD:PUBLISH
X-ORIGINAL-URL:https://www.mercypres.org
X-WR-CALDESC:Events for Mercy Presbyterian Church
REFRESH-INTERVAL;VALUE=DURATION:PT1H
X-Robots-Tag:noindex
X-PUBLISHED-TTL:PT1H
BEGIN:VTIMEZONE
TZID:America/New_York
BEGIN:DAYLIGHT
TZOFFSETFROM:-0500
TZOFFSETTO:-0400
TZNAME:EDT
DTSTART:20250309T070000
END:DAYLIGHT
BEGIN:STANDARD
TZOFFSETFROM:-0400
TZOFFSETTO:-0500
TZNAME:EST
DTSTART:20251102T060000
END:STANDARD
BEGIN:DAYLIGHT
TZOFFSETFROM:-0500
TZOFFSETTO:-0400
TZNAME:EDT
DTSTART:20260308T070000
END:DAYLIGHT
BEGIN:STANDARD
TZOFFSETFROM:-0400
TZOFFSETTO:-0500
TZNAME:EST
DTSTART:20261101T060000
END:STANDARD
BEGIN:DAYLIGHT
TZOFFSETFROM:-0500
TZOFFSETTO:-0400
TZNAME:EDT
DTSTART:20270314T070000
END:DAYLIGHT
BEGIN:STANDARD
TZOFFSETFROM:-0400
TZOFFSETTO:-0500
TZNAME:EST
DTSTART:20271107T060000
END:STANDARD
END:VTIMEZONE
BEGIN:VEVENT
DTSTART;TZID=America/New_York:20261201T063000
DTEND;TZID=America/New_York:20261201T080000
DTSTAMP:20260423T232606
CREATED:20250827T135855Z
LAST-MODIFIED:20250827T140326Z
UID:10005071-1796106600-1796112000@www.mercypres.org
SUMMARY:Men's Study Group (morning)
DESCRIPTION:Join us for a weekly men’s Bible study on Tuesday mornings. \n  \nContact:\nDick Bitzer
URL:https://www.mercypres.org/event-occurrence/mens-study-group-morning/2026-12-01/
LOCATION:Mercy Presbyterian Church\, 1997 Thomas Jefferson Rd\, Forest\, VA\, 24551\, United States
CATEGORIES:Men
ATTACH;FMTTYPE=image/jpeg:https://www.mercypres.org/wp-content/uploads/2025/08/website-event-image.jpg
ORGANIZER;CN="Dick Bitzer":MAILTO:dlbitzer08@gmail.com
END:VEVENT
BEGIN:VEVENT
DTSTART;TZID=America/New_York:20261202T190000
DTEND;TZID=America/New_York:20261202T203000
DTSTAMP:20260423T232606
CREATED:20250827T134554Z
LAST-MODIFIED:20251118T152853Z
UID:10004553-1796238000-1796243400@www.mercypres.org
SUMMARY:Men's Study Group (evening)
DESCRIPTION:We have 2 men’s groups meeting on Wednesday evenings: \n\n2nd and 4th Wed.\, 7pm\nEast Home\nJohn East (john.east@mercypres.org) \n\n1st and 3rd Wed.\, 7pm\nMercy\nScott Robinson (scott.robinson@mercypres.org) \n 
URL:https://www.mercypres.org/event-occurrence/mens-study-group-evening/2026-12-02/
LOCATION:VA
CATEGORIES:Men
ATTACH;FMTTYPE=image/jpeg:https://www.mercypres.org/wp-content/uploads/2025/08/mens-4-e1755287285514.jpg
END:VEVENT
BEGIN:VEVENT
DTSTART;TZID=America/New_York:20261208T063000
DTEND;TZID=America/New_York:20261208T080000
DTSTAMP:20260423T232606
CREATED:20250827T135855Z
LAST-MODIFIED:20250827T140326Z
UID:10005072-1796711400-1796716800@www.mercypres.org
SUMMARY:Men's Study Group (morning)
DESCRIPTION:Join us for a weekly men’s Bible study on Tuesday mornings. \n  \nContact:\nDick Bitzer
URL:https://www.mercypres.org/event-occurrence/mens-study-group-morning/2026-12-08/
LOCATION:Mercy Presbyterian Church\, 1997 Thomas Jefferson Rd\, Forest\, VA\, 24551\, United States
CATEGORIES:Men
ATTACH;FMTTYPE=image/jpeg:https://www.mercypres.org/wp-content/uploads/2025/08/website-event-image.jpg
ORGANIZER;CN="Dick Bitzer":MAILTO:dlbitzer08@gmail.com
END:VEVENT
BEGIN:VEVENT
DTSTART;TZID=America/New_York:20261209T190000
DTEND;TZID=America/New_York:20261209T203000
DTSTAMP:20260423T232606
CREATED:20250827T134554Z
LAST-MODIFIED:20251118T152853Z
UID:10004554-1796842800-1796848200@www.mercypres.org
SUMMARY:Men's Study Group (evening)
DESCRIPTION:We have 2 men’s groups meeting on Wednesday evenings: \n\n2nd and 4th Wed.\, 7pm\nEast Home\nJohn East (john.east@mercypres.org) \n\n1st and 3rd Wed.\, 7pm\nMercy\nScott Robinson (scott.robinson@mercypres.org) \n 
URL:https://www.mercypres.org/event-occurrence/mens-study-group-evening/2026-12-09/
LOCATION:VA
CATEGORIES:Men
ATTACH;FMTTYPE=image/jpeg:https://www.mercypres.org/wp-content/uploads/2025/08/mens-4-e1755287285514.jpg
END:VEVENT
BEGIN:VEVENT
DTSTART;TZID=America/New_York:20261215T063000
DTEND;TZID=America/New_York:20261215T080000
DTSTAMP:20260423T232606
CREATED:20250827T135855Z
LAST-MODIFIED:20250827T140326Z
UID:10005073-1797316200-1797321600@www.mercypres.org
SUMMARY:Men's Study Group (morning)
DESCRIPTION:Join us for a weekly men’s Bible study on Tuesday mornings. \n  \nContact:\nDick Bitzer
URL:https://www.mercypres.org/event-occurrence/mens-study-group-morning/2026-12-15/
LOCATION:Mercy Presbyterian Church\, 1997 Thomas Jefferson Rd\, Forest\, VA\, 24551\, United States
CATEGORIES:Men
ATTACH;FMTTYPE=image/jpeg:https://www.mercypres.org/wp-content/uploads/2025/08/website-event-image.jpg
ORGANIZER;CN="Dick Bitzer":MAILTO:dlbitzer08@gmail.com
END:VEVENT
BEGIN:VEVENT
DTSTART;TZID=America/New_York:20261216T190000
DTEND;TZID=America/New_York:20261216T203000
DTSTAMP:20260423T232606
CREATED:20250827T134554Z
LAST-MODIFIED:20251118T152853Z
UID:10004555-1797447600-1797453000@www.mercypres.org
SUMMARY:Men's Study Group (evening)
DESCRIPTION:We have 2 men’s groups meeting on Wednesday evenings: \n\n2nd and 4th Wed.\, 7pm\nEast Home\nJohn East (john.east@mercypres.org) \n\n1st and 3rd Wed.\, 7pm\nMercy\nScott Robinson (scott.robinson@mercypres.org) \n 
URL:https://www.mercypres.org/event-occurrence/mens-study-group-evening/2026-12-16/
LOCATION:VA
CATEGORIES:Men
ATTACH;FMTTYPE=image/jpeg:https://www.mercypres.org/wp-content/uploads/2025/08/mens-4-e1755287285514.jpg
END:VEVENT
BEGIN:VEVENT
DTSTART;TZID=America/New_York:20261222T063000
DTEND;TZID=America/New_York:20261222T080000
DTSTAMP:20260423T232606
CREATED:20250827T135855Z
LAST-MODIFIED:20250827T140326Z
UID:10005074-1797921000-1797926400@www.mercypres.org
SUMMARY:Men's Study Group (morning)
DESCRIPTION:Join us for a weekly men’s Bible study on Tuesday mornings. \n  \nContact:\nDick Bitzer
URL:https://www.mercypres.org/event-occurrence/mens-study-group-morning/2026-12-22/
LOCATION:Mercy Presbyterian Church\, 1997 Thomas Jefferson Rd\, Forest\, VA\, 24551\, United States
CATEGORIES:Men
ATTACH;FMTTYPE=image/jpeg:https://www.mercypres.org/wp-content/uploads/2025/08/website-event-image.jpg
ORGANIZER;CN="Dick Bitzer":MAILTO:dlbitzer08@gmail.com
END:VEVENT
BEGIN:VEVENT
DTSTART;TZID=America/New_York:20261223T190000
DTEND;TZID=America/New_York:20261223T203000
DTSTAMP:20260423T232606
CREATED:20250827T134554Z
LAST-MODIFIED:20251118T152853Z
UID:10004556-1798052400-1798057800@www.mercypres.org
SUMMARY:Men's Study Group (evening)
DESCRIPTION:We have 2 men’s groups meeting on Wednesday evenings: \n\n2nd and 4th Wed.\, 7pm\nEast Home\nJohn East (john.east@mercypres.org) \n\n1st and 3rd Wed.\, 7pm\nMercy\nScott Robinson (scott.robinson@mercypres.org) \n 
URL:https://www.mercypres.org/event-occurrence/mens-study-group-evening/2026-12-23/
LOCATION:VA
CATEGORIES:Men
ATTACH;FMTTYPE=image/jpeg:https://www.mercypres.org/wp-content/uploads/2025/08/mens-4-e1755287285514.jpg
END:VEVENT
BEGIN:VEVENT
DTSTART;TZID=America/New_York:20261229T063000
DTEND;TZID=America/New_York:20261229T080000
DTSTAMP:20260423T232606
CREATED:20250827T135855Z
LAST-MODIFIED:20250827T140326Z
UID:10005075-1798525800-1798531200@www.mercypres.org
SUMMARY:Men's Study Group (morning)
DESCRIPTION:Join us for a weekly men’s Bible study on Tuesday mornings. \n  \nContact:\nDick Bitzer
URL:https://www.mercypres.org/event-occurrence/mens-study-group-morning/2026-12-29/
LOCATION:Mercy Presbyterian Church\, 1997 Thomas Jefferson Rd\, Forest\, VA\, 24551\, United States
CATEGORIES:Men
ATTACH;FMTTYPE=image/jpeg:https://www.mercypres.org/wp-content/uploads/2025/08/website-event-image.jpg
ORGANIZER;CN="Dick Bitzer":MAILTO:dlbitzer08@gmail.com
END:VEVENT
BEGIN:VEVENT
DTSTART;TZID=America/New_York:20261230T190000
DTEND;TZID=America/New_York:20261230T203000
DTSTAMP:20260423T232606
CREATED:20250827T134554Z
LAST-MODIFIED:20251118T152853Z
UID:10004557-1798657200-1798662600@www.mercypres.org
SUMMARY:Men's Study Group (evening)
DESCRIPTION:We have 2 men’s groups meeting on Wednesday evenings: \n\n2nd and 4th Wed.\, 7pm\nEast Home\nJohn East (john.east@mercypres.org) \n\n1st and 3rd Wed.\, 7pm\nMercy\nScott Robinson (scott.robinson@mercypres.org) \n 
URL:https://www.mercypres.org/event-occurrence/mens-study-group-evening/2026-12-30/
LOCATION:VA
CATEGORIES:Men
ATTACH;FMTTYPE=image/jpeg:https://www.mercypres.org/wp-content/uploads/2025/08/mens-4-e1755287285514.jpg
END:VEVENT
END:VCALENDAR