BEGIN:VCALENDAR
VERSION:2.0
PRODID:-//Mercy Presbyterian Church - ECPv6.15.20//NONSGML v1.0//EN
CALSCALE:GREGORIAN
METHOD:PUBLISH
X-WR-CALNAME:Mercy Presbyterian Church
X-ORIGINAL-URL:https://www.mercypres.org
X-WR-CALDESC:Events for Mercy Presbyterian Church
REFRESH-INTERVAL;VALUE=DURATION:PT1H
X-Robots-Tag:noindex
X-PUBLISHED-TTL:PT1H
BEGIN:VTIMEZONE
TZID:America/New_York
BEGIN:DAYLIGHT
TZOFFSETFROM:-0500
TZOFFSETTO:-0400
TZNAME:EDT
DTSTART:20240310T070000
END:DAYLIGHT
BEGIN:STANDARD
TZOFFSETFROM:-0400
TZOFFSETTO:-0500
TZNAME:EST
DTSTART:20241103T060000
END:STANDARD
BEGIN:DAYLIGHT
TZOFFSETFROM:-0500
TZOFFSETTO:-0400
TZNAME:EDT
DTSTART:20250309T070000
END:DAYLIGHT
BEGIN:STANDARD
TZOFFSETFROM:-0400
TZOFFSETTO:-0500
TZNAME:EST
DTSTART:20251102T060000
END:STANDARD
BEGIN:DAYLIGHT
TZOFFSETFROM:-0500
TZOFFSETTO:-0400
TZNAME:EDT
DTSTART:20260308T070000
END:DAYLIGHT
BEGIN:STANDARD
TZOFFSETFROM:-0400
TZOFFSETTO:-0500
TZNAME:EST
DTSTART:20261101T060000
END:STANDARD
END:VTIMEZONE
BEGIN:VEVENT
DTSTART;VALUE=DATE:20251207
DTEND;VALUE=DATE:20251208
DTSTAMP:20260423T160428
CREATED:20251105T142551Z
LAST-MODIFIED:20251105T142551Z
UID:10005660-1765065600-1765151999@www.mercypres.org
SUMMARY:Fellowship Dinners Signup Deadline
DESCRIPTION:You are invited to enjoy a time of meeting and making friends over dinner during the months of January\, February\, and March. Participants have several options: \n\nSign up as a guest and/or host\nHost one or more month and attend as a guest the other months\n\nGuests will be matched with a host who determines the date and time to meet once/month\, and contacts guests to bring a side dish. \nVisit the table in the lobby on Sunday for more information and to sign up (or sign up online anytime at this link) by December 7. \n  \nQuestions? See contact info below.
URL:https://www.mercypres.org/event-occurrence/fellowship-dinners-signup-deadline/
LOCATION:VA
CATEGORIES:Misc.
ATTACH;FMTTYPE=image/jpeg:https://www.mercypres.org/wp-content/uploads/2025/11/fellowship-dinners.jpg
END:VEVENT
BEGIN:VEVENT
DTSTART;TZID=America/New_York:20251224T183000
DTEND;TZID=America/New_York:20251224T193000
DTSTAMP:20260423T160428
CREATED:20251008T135558Z
LAST-MODIFIED:20251126T184432Z
UID:10005513-1766601000-1766604600@www.mercypres.org
SUMMARY:Christmas Eve Service
DESCRIPTION:Our annual Lessons and Carols service will be held on Christmas Eve. The Service of Lessons and Carols is a traditional Christmas worship service reminding us that throughout Scripture there is one story\, with one major theme\, that centers on one character\, Jesus the Christ.
URL:https://www.mercypres.org/event-occurrence/christmas-eve-service/
LOCATION:Mercy Presbyterian Church\, 1997 Thomas Jefferson Rd\, Forest\, VA\, 24551\, United States
CATEGORIES:Misc.
ATTACH;FMTTYPE=image/jpeg:https://www.mercypres.org/wp-content/uploads/2025/11/1.jpg
END:VEVENT
END:VCALENDAR