BEGIN:VCALENDAR
VERSION:2.0
PRODID:-//Mercy Presbyterian Church - ECPv6.15.20//NONSGML v1.0//EN
CALSCALE:GREGORIAN
METHOD:PUBLISH
X-WR-CALNAME:Mercy Presbyterian Church
X-ORIGINAL-URL:https://www.mercypres.org
X-WR-CALDESC:Events for Mercy Presbyterian Church
REFRESH-INTERVAL;VALUE=DURATION:PT1H
X-Robots-Tag:noindex
X-PUBLISHED-TTL:PT1H
BEGIN:VTIMEZONE
TZID:America/New_York
BEGIN:DAYLIGHT
TZOFFSETFROM:-0500
TZOFFSETTO:-0400
TZNAME:EDT
DTSTART:20260308T070000
END:DAYLIGHT
BEGIN:STANDARD
TZOFFSETFROM:-0400
TZOFFSETTO:-0500
TZNAME:EST
DTSTART:20261101T060000
END:STANDARD
BEGIN:DAYLIGHT
TZOFFSETFROM:-0500
TZOFFSETTO:-0400
TZNAME:EDT
DTSTART:20270314T070000
END:DAYLIGHT
BEGIN:STANDARD
TZOFFSETFROM:-0400
TZOFFSETTO:-0500
TZNAME:EST
DTSTART:20271107T060000
END:STANDARD
BEGIN:DAYLIGHT
TZOFFSETFROM:-0500
TZOFFSETTO:-0400
TZNAME:EDT
DTSTART:20280312T070000
END:DAYLIGHT
BEGIN:STANDARD
TZOFFSETFROM:-0400
TZOFFSETTO:-0500
TZNAME:EST
DTSTART:20281105T060000
END:STANDARD
END:VTIMEZONE
BEGIN:VTIMEZONE
TZID:UTC
BEGIN:STANDARD
TZOFFSETFROM:+0000
TZOFFSETTO:+0000
TZNAME:UTC
DTSTART:20260101T000000
END:STANDARD
END:VTIMEZONE
BEGIN:VEVENT
DTSTART;TZID=America/New_York:20270701T070000
DTEND;TZID=America/New_York:20270701T080000
DTSTAMP:20260424T133155
CREATED:20250815T202120Z
LAST-MODIFIED:20260305T192035Z
UID:10004329-1814425200-1814428800@www.mercypres.org
SUMMARY:Prayer Meeting
DESCRIPTION:Everyone is invited to our weekly prayer gathering. During our time together\, we open with a time of Adoration and Confession\, followed by prayers of Thanksgiving and Supplication\, using the Mercy prayer needs list as a guide. No one is ever required to pray aloud\, so feel free to simply come and pray quietly with us if you prefer.
URL:https://www.mercypres.org/event-occurrence/prayer-meeting/2027-07-01/
LOCATION:Mercy Presbyterian Church\, 1997 Thomas Jefferson Rd\, Forest\, VA\, 24551\, United States
CATEGORIES:Prayer
ATTACH;FMTTYPE=image/jpeg:https://www.mercypres.org/wp-content/uploads/2025/08/website-event-image-1.jpg
ORGANIZER;CN="Karen Woodall":MAILTO:kwoodall23@juno.com
END:VEVENT
BEGIN:VEVENT
DTSTART;TZID=America/New_York:20270708T070000
DTEND;TZID=America/New_York:20270708T080000
DTSTAMP:20260424T133155
CREATED:20250815T202120Z
LAST-MODIFIED:20260305T192035Z
UID:10004330-1815030000-1815033600@www.mercypres.org
SUMMARY:Prayer Meeting
DESCRIPTION:Everyone is invited to our weekly prayer gathering. During our time together\, we open with a time of Adoration and Confession\, followed by prayers of Thanksgiving and Supplication\, using the Mercy prayer needs list as a guide. No one is ever required to pray aloud\, so feel free to simply come and pray quietly with us if you prefer.
URL:https://www.mercypres.org/event-occurrence/prayer-meeting/2027-07-08/
LOCATION:Mercy Presbyterian Church\, 1997 Thomas Jefferson Rd\, Forest\, VA\, 24551\, United States
CATEGORIES:Prayer
ATTACH;FMTTYPE=image/jpeg:https://www.mercypres.org/wp-content/uploads/2025/08/website-event-image-1.jpg
ORGANIZER;CN="Karen Woodall":MAILTO:kwoodall23@juno.com
END:VEVENT
BEGIN:VEVENT
DTSTART;TZID=America/New_York:20270715T070000
DTEND;TZID=America/New_York:20270715T080000
DTSTAMP:20260424T133155
CREATED:20250815T202120Z
LAST-MODIFIED:20260305T192035Z
UID:10004331-1815634800-1815638400@www.mercypres.org
SUMMARY:Prayer Meeting
DESCRIPTION:Everyone is invited to our weekly prayer gathering. During our time together\, we open with a time of Adoration and Confession\, followed by prayers of Thanksgiving and Supplication\, using the Mercy prayer needs list as a guide. No one is ever required to pray aloud\, so feel free to simply come and pray quietly with us if you prefer.
URL:https://www.mercypres.org/event-occurrence/prayer-meeting/2027-07-15/
LOCATION:Mercy Presbyterian Church\, 1997 Thomas Jefferson Rd\, Forest\, VA\, 24551\, United States
CATEGORIES:Prayer
ATTACH;FMTTYPE=image/jpeg:https://www.mercypres.org/wp-content/uploads/2025/08/website-event-image-1.jpg
ORGANIZER;CN="Karen Woodall":MAILTO:kwoodall23@juno.com
END:VEVENT
BEGIN:VEVENT
DTSTART;TZID=UTC:20270718T100000
DTEND;TZID=UTC:20270718T103000
DTSTAMP:20260424T133155
CREATED:20250911T175338Z
LAST-MODIFIED:20251001T153742Z
UID:10005471-1815904800-1815906600@www.mercypres.org
SUMMARY:Special Needs Prayer
DESCRIPTION:Any and all are welcome to join us in the counseling office as we pray together and lift up those in our congregation touched by disability.
URL:https://www.mercypres.org/event-occurrence/special-needs-prayer-2/2027-07-18/
LOCATION:Mercy Presbyterian Church\, 1997 Thomas Jefferson Rd\, Forest\, VA\, 24551\, United States
CATEGORIES:Prayer
ATTACH;FMTTYPE=image/webp:https://www.mercypres.org/wp-content/uploads/2025/07/prayer-e1753835337595.webp
ORGANIZER;CN="Meagan Johnston":MAILTO:mLwhee2@gmail.com
END:VEVENT
BEGIN:VEVENT
DTSTART;TZID=America/New_York:20270722T070000
DTEND;TZID=America/New_York:20270722T080000
DTSTAMP:20260424T133155
CREATED:20250815T202120Z
LAST-MODIFIED:20260305T192035Z
UID:10004332-1816239600-1816243200@www.mercypres.org
SUMMARY:Prayer Meeting
DESCRIPTION:Everyone is invited to our weekly prayer gathering. During our time together\, we open with a time of Adoration and Confession\, followed by prayers of Thanksgiving and Supplication\, using the Mercy prayer needs list as a guide. No one is ever required to pray aloud\, so feel free to simply come and pray quietly with us if you prefer.
URL:https://www.mercypres.org/event-occurrence/prayer-meeting/2027-07-22/
LOCATION:Mercy Presbyterian Church\, 1997 Thomas Jefferson Rd\, Forest\, VA\, 24551\, United States
CATEGORIES:Prayer
ATTACH;FMTTYPE=image/jpeg:https://www.mercypres.org/wp-content/uploads/2025/08/website-event-image-1.jpg
ORGANIZER;CN="Karen Woodall":MAILTO:kwoodall23@juno.com
END:VEVENT
BEGIN:VEVENT
DTSTART;TZID=America/New_York:20270729T070000
DTEND;TZID=America/New_York:20270729T080000
DTSTAMP:20260424T133155
CREATED:20250815T202120Z
LAST-MODIFIED:20260305T192035Z
UID:10004333-1816844400-1816848000@www.mercypres.org
SUMMARY:Prayer Meeting
DESCRIPTION:Everyone is invited to our weekly prayer gathering. During our time together\, we open with a time of Adoration and Confession\, followed by prayers of Thanksgiving and Supplication\, using the Mercy prayer needs list as a guide. No one is ever required to pray aloud\, so feel free to simply come and pray quietly with us if you prefer.
URL:https://www.mercypres.org/event-occurrence/prayer-meeting/2027-07-29/
LOCATION:Mercy Presbyterian Church\, 1997 Thomas Jefferson Rd\, Forest\, VA\, 24551\, United States
CATEGORIES:Prayer
ATTACH;FMTTYPE=image/jpeg:https://www.mercypres.org/wp-content/uploads/2025/08/website-event-image-1.jpg
ORGANIZER;CN="Karen Woodall":MAILTO:kwoodall23@juno.com
END:VEVENT
END:VCALENDAR