BEGIN:VCALENDAR
VERSION:2.0
PRODID:-//Mercy Presbyterian Church - ECPv6.15.20//NONSGML v1.0//EN
CALSCALE:GREGORIAN
METHOD:PUBLISH
X-WR-CALNAME:Mercy Presbyterian Church
X-ORIGINAL-URL:https://www.mercypres.org
X-WR-CALDESC:Events for Mercy Presbyterian Church
REFRESH-INTERVAL;VALUE=DURATION:PT1H
X-Robots-Tag:noindex
X-PUBLISHED-TTL:PT1H
BEGIN:VTIMEZONE
TZID:UTC
BEGIN:STANDARD
TZOFFSETFROM:+0000
TZOFFSETTO:+0000
TZNAME:UTC
DTSTART:20250101T000000
END:STANDARD
END:VTIMEZONE
BEGIN:VEVENT
DTSTART;TZID=UTC:20260322T094500
DTEND;TZID=UTC:20260322T104500
DTSTAMP:20260423T162929
CREATED:20260206T021401Z
LAST-MODIFIED:20260211T135645Z
UID:10003575-1774172700-1774176300@www.mercypres.org
SUMMARY:Sunday School
DESCRIPTION:For more information about Sunday School for the whole family\, see MercyPres.org/Sunday-School.
URL:https://www.mercypres.org/event-occurrence/ss-2/2026-03-22/
LOCATION:Mercy Presbyterian Church\, 1997 Thomas Jefferson Rd\, Forest\, VA\, 24551\, United States
CATEGORIES:Sunday School
ATTACH;FMTTYPE=image/jpeg:https://www.mercypres.org/wp-content/uploads/2026/02/Sunday-School.jpg
ORGANIZER;CN="Kate Rigg":MAILTO:katelyn.rigg@gmail.com
END:VEVENT
END:VCALENDAR