BEGIN:VCALENDAR
VERSION:2.0
PRODID:-//Mercy Presbyterian Church - ECPv6.15.20//NONSGML v1.0//EN
CALSCALE:GREGORIAN
METHOD:PUBLISH
X-ORIGINAL-URL:https://www.mercypres.org
X-WR-CALDESC:Events for Mercy Presbyterian Church
REFRESH-INTERVAL;VALUE=DURATION:PT1H
X-Robots-Tag:noindex
X-PUBLISHED-TTL:PT1H
BEGIN:VTIMEZONE
TZID:America/New_York
BEGIN:DAYLIGHT
TZOFFSETFROM:-0500
TZOFFSETTO:-0400
TZNAME:EDT
DTSTART:20250309T070000
END:DAYLIGHT
BEGIN:STANDARD
TZOFFSETFROM:-0400
TZOFFSETTO:-0500
TZNAME:EST
DTSTART:20251102T060000
END:STANDARD
BEGIN:DAYLIGHT
TZOFFSETFROM:-0500
TZOFFSETTO:-0400
TZNAME:EDT
DTSTART:20260308T070000
END:DAYLIGHT
BEGIN:STANDARD
TZOFFSETFROM:-0400
TZOFFSETTO:-0500
TZNAME:EST
DTSTART:20261101T060000
END:STANDARD
BEGIN:DAYLIGHT
TZOFFSETFROM:-0500
TZOFFSETTO:-0400
TZNAME:EDT
DTSTART:20270314T070000
END:DAYLIGHT
BEGIN:STANDARD
TZOFFSETFROM:-0400
TZOFFSETTO:-0500
TZNAME:EST
DTSTART:20271107T060000
END:STANDARD
END:VTIMEZONE
BEGIN:VEVENT
DTSTART;TZID=America/New_York:20261101T081500
DTEND;TZID=America/New_York:20261101T094500
DTSTAMP:20260424T011615
CREATED:20250730T133232Z
LAST-MODIFIED:20250806T142520Z
UID:10003065-1793520900-1793526300@www.mercypres.org
SUMMARY:Worship (1st Service)
DESCRIPTION:Join us each Sunday for worship at 8:15am.
URL:https://www.mercypres.org/event-occurrence/worship-1st-service-copy/2026-11-01/
LOCATION:Mercy Presbyterian Church\, 1997 Thomas Jefferson Rd\, Forest\, VA\, 24551\, United States
CATEGORIES:Sunday Worship
ATTACH;FMTTYPE=image/jpeg:https://www.mercypres.org/wp-content/uploads/2025/07/worship-e1753882275602.jpg
END:VEVENT
BEGIN:VEVENT
DTSTART;TZID=America/New_York:20261101T110000
DTEND;TZID=America/New_York:20261101T123000
DTSTAMP:20260424T011615
CREATED:20250730T133214Z
LAST-MODIFIED:20250806T142258Z
UID:10002742-1793530800-1793536200@www.mercypres.org
SUMMARY:Worship (2nd Service)
DESCRIPTION:Join us each Sunday for worship at 11:00am.
URL:https://www.mercypres.org/event-occurrence/worship-1st-service/2026-11-01/
LOCATION:Mercy Presbyterian Church\, 1997 Thomas Jefferson Rd\, Forest\, VA\, 24551\, United States
CATEGORIES:Sunday Worship
ATTACH;FMTTYPE=image/jpeg:https://www.mercypres.org/wp-content/uploads/2025/07/worship-e1753882275602.jpg
END:VEVENT
BEGIN:VEVENT
DTSTART;TZID=America/New_York:20261108T081500
DTEND;TZID=America/New_York:20261108T094500
DTSTAMP:20260424T011615
CREATED:20250730T133232Z
LAST-MODIFIED:20250806T142520Z
UID:10003066-1794125700-1794131100@www.mercypres.org
SUMMARY:Worship (1st Service)
DESCRIPTION:Join us each Sunday for worship at 8:15am.
URL:https://www.mercypres.org/event-occurrence/worship-1st-service-copy/2026-11-08/
LOCATION:Mercy Presbyterian Church\, 1997 Thomas Jefferson Rd\, Forest\, VA\, 24551\, United States
CATEGORIES:Sunday Worship
ATTACH;FMTTYPE=image/jpeg:https://www.mercypres.org/wp-content/uploads/2025/07/worship-e1753882275602.jpg
END:VEVENT
BEGIN:VEVENT
DTSTART;TZID=America/New_York:20261108T110000
DTEND;TZID=America/New_York:20261108T123000
DTSTAMP:20260424T011615
CREATED:20250730T133214Z
LAST-MODIFIED:20250806T142258Z
UID:10002743-1794135600-1794141000@www.mercypres.org
SUMMARY:Worship (2nd Service)
DESCRIPTION:Join us each Sunday for worship at 11:00am.
URL:https://www.mercypres.org/event-occurrence/worship-1st-service/2026-11-08/
LOCATION:Mercy Presbyterian Church\, 1997 Thomas Jefferson Rd\, Forest\, VA\, 24551\, United States
CATEGORIES:Sunday Worship
ATTACH;FMTTYPE=image/jpeg:https://www.mercypres.org/wp-content/uploads/2025/07/worship-e1753882275602.jpg
END:VEVENT
BEGIN:VEVENT
DTSTART;TZID=America/New_York:20261115T081500
DTEND;TZID=America/New_York:20261115T094500
DTSTAMP:20260424T011615
CREATED:20250730T133232Z
LAST-MODIFIED:20250806T142520Z
UID:10003067-1794730500-1794735900@www.mercypres.org
SUMMARY:Worship (1st Service)
DESCRIPTION:Join us each Sunday for worship at 8:15am.
URL:https://www.mercypres.org/event-occurrence/worship-1st-service-copy/2026-11-15/
LOCATION:Mercy Presbyterian Church\, 1997 Thomas Jefferson Rd\, Forest\, VA\, 24551\, United States
CATEGORIES:Sunday Worship
ATTACH;FMTTYPE=image/jpeg:https://www.mercypres.org/wp-content/uploads/2025/07/worship-e1753882275602.jpg
END:VEVENT
BEGIN:VEVENT
DTSTART;TZID=America/New_York:20261115T110000
DTEND;TZID=America/New_York:20261115T123000
DTSTAMP:20260424T011615
CREATED:20250730T133214Z
LAST-MODIFIED:20250806T142258Z
UID:10002744-1794740400-1794745800@www.mercypres.org
SUMMARY:Worship (2nd Service)
DESCRIPTION:Join us each Sunday for worship at 11:00am.
URL:https://www.mercypres.org/event-occurrence/worship-1st-service/2026-11-15/
LOCATION:Mercy Presbyterian Church\, 1997 Thomas Jefferson Rd\, Forest\, VA\, 24551\, United States
CATEGORIES:Sunday Worship
ATTACH;FMTTYPE=image/jpeg:https://www.mercypres.org/wp-content/uploads/2025/07/worship-e1753882275602.jpg
END:VEVENT
BEGIN:VEVENT
DTSTART;TZID=America/New_York:20261122T081500
DTEND;TZID=America/New_York:20261122T094500
DTSTAMP:20260424T011615
CREATED:20250730T133232Z
LAST-MODIFIED:20250806T142520Z
UID:10003068-1795335300-1795340700@www.mercypres.org
SUMMARY:Worship (1st Service)
DESCRIPTION:Join us each Sunday for worship at 8:15am.
URL:https://www.mercypres.org/event-occurrence/worship-1st-service-copy/2026-11-22/
LOCATION:Mercy Presbyterian Church\, 1997 Thomas Jefferson Rd\, Forest\, VA\, 24551\, United States
CATEGORIES:Sunday Worship
ATTACH;FMTTYPE=image/jpeg:https://www.mercypres.org/wp-content/uploads/2025/07/worship-e1753882275602.jpg
END:VEVENT
BEGIN:VEVENT
DTSTART;TZID=America/New_York:20261122T110000
DTEND;TZID=America/New_York:20261122T123000
DTSTAMP:20260424T011615
CREATED:20250730T133214Z
LAST-MODIFIED:20250806T142258Z
UID:10002745-1795345200-1795350600@www.mercypres.org
SUMMARY:Worship (2nd Service)
DESCRIPTION:Join us each Sunday for worship at 11:00am.
URL:https://www.mercypres.org/event-occurrence/worship-1st-service/2026-11-22/
LOCATION:Mercy Presbyterian Church\, 1997 Thomas Jefferson Rd\, Forest\, VA\, 24551\, United States
CATEGORIES:Sunday Worship
ATTACH;FMTTYPE=image/jpeg:https://www.mercypres.org/wp-content/uploads/2025/07/worship-e1753882275602.jpg
END:VEVENT
BEGIN:VEVENT
DTSTART;TZID=America/New_York:20261129T081500
DTEND;TZID=America/New_York:20261129T094500
DTSTAMP:20260424T011615
CREATED:20250730T133232Z
LAST-MODIFIED:20250806T142520Z
UID:10003069-1795940100-1795945500@www.mercypres.org
SUMMARY:Worship (1st Service)
DESCRIPTION:Join us each Sunday for worship at 8:15am.
URL:https://www.mercypres.org/event-occurrence/worship-1st-service-copy/2026-11-29/
LOCATION:Mercy Presbyterian Church\, 1997 Thomas Jefferson Rd\, Forest\, VA\, 24551\, United States
CATEGORIES:Sunday Worship
ATTACH;FMTTYPE=image/jpeg:https://www.mercypres.org/wp-content/uploads/2025/07/worship-e1753882275602.jpg
END:VEVENT
BEGIN:VEVENT
DTSTART;TZID=America/New_York:20261129T110000
DTEND;TZID=America/New_York:20261129T123000
DTSTAMP:20260424T011615
CREATED:20250730T133214Z
LAST-MODIFIED:20250806T142258Z
UID:10002746-1795950000-1795955400@www.mercypres.org
SUMMARY:Worship (2nd Service)
DESCRIPTION:Join us each Sunday for worship at 11:00am.
URL:https://www.mercypres.org/event-occurrence/worship-1st-service/2026-11-29/
LOCATION:Mercy Presbyterian Church\, 1997 Thomas Jefferson Rd\, Forest\, VA\, 24551\, United States
CATEGORIES:Sunday Worship
ATTACH;FMTTYPE=image/jpeg:https://www.mercypres.org/wp-content/uploads/2025/07/worship-e1753882275602.jpg
END:VEVENT
END:VCALENDAR