BEGIN:VCALENDAR
VERSION:2.0
PRODID:-//Mercy Presbyterian Church - ECPv6.15.20//NONSGML v1.0//EN
CALSCALE:GREGORIAN
METHOD:PUBLISH
X-ORIGINAL-URL:https://www.mercypres.org
X-WR-CALDESC:Events for Mercy Presbyterian Church
REFRESH-INTERVAL;VALUE=DURATION:PT1H
X-Robots-Tag:noindex
X-PUBLISHED-TTL:PT1H
BEGIN:VTIMEZONE
TZID:America/New_York
BEGIN:DAYLIGHT
TZOFFSETFROM:-0500
TZOFFSETTO:-0400
TZNAME:EDT
DTSTART:20240310T070000
END:DAYLIGHT
BEGIN:STANDARD
TZOFFSETFROM:-0400
TZOFFSETTO:-0500
TZNAME:EST
DTSTART:20241103T060000
END:STANDARD
BEGIN:DAYLIGHT
TZOFFSETFROM:-0500
TZOFFSETTO:-0400
TZNAME:EDT
DTSTART:20250309T070000
END:DAYLIGHT
BEGIN:STANDARD
TZOFFSETFROM:-0400
TZOFFSETTO:-0500
TZNAME:EST
DTSTART:20251102T060000
END:STANDARD
BEGIN:DAYLIGHT
TZOFFSETFROM:-0500
TZOFFSETTO:-0400
TZNAME:EDT
DTSTART:20260308T070000
END:DAYLIGHT
BEGIN:STANDARD
TZOFFSETFROM:-0400
TZOFFSETTO:-0500
TZNAME:EST
DTSTART:20261101T060000
END:STANDARD
END:VTIMEZONE
BEGIN:VEVENT
DTSTART;TZID=America/New_York:20251103T190000
DTEND;TZID=America/New_York:20251103T203000
DTSTAMP:20260423T201413
CREATED:20250811T144738Z
LAST-MODIFIED:20250811T163600Z
UID:10004135-1762196400-1762201800@www.mercypres.org
SUMMARY:Women's Bible Study (virtual)
DESCRIPTION:Our Women’s Bible Studies this fall will study the book of Deuteronomy with W. Robert Godfrey’s Discovering Deuteronomy video teaching series and study guide. \nClick here to register for a women’s Bible study. \nGroups will meet for 10-11 weeks at the following times & locations: \n\nMonday evenings\, 7 – 8:30 pm\, virtual\n  Begins Sept. 15\nPOC: Kimberly Hall\nMonday evenings\, 7 – 8:30 pm\, in-person at Erica Fox’s home (Bedford)\nBegins Sept. 8\nPOC: Erica Fox\nWednesday evenings\, 6:30-8:15 pm\, in-person at Mercy\nBegins Sept. 10\nPOC: Melanie Merkle\nThursday mornings\, 9:30-11:30 am\, in-person at Mercy\nBegins Sept. 11\n  Childcare provided\n  POC: Marti Long\n\nThe study guide can be purchased online from various retailers like Ligonier and Amazon.
URL:https://www.mercypres.org/event-occurrence/womens-bible-study-virtual/2025-11-03/
LOCATION:Virtual
CATEGORIES:Women
ATTACH;FMTTYPE=image/png:https://www.mercypres.org/wp-content/uploads/2025/01/Community-1-e1753147098578.png
ORGANIZER;CN="Kimberly Hall":MAILTO:sml.kimberly@icloud.com
END:VEVENT
BEGIN:VEVENT
DTSTART;TZID=America/New_York:20251103T190000
DTEND;TZID=America/New_York:20251103T203000
DTSTAMP:20260423T201413
CREATED:20250811T145233Z
LAST-MODIFIED:20250811T163456Z
UID:10004146-1762196400-1762201800@www.mercypres.org
SUMMARY:Women's Bible Study (Bedford)
DESCRIPTION:Our Women’s Bible Studies this fall will study the book of Deuteronomy with W. Robert Godfrey’s Discovering Deuteronomy video teaching series and study guide. \nClick here to register for a women’s Bible study. \nGroups will meet for 10-11 weeks at the following times & locations: \n\nMonday evenings\, 7 – 8:30 pm\, virtual\n  Begins Sept. 15\nPOC: Kimberly Hall\nMonday evenings\, 7 – 8:30 pm\, in-person at Erica Fox’s home (Bedford)\nBegins Sept. 8\nPOC: Erica Fox\nWednesday evenings\, 6:30-8:15 pm\, in-person at Mercy\nBegins Sept. 10\nPOC: Melanie Merkle\nThursday mornings\, 9:30-11:30 am\, in-person at Mercy\nBegins Sept. 11\n  Childcare provided\n  POC: Marti Long\n\nThe study guide can be purchased online from various retailers like Ligonier and Amazon.virginiirva
URL:https://www.mercypres.org/event-occurrence/womens-bible-study-bedford/2025-11-03/
LOCATION:Bedford\, Bedford\, VA\, United States
CATEGORIES:Women
ATTACH;FMTTYPE=image/jpeg:https://www.mercypres.org/wp-content/uploads/2025/08/bedford-e1754923935364.jpg
ORGANIZER;CN="Erica Fox":MAILTO:ericamfox28@gmail.com
END:VEVENT
BEGIN:VEVENT
DTSTART;TZID=America/New_York:20251105T183000
DTEND;TZID=America/New_York:20251105T201500
DTSTAMP:20260423T201413
CREATED:20250811T145521Z
LAST-MODIFIED:20251014T165214Z
UID:10004199-1762367400-1762373700@www.mercypres.org
SUMMARY:Women's Bible Study (evening)
DESCRIPTION:Our Women’s Bible Studies this fall will study the book of Deuteronomy with W. Robert Godfrey’s Discovering Deuteronomy video teaching series and study guide. \nClick here to register for a women’s Bible study. \nGroups will meet for 10-11 weeks at the following times & locations: \n\nMonday evenings\, 7 – 8:30 pm\, virtual\nBegins Sept. 15\nContact: Kimberly Hall\nMonday evenings\, 7 – 8:30 pm\, in-person at Erica Fox’s home (Bedford)\nBegins Sept. 8\nContact: Erica Fox\nWednesday evenings\, 6:30-8:15 pm\, in-person at Mercy\nBegins Sept. 10\nContact: Melanie Merkle\nThursday mornings\, 9:30-11:30 am\, in-person at Mercy\nBegins Sept. 11\nChildcare provided\nContact: Marti Long\n\nThe study guide can be purchased online from various retailers like Ligonier and Amazon.
URL:https://www.mercypres.org/event-occurrence/womens-bible-study/2025-11-05/
LOCATION:Mercy Presbyterian Church\, 1997 Thomas Jefferson Rd\, Forest\, VA\, 24551\, United States
CATEGORIES:Women
ATTACH;FMTTYPE=image/png:https://www.mercypres.org/wp-content/uploads/2025/01/Community-e1754930328627.png
ORGANIZER;CN="Melanie Merkle":MAILTO:mvmerkle@gmail.com
END:VEVENT
BEGIN:VEVENT
DTSTART;TZID=America/New_York:20251106T093000
DTEND;TZID=America/New_York:20251106T111500
DTSTAMP:20260423T201413
CREATED:20250811T171555Z
LAST-MODIFIED:20250811T174002Z
UID:10004190-1762421400-1762427700@www.mercypres.org
SUMMARY:Women's Bible Study (morning)
DESCRIPTION:Our Women’s Bible Studies this fall will study the book of Deuteronomy with W. Robert Godfrey’s Discovering Deuteronomy video teaching series and study guide. \nClick here to register for a women’s Bible study. \nGroups will meet for 10-11 weeks at the following times & locations: \n\nMonday evenings\, 7 – 8:30 pm\, virtual\nBegins Sept. 15\nPOC: Kimberly Hall\nMonday evenings\, 7 – 8:30 pm\, in-person at Erica Fox’s home (Bedford)\nBegins Sept. 8\nPOC: Erica Fox\nWednesday evenings\, 6:30-8:15 pm\, in-person at Mercy\nBegins Sept. 10\nPOC: Melanie Merkle\nThursday mornings\, 9:30-11:30 am\, in-person at Mercy\nBegins Sept. 11\nChildcare provided\nPOC: Marti Long\n\nThe study guide can be purchased online from various retailers like Ligonier and Amazon.
URL:https://www.mercypres.org/event-occurrence/womens-bible-study-2/2025-11-06/
LOCATION:Mercy Presbyterian Church\, 1997 Thomas Jefferson Rd\, Forest\, VA\, 24551\, United States
CATEGORIES:Women
ATTACH;FMTTYPE=image/png:https://www.mercypres.org/wp-content/uploads/2025/01/Community-2-e1753146821577.png
ORGANIZER;CN="Marti Long":MAILTO:snmhlong@yahoo.com
END:VEVENT
BEGIN:VEVENT
DTSTART;TZID=America/New_York:20251110T190000
DTEND;TZID=America/New_York:20251110T203000
DTSTAMP:20260423T201413
CREATED:20250811T144738Z
LAST-MODIFIED:20250811T163600Z
UID:10004136-1762801200-1762806600@www.mercypres.org
SUMMARY:Women's Bible Study (virtual)
DESCRIPTION:Our Women’s Bible Studies this fall will study the book of Deuteronomy with W. Robert Godfrey’s Discovering Deuteronomy video teaching series and study guide. \nClick here to register for a women’s Bible study. \nGroups will meet for 10-11 weeks at the following times & locations: \n\nMonday evenings\, 7 – 8:30 pm\, virtual\n  Begins Sept. 15\nPOC: Kimberly Hall\nMonday evenings\, 7 – 8:30 pm\, in-person at Erica Fox’s home (Bedford)\nBegins Sept. 8\nPOC: Erica Fox\nWednesday evenings\, 6:30-8:15 pm\, in-person at Mercy\nBegins Sept. 10\nPOC: Melanie Merkle\nThursday mornings\, 9:30-11:30 am\, in-person at Mercy\nBegins Sept. 11\n  Childcare provided\n  POC: Marti Long\n\nThe study guide can be purchased online from various retailers like Ligonier and Amazon.
URL:https://www.mercypres.org/event-occurrence/womens-bible-study-virtual/2025-11-10/
LOCATION:Virtual
CATEGORIES:Women
ATTACH;FMTTYPE=image/png:https://www.mercypres.org/wp-content/uploads/2025/01/Community-1-e1753147098578.png
ORGANIZER;CN="Kimberly Hall":MAILTO:sml.kimberly@icloud.com
END:VEVENT
BEGIN:VEVENT
DTSTART;TZID=America/New_York:20251110T190000
DTEND;TZID=America/New_York:20251110T203000
DTSTAMP:20260423T201413
CREATED:20250811T145233Z
LAST-MODIFIED:20250811T163456Z
UID:10004147-1762801200-1762806600@www.mercypres.org
SUMMARY:Women's Bible Study (Bedford)
DESCRIPTION:Our Women’s Bible Studies this fall will study the book of Deuteronomy with W. Robert Godfrey’s Discovering Deuteronomy video teaching series and study guide. \nClick here to register for a women’s Bible study. \nGroups will meet for 10-11 weeks at the following times & locations: \n\nMonday evenings\, 7 – 8:30 pm\, virtual\n  Begins Sept. 15\nPOC: Kimberly Hall\nMonday evenings\, 7 – 8:30 pm\, in-person at Erica Fox’s home (Bedford)\nBegins Sept. 8\nPOC: Erica Fox\nWednesday evenings\, 6:30-8:15 pm\, in-person at Mercy\nBegins Sept. 10\nPOC: Melanie Merkle\nThursday mornings\, 9:30-11:30 am\, in-person at Mercy\nBegins Sept. 11\n  Childcare provided\n  POC: Marti Long\n\nThe study guide can be purchased online from various retailers like Ligonier and Amazon.virginiirva
URL:https://www.mercypres.org/event-occurrence/womens-bible-study-bedford/2025-11-10/
LOCATION:Bedford\, Bedford\, VA\, United States
CATEGORIES:Women
ATTACH;FMTTYPE=image/jpeg:https://www.mercypres.org/wp-content/uploads/2025/08/bedford-e1754923935364.jpg
ORGANIZER;CN="Erica Fox":MAILTO:ericamfox28@gmail.com
END:VEVENT
BEGIN:VEVENT
DTSTART;TZID=America/New_York:20251112T183000
DTEND;TZID=America/New_York:20251112T201500
DTSTAMP:20260423T201413
CREATED:20250811T145521Z
LAST-MODIFIED:20251014T165214Z
UID:10004200-1762972200-1762978500@www.mercypres.org
SUMMARY:Women's Bible Study (evening)
DESCRIPTION:Our Women’s Bible Studies this fall will study the book of Deuteronomy with W. Robert Godfrey’s Discovering Deuteronomy video teaching series and study guide. \nClick here to register for a women’s Bible study. \nGroups will meet for 10-11 weeks at the following times & locations: \n\nMonday evenings\, 7 – 8:30 pm\, virtual\nBegins Sept. 15\nContact: Kimberly Hall\nMonday evenings\, 7 – 8:30 pm\, in-person at Erica Fox’s home (Bedford)\nBegins Sept. 8\nContact: Erica Fox\nWednesday evenings\, 6:30-8:15 pm\, in-person at Mercy\nBegins Sept. 10\nContact: Melanie Merkle\nThursday mornings\, 9:30-11:30 am\, in-person at Mercy\nBegins Sept. 11\nChildcare provided\nContact: Marti Long\n\nThe study guide can be purchased online from various retailers like Ligonier and Amazon.
URL:https://www.mercypres.org/event-occurrence/womens-bible-study/2025-11-12/
LOCATION:Mercy Presbyterian Church\, 1997 Thomas Jefferson Rd\, Forest\, VA\, 24551\, United States
CATEGORIES:Women
ATTACH;FMTTYPE=image/png:https://www.mercypres.org/wp-content/uploads/2025/01/Community-e1754930328627.png
ORGANIZER;CN="Melanie Merkle":MAILTO:mvmerkle@gmail.com
END:VEVENT
BEGIN:VEVENT
DTSTART;TZID=America/New_York:20251113T093000
DTEND;TZID=America/New_York:20251113T111500
DTSTAMP:20260423T201413
CREATED:20250811T171555Z
LAST-MODIFIED:20250811T174002Z
UID:10004191-1763026200-1763032500@www.mercypres.org
SUMMARY:Women's Bible Study (morning)
DESCRIPTION:Our Women’s Bible Studies this fall will study the book of Deuteronomy with W. Robert Godfrey’s Discovering Deuteronomy video teaching series and study guide. \nClick here to register for a women’s Bible study. \nGroups will meet for 10-11 weeks at the following times & locations: \n\nMonday evenings\, 7 – 8:30 pm\, virtual\nBegins Sept. 15\nPOC: Kimberly Hall\nMonday evenings\, 7 – 8:30 pm\, in-person at Erica Fox’s home (Bedford)\nBegins Sept. 8\nPOC: Erica Fox\nWednesday evenings\, 6:30-8:15 pm\, in-person at Mercy\nBegins Sept. 10\nPOC: Melanie Merkle\nThursday mornings\, 9:30-11:30 am\, in-person at Mercy\nBegins Sept. 11\nChildcare provided\nPOC: Marti Long\n\nThe study guide can be purchased online from various retailers like Ligonier and Amazon.
URL:https://www.mercypres.org/event-occurrence/womens-bible-study-2/2025-11-13/
LOCATION:Mercy Presbyterian Church\, 1997 Thomas Jefferson Rd\, Forest\, VA\, 24551\, United States
CATEGORIES:Women
ATTACH;FMTTYPE=image/png:https://www.mercypres.org/wp-content/uploads/2025/01/Community-2-e1753146821577.png
ORGANIZER;CN="Marti Long":MAILTO:snmhlong@yahoo.com
END:VEVENT
BEGIN:VEVENT
DTSTART;TZID=America/New_York:20251117T190000
DTEND;TZID=America/New_York:20251117T203000
DTSTAMP:20260423T201413
CREATED:20250811T144738Z
LAST-MODIFIED:20250811T163600Z
UID:10004137-1763406000-1763411400@www.mercypres.org
SUMMARY:Women's Bible Study (virtual)
DESCRIPTION:Our Women’s Bible Studies this fall will study the book of Deuteronomy with W. Robert Godfrey’s Discovering Deuteronomy video teaching series and study guide. \nClick here to register for a women’s Bible study. \nGroups will meet for 10-11 weeks at the following times & locations: \n\nMonday evenings\, 7 – 8:30 pm\, virtual\n  Begins Sept. 15\nPOC: Kimberly Hall\nMonday evenings\, 7 – 8:30 pm\, in-person at Erica Fox’s home (Bedford)\nBegins Sept. 8\nPOC: Erica Fox\nWednesday evenings\, 6:30-8:15 pm\, in-person at Mercy\nBegins Sept. 10\nPOC: Melanie Merkle\nThursday mornings\, 9:30-11:30 am\, in-person at Mercy\nBegins Sept. 11\n  Childcare provided\n  POC: Marti Long\n\nThe study guide can be purchased online from various retailers like Ligonier and Amazon.
URL:https://www.mercypres.org/event-occurrence/womens-bible-study-virtual/2025-11-17/
LOCATION:Virtual
CATEGORIES:Women
ATTACH;FMTTYPE=image/png:https://www.mercypres.org/wp-content/uploads/2025/01/Community-1-e1753147098578.png
ORGANIZER;CN="Kimberly Hall":MAILTO:sml.kimberly@icloud.com
END:VEVENT
BEGIN:VEVENT
DTSTART;TZID=America/New_York:20251117T190000
DTEND;TZID=America/New_York:20251117T203000
DTSTAMP:20260423T201413
CREATED:20250811T145233Z
LAST-MODIFIED:20250811T163456Z
UID:10004148-1763406000-1763411400@www.mercypres.org
SUMMARY:Women's Bible Study (Bedford)
DESCRIPTION:Our Women’s Bible Studies this fall will study the book of Deuteronomy with W. Robert Godfrey’s Discovering Deuteronomy video teaching series and study guide. \nClick here to register for a women’s Bible study. \nGroups will meet for 10-11 weeks at the following times & locations: \n\nMonday evenings\, 7 – 8:30 pm\, virtual\n  Begins Sept. 15\nPOC: Kimberly Hall\nMonday evenings\, 7 – 8:30 pm\, in-person at Erica Fox’s home (Bedford)\nBegins Sept. 8\nPOC: Erica Fox\nWednesday evenings\, 6:30-8:15 pm\, in-person at Mercy\nBegins Sept. 10\nPOC: Melanie Merkle\nThursday mornings\, 9:30-11:30 am\, in-person at Mercy\nBegins Sept. 11\n  Childcare provided\n  POC: Marti Long\n\nThe study guide can be purchased online from various retailers like Ligonier and Amazon.virginiirva
URL:https://www.mercypres.org/event-occurrence/womens-bible-study-bedford/2025-11-17/
LOCATION:Bedford\, Bedford\, VA\, United States
CATEGORIES:Women
ATTACH;FMTTYPE=image/jpeg:https://www.mercypres.org/wp-content/uploads/2025/08/bedford-e1754923935364.jpg
ORGANIZER;CN="Erica Fox":MAILTO:ericamfox28@gmail.com
END:VEVENT
BEGIN:VEVENT
DTSTART;TZID=America/New_York:20251119T183000
DTEND;TZID=America/New_York:20251119T201500
DTSTAMP:20260423T201413
CREATED:20250811T145521Z
LAST-MODIFIED:20251014T165214Z
UID:10004201-1763577000-1763583300@www.mercypres.org
SUMMARY:Women's Bible Study (evening)
DESCRIPTION:Our Women’s Bible Studies this fall will study the book of Deuteronomy with W. Robert Godfrey’s Discovering Deuteronomy video teaching series and study guide. \nClick here to register for a women’s Bible study. \nGroups will meet for 10-11 weeks at the following times & locations: \n\nMonday evenings\, 7 – 8:30 pm\, virtual\nBegins Sept. 15\nContact: Kimberly Hall\nMonday evenings\, 7 – 8:30 pm\, in-person at Erica Fox’s home (Bedford)\nBegins Sept. 8\nContact: Erica Fox\nWednesday evenings\, 6:30-8:15 pm\, in-person at Mercy\nBegins Sept. 10\nContact: Melanie Merkle\nThursday mornings\, 9:30-11:30 am\, in-person at Mercy\nBegins Sept. 11\nChildcare provided\nContact: Marti Long\n\nThe study guide can be purchased online from various retailers like Ligonier and Amazon.
URL:https://www.mercypres.org/event-occurrence/womens-bible-study/2025-11-19/
LOCATION:Mercy Presbyterian Church\, 1997 Thomas Jefferson Rd\, Forest\, VA\, 24551\, United States
CATEGORIES:Women
ATTACH;FMTTYPE=image/png:https://www.mercypres.org/wp-content/uploads/2025/01/Community-e1754930328627.png
ORGANIZER;CN="Melanie Merkle":MAILTO:mvmerkle@gmail.com
END:VEVENT
END:VCALENDAR