BEGIN:VCALENDAR
VERSION:2.0
PRODID:-//Mercy Presbyterian Church - ECPv6.15.18//NONSGML v1.0//EN
CALSCALE:GREGORIAN
METHOD:PUBLISH
X-ORIGINAL-URL:https://www.mercypres.org
X-WR-CALDESC:Events for Mercy Presbyterian Church
REFRESH-INTERVAL;VALUE=DURATION:PT1H
X-Robots-Tag:noindex
X-PUBLISHED-TTL:PT1H
BEGIN:VTIMEZONE
TZID:America/New_York
BEGIN:DAYLIGHT
TZOFFSETFROM:-0500
TZOFFSETTO:-0400
TZNAME:EDT
DTSTART:20250309T070000
END:DAYLIGHT
BEGIN:STANDARD
TZOFFSETFROM:-0400
TZOFFSETTO:-0500
TZNAME:EST
DTSTART:20251102T060000
END:STANDARD
BEGIN:DAYLIGHT
TZOFFSETFROM:-0500
TZOFFSETTO:-0400
TZNAME:EDT
DTSTART:20260308T070000
END:DAYLIGHT
BEGIN:STANDARD
TZOFFSETFROM:-0400
TZOFFSETTO:-0500
TZNAME:EST
DTSTART:20261101T060000
END:STANDARD
BEGIN:DAYLIGHT
TZOFFSETFROM:-0500
TZOFFSETTO:-0400
TZNAME:EDT
DTSTART:20270314T070000
END:DAYLIGHT
BEGIN:STANDARD
TZOFFSETFROM:-0400
TZOFFSETTO:-0500
TZNAME:EST
DTSTART:20271107T060000
END:STANDARD
END:VTIMEZONE
BEGIN:VTIMEZONE
TZID:UTC
BEGIN:STANDARD
TZOFFSETFROM:+0000
TZOFFSETTO:+0000
TZNAME:UTC
DTSTART:20250101T000000
END:STANDARD
END:VTIMEZONE
BEGIN:VEVENT
DTSTART;TZID=America/New_York:20260506T093000
DTEND;TZID=America/New_York:20260506T110000
DTSTAMP:20260423T124854
CREATED:20260408T183655Z
LAST-MODIFIED:20260408T183655Z
UID:10005861-1778059800-1778065200@www.mercypres.org
SUMMARY:Moms of Littles Meetup
DESCRIPTION:Moms of Littles\, please join us for a casual hang out at Waymaker Church’s playground (1650 Hooper Rd\, Forest). This will be a time for kiddos to play together and moms to enjoy some fellowship.
URL:https://www.mercypres.org/event-occurrence/moms-of-littles-meetup-copy-2/
LOCATION:Mercy Presbyterian Church\, 1997 Thomas Jefferson Rd\, Forest\, VA\, 24551\, United States
CATEGORIES:Women
ATTACH;FMTTYPE=image/jpeg:https://www.mercypres.org/wp-content/uploads/2026/01/moms-meetup.jpg
ORGANIZER;CN="Hannah Shelley":MAILTO:Hannahshelley2023@gmail.com
END:VEVENT
BEGIN:VEVENT
DTSTART;TZID=UTC:20260509T140000
DTEND;TZID=UTC:20260509T160000
DTSTAMP:20260423T124854
CREATED:20260102T184931Z
LAST-MODIFIED:20260413T173626Z
UID:10005813-1778335200-1778342400@www.mercypres.org
SUMMARY:Women's Tea Party
DESCRIPTION:Come to Mercy’s annual Women’s Tea Party! The tea party will be at our church building on Saturday\, May 9\, at 2 pm. Women and girls of all ages are welcome! We will be having a fancy tea party and enjoying some delicious treats. \nPlease sign up so we know how many to expect! We also need people to sign up to sponsor the decor and china for a table and/or to bring a tea treat to share. We look forward to seeing you there!
URL:https://www.mercypres.org/event-occurrence/womens-tea-party/
LOCATION:Mercy Presbyterian Church\, 1997 Thomas Jefferson Rd\, Forest\, VA\, 24551\, United States
CATEGORIES:Women
ATTACH;FMTTYPE=image/jpeg:https://www.mercypres.org/wp-content/uploads/2026/01/webemail-event-image-1.jpg
ORGANIZER;CN="Macy Pantana":MAILTO:macypantana@gmail.com
END:VEVENT
BEGIN:VEVENT
DTSTART;TZID=America/New_York:20260512T173000
DTEND;TZID=America/New_York:20260512T203000
DTSTAMP:20260423T124854
CREATED:20260304T141436Z
LAST-MODIFIED:20260422T163325Z
UID:10005880-1778607000-1778617800@www.mercypres.org
SUMMARY:Women's Salad & Sourdough
DESCRIPTION:Salad and Sourdough: Tuesday\, May 12\, 5:30-8:30 pm\, at the Moss Home.  \nNewbies and seasoned bakers are welcome to join us on our sourdough journey. An RSVP to  Dona Moss (view in directory) would be much appreciated\, as would contributions to the evening meal (a salad or sourdough creation).
URL:https://www.mercypres.org/event-occurrence/womens-soup-sourdough-may/
LOCATION:VA
CATEGORIES:Women
ATTACH;FMTTYPE=image/jpeg:https://www.mercypres.org/wp-content/uploads/2026/01/sourdough.jpg
ORGANIZER;CN="Dona Moss":MAILTO:donacmoss@gmail.com
END:VEVENT
BEGIN:VEVENT
DTSTART;TZID=America/New_York:20260520T093000
DTEND;TZID=America/New_York:20260520T110000
DTSTAMP:20260423T124854
CREATED:20260220T011928Z
LAST-MODIFIED:20260220T011928Z
UID:10005862-1779269400-1779274800@www.mercypres.org
SUMMARY:Park Fellowship
DESCRIPTION:Women of Mercy\, you’re invited to our weekly fellowship time at the park behind the Forest Library. We will be casually meeting up every Wednesday morning through the summer to walk on the trails around the park and to spend time fellowshipping at the playground and pavilion.\nPark Fellowship is a summertime gathering and will meet weekly through early-August. All are welcome!
URL:https://www.mercypres.org/event-occurrence/park-fellowship/2026-05-20/
LOCATION:Mercy Presbyterian Church\, 1997 Thomas Jefferson Rd\, Forest\, VA\, 24551\, United States
CATEGORIES:Women
ATTACH;FMTTYPE=image/png:https://www.mercypres.org/wp-content/uploads/2026/02/park-fellowship.png
ORGANIZER;CN="Jessi Pearson":MAILTO:jessipearson13@gmail.com
END:VEVENT
END:VCALENDAR