BEGIN:VCALENDAR
VERSION:2.0
PRODID:-//Mercy Presbyterian Church - ECPv6.15.20//NONSGML v1.0//EN
CALSCALE:GREGORIAN
METHOD:PUBLISH
X-ORIGINAL-URL:https://www.mercypres.org
X-WR-CALDESC:Events for Mercy Presbyterian Church
REFRESH-INTERVAL;VALUE=DURATION:PT1H
X-Robots-Tag:noindex
X-PUBLISHED-TTL:PT1H
BEGIN:VTIMEZONE
TZID:America/New_York
BEGIN:DAYLIGHT
TZOFFSETFROM:-0500
TZOFFSETTO:-0400
TZNAME:EDT
DTSTART:20250309T070000
END:DAYLIGHT
BEGIN:STANDARD
TZOFFSETFROM:-0400
TZOFFSETTO:-0500
TZNAME:EST
DTSTART:20251102T060000
END:STANDARD
BEGIN:DAYLIGHT
TZOFFSETFROM:-0500
TZOFFSETTO:-0400
TZNAME:EDT
DTSTART:20260308T070000
END:DAYLIGHT
BEGIN:STANDARD
TZOFFSETFROM:-0400
TZOFFSETTO:-0500
TZNAME:EST
DTSTART:20261101T060000
END:STANDARD
BEGIN:DAYLIGHT
TZOFFSETFROM:-0500
TZOFFSETTO:-0400
TZNAME:EDT
DTSTART:20270314T070000
END:DAYLIGHT
BEGIN:STANDARD
TZOFFSETFROM:-0400
TZOFFSETTO:-0500
TZNAME:EST
DTSTART:20271107T060000
END:STANDARD
END:VTIMEZONE
BEGIN:VEVENT
DTSTART;TZID=America/New_York:20260617T093000
DTEND;TZID=America/New_York:20260617T110000
DTSTAMP:20260423T181635
CREATED:20260220T011928Z
LAST-MODIFIED:20260220T011928Z
UID:10005866-1781688600-1781694000@www.mercypres.org
SUMMARY:Park Fellowship
DESCRIPTION:Women of Mercy\, you’re invited to our weekly fellowship time at the park behind the Forest Library. We will be casually meeting up every Wednesday morning through the summer to walk on the trails around the park and to spend time fellowshipping at the playground and pavilion.\nPark Fellowship is a summertime gathering and will meet weekly through early-August. All are welcome!
URL:https://www.mercypres.org/event-occurrence/park-fellowship/2026-06-17/
LOCATION:Mercy Presbyterian Church\, 1997 Thomas Jefferson Rd\, Forest\, VA\, 24551\, United States
CATEGORIES:Women
ATTACH;FMTTYPE=image/png:https://www.mercypres.org/wp-content/uploads/2026/02/park-fellowship.png
ORGANIZER;CN="Jessi Pearson":MAILTO:jessipearson13@gmail.com
END:VEVENT
END:VCALENDAR