BEGIN:VCALENDAR
VERSION:2.0
PRODID:-//Mercy Presbyterian Church - ECPv6.15.20//NONSGML v1.0//EN
CALSCALE:GREGORIAN
METHOD:PUBLISH
X-ORIGINAL-URL:https://www.mercypres.org
X-WR-CALDESC:Events for Mercy Presbyterian Church
REFRESH-INTERVAL;VALUE=DURATION:PT1H
X-Robots-Tag:noindex
X-PUBLISHED-TTL:PT1H
BEGIN:VTIMEZONE
TZID:America/New_York
BEGIN:DAYLIGHT
TZOFFSETFROM:-0500
TZOFFSETTO:-0400
TZNAME:EDT
DTSTART:20240310T070000
END:DAYLIGHT
BEGIN:STANDARD
TZOFFSETFROM:-0400
TZOFFSETTO:-0500
TZNAME:EST
DTSTART:20241103T060000
END:STANDARD
BEGIN:DAYLIGHT
TZOFFSETFROM:-0500
TZOFFSETTO:-0400
TZNAME:EDT
DTSTART:20250309T070000
END:DAYLIGHT
BEGIN:STANDARD
TZOFFSETFROM:-0400
TZOFFSETTO:-0500
TZNAME:EST
DTSTART:20251102T060000
END:STANDARD
BEGIN:DAYLIGHT
TZOFFSETFROM:-0500
TZOFFSETTO:-0400
TZNAME:EDT
DTSTART:20260308T070000
END:DAYLIGHT
BEGIN:STANDARD
TZOFFSETFROM:-0400
TZOFFSETTO:-0500
TZNAME:EST
DTSTART:20261101T060000
END:STANDARD
END:VTIMEZONE
BEGIN:VTIMEZONE
TZID:UTC
BEGIN:STANDARD
TZOFFSETFROM:+0000
TZOFFSETTO:+0000
TZNAME:UTC
DTSTART:20240101T000000
END:STANDARD
END:VTIMEZONE
BEGIN:VEVENT
DTSTART;TZID=America/New_York:20250813T183000
DTEND;TZID=America/New_York:20250813T201500
DTSTAMP:20260424T085246
CREATED:20250731T190802Z
LAST-MODIFIED:20250806T143215Z
UID:10003831-1755109800-1755116100@www.mercypres.org
SUMMARY:Youth Group Kickoff; Welcome Rising 6th Graders!
DESCRIPTION:Our student ministry exists to gather young people from the Forest area and to disciple them to bear the image of Christ. Youth Group meets most Wednesday nights at 6:30pm in the Youth Room. \nRising 6th graders are invited to join the youth group on August 13!
URL:https://www.mercypres.org/event-occurrence/youth-group-fall-kickoff-welcome-new-6th-graders/
LOCATION:Mercy Presbyterian Church\, 1997 Thomas Jefferson Rd\, Forest\, VA\, 24551\, United States
CATEGORIES:Youth
ATTACH;FMTTYPE=image/jpeg:https://www.mercypres.org/wp-content/uploads/2025/07/kickoff-e1753989101733.jpg
ORGANIZER;CN="Jeremiah Sheets":MAILTO:jeremiah.sheets@mercypres.org
END:VEVENT
BEGIN:VEVENT
DTSTART;TZID=UTC:20250820T183000
DTEND;TZID=UTC:20250820T201500
DTSTAMP:20260424T085246
CREATED:20250130T012917Z
LAST-MODIFIED:20250926T000446Z
UID:10003289-1755714600-1755720900@www.mercypres.org
SUMMARY:Youth Group
DESCRIPTION:Our student ministry exists to gather young people from the Forest area and to disciple them to bear the image of Christ. Youth Group meets most Wednesday nights at 6:30pm in the Youth Room.
URL:https://www.mercypres.org/event-occurrence/youth-group/2025-08-20/
LOCATION:Mercy Presbyterian Church\, 1997 Thomas Jefferson Rd\, Forest\, VA\, 24551\, United States
CATEGORIES:Youth
ATTACH;FMTTYPE=image/png:https://www.mercypres.org/wp-content/uploads/2025/01/Youth-e1753905588668.png
ORGANIZER;CN="Jeremiah Sheets":MAILTO:jeremiah.sheets@mercypres.org
END:VEVENT
BEGIN:VEVENT
DTSTART;TZID=America/New_York:20250824T130000
DTEND;TZID=America/New_York:20250824T200000
DTSTAMP:20260424T085246
CREATED:20250731T190459Z
LAST-MODIFIED:20250731T191349Z
UID:10003830-1756040400-1756065600@www.mercypres.org
SUMMARY:Youth Lake Day
DESCRIPTION:Youth Lake Day at the Hall’s house. Leave from the church after 2nd service. Contact Jeremiah Sheets for more info.
URL:https://www.mercypres.org/event-occurrence/youth-lake-day/
LOCATION:VA
CATEGORIES:Youth
ATTACH;FMTTYPE=image/jpeg:https://www.mercypres.org/wp-content/uploads/2025/07/Lake-Day-e1753988679495.jpg
ORGANIZER;CN="Jeremiah Sheets":MAILTO:jeremiah.sheets@mercypres.org
END:VEVENT
BEGIN:VEVENT
DTSTART;TZID=UTC:20250827T183000
DTEND;TZID=UTC:20250827T201500
DTSTAMP:20260424T085246
CREATED:20250130T012917Z
LAST-MODIFIED:20250926T000446Z
UID:10003290-1756319400-1756325700@www.mercypres.org
SUMMARY:Youth Group
DESCRIPTION:Our student ministry exists to gather young people from the Forest area and to disciple them to bear the image of Christ. Youth Group meets most Wednesday nights at 6:30pm in the Youth Room.
URL:https://www.mercypres.org/event-occurrence/youth-group/2025-08-27/
LOCATION:Mercy Presbyterian Church\, 1997 Thomas Jefferson Rd\, Forest\, VA\, 24551\, United States
CATEGORIES:Youth
ATTACH;FMTTYPE=image/png:https://www.mercypres.org/wp-content/uploads/2025/01/Youth-e1753905588668.png
ORGANIZER;CN="Jeremiah Sheets":MAILTO:jeremiah.sheets@mercypres.org
END:VEVENT
END:VCALENDAR