BEGIN:VCALENDAR
VERSION:2.0
PRODID:-//Mercy Presbyterian Church - ECPv6.15.20//NONSGML v1.0//EN
CALSCALE:GREGORIAN
METHOD:PUBLISH
X-WR-CALNAME:Mercy Presbyterian Church
X-ORIGINAL-URL:https://www.mercypres.org
X-WR-CALDESC:Events for Mercy Presbyterian Church
REFRESH-INTERVAL;VALUE=DURATION:PT1H
X-Robots-Tag:noindex
X-PUBLISHED-TTL:PT1H
BEGIN:VTIMEZONE
TZID:UTC
BEGIN:STANDARD
TZOFFSETFROM:+0000
TZOFFSETTO:+0000
TZNAME:UTC
DTSTART:20240101T000000
END:STANDARD
END:VTIMEZONE
BEGIN:VTIMEZONE
TZID:America/New_York
BEGIN:DAYLIGHT
TZOFFSETFROM:-0500
TZOFFSETTO:-0400
TZNAME:EDT
DTSTART:20240310T070000
END:DAYLIGHT
BEGIN:STANDARD
TZOFFSETFROM:-0400
TZOFFSETTO:-0500
TZNAME:EST
DTSTART:20241103T060000
END:STANDARD
BEGIN:DAYLIGHT
TZOFFSETFROM:-0500
TZOFFSETTO:-0400
TZNAME:EDT
DTSTART:20250309T070000
END:DAYLIGHT
BEGIN:STANDARD
TZOFFSETFROM:-0400
TZOFFSETTO:-0500
TZNAME:EST
DTSTART:20251102T060000
END:STANDARD
BEGIN:DAYLIGHT
TZOFFSETFROM:-0500
TZOFFSETTO:-0400
TZNAME:EDT
DTSTART:20260308T070000
END:DAYLIGHT
BEGIN:STANDARD
TZOFFSETFROM:-0400
TZOFFSETTO:-0500
TZNAME:EST
DTSTART:20261101T060000
END:STANDARD
END:VTIMEZONE
BEGIN:VEVENT
DTSTART;TZID=UTC:20251001T183000
DTEND;TZID=UTC:20251001T201500
DTSTAMP:20260423T224306
CREATED:20250130T012917Z
LAST-MODIFIED:20250926T000446Z
UID:10003295-1759343400-1759349700@www.mercypres.org
SUMMARY:Youth Group
DESCRIPTION:Our student ministry exists to gather young people from the Forest area and to disciple them to bear the image of Christ. Youth Group meets most Wednesday nights at 6:30pm in the Youth Room.
URL:https://www.mercypres.org/event-occurrence/youth-group/2025-10-01/
LOCATION:Mercy Presbyterian Church\, 1997 Thomas Jefferson Rd\, Forest\, VA\, 24551\, United States
CATEGORIES:Youth
ATTACH;FMTTYPE=image/png:https://www.mercypres.org/wp-content/uploads/2025/01/Youth-e1753905588668.png
ORGANIZER;CN="Jeremiah Sheets":MAILTO:jeremiah.sheets@mercypres.org
END:VEVENT
BEGIN:VEVENT
DTSTART;TZID=UTC:20251008T183000
DTEND;TZID=UTC:20251008T201500
DTSTAMP:20260423T224306
CREATED:20250130T012917Z
LAST-MODIFIED:20250926T000446Z
UID:10003296-1759948200-1759954500@www.mercypres.org
SUMMARY:Youth Group
DESCRIPTION:Our student ministry exists to gather young people from the Forest area and to disciple them to bear the image of Christ. Youth Group meets most Wednesday nights at 6:30pm in the Youth Room.
URL:https://www.mercypres.org/event-occurrence/youth-group/2025-10-08/
LOCATION:Mercy Presbyterian Church\, 1997 Thomas Jefferson Rd\, Forest\, VA\, 24551\, United States
CATEGORIES:Youth
ATTACH;FMTTYPE=image/png:https://www.mercypres.org/wp-content/uploads/2025/01/Youth-e1753905588668.png
ORGANIZER;CN="Jeremiah Sheets":MAILTO:jeremiah.sheets@mercypres.org
END:VEVENT
BEGIN:VEVENT
DTSTART;TZID=UTC:20251015T183000
DTEND;TZID=UTC:20251015T201500
DTSTAMP:20260423T224306
CREATED:20250130T012917Z
LAST-MODIFIED:20250926T000446Z
UID:10003297-1760553000-1760559300@www.mercypres.org
SUMMARY:Youth Group
DESCRIPTION:Our student ministry exists to gather young people from the Forest area and to disciple them to bear the image of Christ. Youth Group meets most Wednesday nights at 6:30pm in the Youth Room.
URL:https://www.mercypres.org/event-occurrence/youth-group/2025-10-15/
LOCATION:Mercy Presbyterian Church\, 1997 Thomas Jefferson Rd\, Forest\, VA\, 24551\, United States
CATEGORIES:Youth
ATTACH;FMTTYPE=image/png:https://www.mercypres.org/wp-content/uploads/2025/01/Youth-e1753905588668.png
ORGANIZER;CN="Jeremiah Sheets":MAILTO:jeremiah.sheets@mercypres.org
END:VEVENT
BEGIN:VEVENT
DTSTART;TZID=UTC:20251022T183000
DTEND;TZID=UTC:20251022T201500
DTSTAMP:20260423T224306
CREATED:20250130T012917Z
LAST-MODIFIED:20250926T000446Z
UID:10003298-1761157800-1761164100@www.mercypres.org
SUMMARY:Youth Group
DESCRIPTION:Our student ministry exists to gather young people from the Forest area and to disciple them to bear the image of Christ. Youth Group meets most Wednesday nights at 6:30pm in the Youth Room.
URL:https://www.mercypres.org/event-occurrence/youth-group/2025-10-22/
LOCATION:Mercy Presbyterian Church\, 1997 Thomas Jefferson Rd\, Forest\, VA\, 24551\, United States
CATEGORIES:Youth
ATTACH;FMTTYPE=image/png:https://www.mercypres.org/wp-content/uploads/2025/01/Youth-e1753905588668.png
ORGANIZER;CN="Jeremiah Sheets":MAILTO:jeremiah.sheets@mercypres.org
END:VEVENT
BEGIN:VEVENT
DTSTART;TZID=America/New_York:20251029T183000
DTEND;TZID=America/New_York:20251029T201500
DTSTAMP:20260423T224306
CREATED:20250925T235650Z
LAST-MODIFIED:20250925T235809Z
UID:10005440-1761762600-1761768900@www.mercypres.org
SUMMARY:Youth Fall Costume Party
DESCRIPTION:
URL:https://www.mercypres.org/event-occurrence/youth-fall-costume-party/
LOCATION:Mercy Presbyterian Church\, 1997 Thomas Jefferson Rd\, Forest\, VA\, 24551\, United States
CATEGORIES:Youth
ATTACH;FMTTYPE=image/jpeg:https://www.mercypres.org/wp-content/uploads/2025/09/youth_costume-party-e1758844531719.jpg
ORGANIZER;CN="Jeremiah Sheets":MAILTO:jeremiah.sheets@mercypres.org
END:VEVENT
END:VCALENDAR