BEGIN:VCALENDAR
VERSION:2.0
PRODID:-//Mercy Presbyterian Church - ECPv6.15.18//NONSGML v1.0//EN
CALSCALE:GREGORIAN
METHOD:PUBLISH
X-WR-CALNAME:Mercy Presbyterian Church
X-ORIGINAL-URL:https://www.mercypres.org
X-WR-CALDESC:Events for Mercy Presbyterian Church
REFRESH-INTERVAL;VALUE=DURATION:PT1H
X-Robots-Tag:noindex
X-PUBLISHED-TTL:PT1H
BEGIN:VTIMEZONE
TZID:America/New_York
BEGIN:DAYLIGHT
TZOFFSETFROM:-0500
TZOFFSETTO:-0400
TZNAME:EDT
DTSTART:20250309T070000
END:DAYLIGHT
BEGIN:STANDARD
TZOFFSETFROM:-0400
TZOFFSETTO:-0500
TZNAME:EST
DTSTART:20251102T060000
END:STANDARD
BEGIN:DAYLIGHT
TZOFFSETFROM:-0500
TZOFFSETTO:-0400
TZNAME:EDT
DTSTART:20260308T070000
END:DAYLIGHT
BEGIN:STANDARD
TZOFFSETFROM:-0400
TZOFFSETTO:-0500
TZNAME:EST
DTSTART:20261101T060000
END:STANDARD
BEGIN:DAYLIGHT
TZOFFSETFROM:-0500
TZOFFSETTO:-0400
TZNAME:EDT
DTSTART:20270314T070000
END:DAYLIGHT
BEGIN:STANDARD
TZOFFSETFROM:-0400
TZOFFSETTO:-0500
TZNAME:EST
DTSTART:20271107T060000
END:STANDARD
END:VTIMEZONE
BEGIN:VTIMEZONE
TZID:UTC
BEGIN:STANDARD
TZOFFSETFROM:+0000
TZOFFSETTO:+0000
TZNAME:UTC
DTSTART:20250101T000000
END:STANDARD
END:VTIMEZONE
BEGIN:VEVENT
DTSTART;TZID=America/New_York:20260201T081500
DTEND;TZID=America/New_York:20260201T094500
DTSTAMP:20260423T124420
CREATED:20250730T133232Z
LAST-MODIFIED:20250806T142520Z
UID:10003026-1769933700-1769939100@www.mercypres.org
SUMMARY:Worship (1st Service)
DESCRIPTION:Join us each Sunday for worship at 8:15am.
URL:https://www.mercypres.org/event-occurrence/worship-1st-service-copy/2026-02-01/
LOCATION:Mercy Presbyterian Church\, 1997 Thomas Jefferson Rd\, Forest\, VA\, 24551\, United States
CATEGORIES:Sunday Worship
ATTACH;FMTTYPE=image/jpeg:https://www.mercypres.org/wp-content/uploads/2025/07/worship-e1753882275602.jpg
END:VEVENT
BEGIN:VEVENT
DTSTART;TZID=America/New_York:20260201T094500
DTEND;TZID=America/New_York:20260201T104500
DTSTAMP:20260423T124420
CREATED:20250815T191624Z
LAST-MODIFIED:20260126T160500Z
UID:10004233-1769939100-1769942700@www.mercypres.org
SUMMARY:Congregational Meeting
DESCRIPTION:Join us for an annual congregational meeting\, where Mercy’s elders and deacons will be providing updates on various matters (financial\, facility\, leadership\, staffing\, etc.).
URL:https://www.mercypres.org/event-occurrence/congregational-meeting/
LOCATION:Mercy Presbyterian Church\, 1997 Thomas Jefferson Rd\, Forest\, VA\, 24551\, United States
CATEGORIES:Churchwide Events
ATTACH;FMTTYPE=image/jpeg:https://www.mercypres.org/wp-content/uploads/2025/08/meeting2-e1755285723327.jpg
END:VEVENT
BEGIN:VEVENT
DTSTART;TZID=America/New_York:20260201T110000
DTEND;TZID=America/New_York:20260201T123000
DTSTAMP:20260423T124420
CREATED:20250730T133214Z
LAST-MODIFIED:20250806T142258Z
UID:10002703-1769943600-1769949000@www.mercypres.org
SUMMARY:Worship (2nd Service)
DESCRIPTION:Join us each Sunday for worship at 11:00am.
URL:https://www.mercypres.org/event-occurrence/worship-1st-service/2026-02-01/
LOCATION:Mercy Presbyterian Church\, 1997 Thomas Jefferson Rd\, Forest\, VA\, 24551\, United States
CATEGORIES:Sunday Worship
ATTACH;FMTTYPE=image/jpeg:https://www.mercypres.org/wp-content/uploads/2025/07/worship-e1753882275602.jpg
END:VEVENT
BEGIN:VEVENT
DTSTART;TZID=America/New_York:20260201T130000
DTEND;TZID=America/New_York:20260201T143000
DTSTAMP:20260423T124420
CREATED:20250731T185000Z
LAST-MODIFIED:20251029T155438Z
UID:10003814-1769950800-1769956200@www.mercypres.org
SUMMARY:College Lunch
DESCRIPTION:You’re invited to a college student fellowship lunch on the first Sunday of each month from Sept.-May. \nWhen: Following the 2nd service\nWhere: Church Lobby\nWho: College aged students\, friends\, any family as well!
URL:https://www.mercypres.org/event-occurrence/college-lunch/2026-02-01/
LOCATION:Mercy Presbyterian Church\, 1997 Thomas Jefferson Rd\, Forest\, VA\, 24551\, United States
CATEGORIES:College
ATTACH;FMTTYPE=image/jpeg:https://www.mercypres.org/wp-content/uploads/2025/07/college-lunch_-e1753987783157.jpg
ORGANIZER;CN="Scott & Marti Long":MAILTO:snmhlong@yahoo.com
END:VEVENT
BEGIN:VEVENT
DTSTART;TZID=America/New_York:20260202T190000
DTEND;TZID=America/New_York:20260202T203000
DTSTAMP:20260423T124420
CREATED:20251211T150439Z
LAST-MODIFIED:20251211T150439Z
UID:10005725-1770058800-1770064200@www.mercypres.org
SUMMARY:Women's Bible Study (Bedford)
DESCRIPTION:Our Women’s Bible Studies are studying the book of Deuteronomy with W. Robert Godfrey’s Discovering Deuteronomy video teaching series and study guide. \nClick here to register for a women’s Bible study. \nGroups will meet for 10-11 weeks at the following times & locations: \n\nMonday evenings\, 7 – 8:30 pm\, virtual\nPOC: Kimberly Hall\nMonday evenings\, 7 – 8:30 pm\, in-person at Erica Fox’s home (Bedford)\nPOC: Erica Fox\nWednesday evenings\, 6:30-8:15 pm\, in-person at Mercy\nPOC: Melanie Merkle\nThursday mornings\, 9:30-11:30 am\, in-person at Mercy\n  Childcare provided\n  POC: Marti Long\n\nThe study guide can be purchased online from various retailers like Ligonier and Amazon.
URL:https://www.mercypres.org/event-occurrence/womens-bible-study-bedford-2/2026-02-02/
LOCATION:Bedford\, Bedford\, VA\, United States
CATEGORIES:Women
ATTACH;FMTTYPE=image/jpeg:https://www.mercypres.org/wp-content/uploads/2025/08/bedford-e1754923935364.jpg
ORGANIZER;CN="Erica Fox":MAILTO:ericamfox28@gmail.com
END:VEVENT
BEGIN:VEVENT
DTSTART;TZID=America/New_York:20260202T190000
DTEND;TZID=America/New_York:20260202T203000
DTSTAMP:20260423T124420
CREATED:20251211T150615Z
LAST-MODIFIED:20251211T150615Z
UID:10005749-1770058800-1770064200@www.mercypres.org
SUMMARY:Women's Bible Study (virtual)
DESCRIPTION:Our Women’s Bible Studies are studying the book of Deuteronomy with W. Robert Godfrey’s Discovering Deuteronomy video teaching series and study guide. \nClick here to register for a women’s Bible study. \nGroups will meet for 10-11 weeks at the following times & locations: \n\nMonday evenings\, 7 – 8:30 pm\, virtual\nPOC: Kimberly Hall\nMonday evenings\, 7 – 8:30 pm\, in-person at Erica Fox’s home (Bedford)\nPOC: Erica Fox\nWednesday evenings\, 6:30-8:15 pm\, in-person at Mercy\nPOC: Melanie Merkle\nThursday mornings\, 9:30-11:30 am\, in-person at Mercy\n  Childcare provided\n  POC: Marti Long\n\nThe study guide can be purchased online from various retailers like Ligonier and Amazon.
URL:https://www.mercypres.org/event-occurrence/womens-bible-study-virtual-2/2026-02-02/
LOCATION:Virtual
CATEGORIES:Women
ATTACH;FMTTYPE=image/png:https://www.mercypres.org/wp-content/uploads/2025/01/Community-1-e1753147098578.png
ORGANIZER;CN="Kimberly Hall":MAILTO:sml.kimberly@icloud.com
END:VEVENT
BEGIN:VEVENT
DTSTART;TZID=America/New_York:20260203T063000
DTEND;TZID=America/New_York:20260203T080000
DTSTAMP:20260423T124420
CREATED:20250827T135855Z
LAST-MODIFIED:20250827T140326Z
UID:10005028-1770100200-1770105600@www.mercypres.org
SUMMARY:Men's Study Group (morning)
DESCRIPTION:Join us for a weekly men’s Bible study on Tuesday mornings. \n  \nContact:\nDick Bitzer
URL:https://www.mercypres.org/event-occurrence/mens-study-group-morning/2026-02-03/
LOCATION:Mercy Presbyterian Church\, 1997 Thomas Jefferson Rd\, Forest\, VA\, 24551\, United States
CATEGORIES:Men
ATTACH;FMTTYPE=image/jpeg:https://www.mercypres.org/wp-content/uploads/2025/08/website-event-image.jpg
ORGANIZER;CN="Dick Bitzer":MAILTO:dlbitzer08@gmail.com
END:VEVENT
BEGIN:VEVENT
DTSTART;TZID=America/New_York:20260203T193000
DTEND;TZID=America/New_York:20260203T210000
DTSTAMP:20260423T124420
CREATED:20250812T133949Z
LAST-MODIFIED:20250925T131638Z
UID:10004220-1770147000-1770152400@www.mercypres.org
SUMMARY:Reformed University Fellowship
DESCRIPTION:
URL:https://www.mercypres.org/event-occurrence/reformed-university-fellowship/2026-02-03/
LOCATION:VA
CATEGORIES:College
ATTACH;FMTTYPE=image/jpeg:https://www.mercypres.org/wp-content/uploads/2025/08/LU-e1755005978340.jpg
END:VEVENT
BEGIN:VEVENT
DTSTART;TZID=UTC:20260204T183000
DTEND;TZID=UTC:20260204T201500
DTSTAMP:20260423T124420
CREATED:20250130T012917Z
LAST-MODIFIED:20250926T000446Z
UID:10003313-1770229800-1770236100@www.mercypres.org
SUMMARY:Youth Group
DESCRIPTION:Our student ministry exists to gather young people from the Forest area and to disciple them to bear the image of Christ. Youth Group meets most Wednesday nights at 6:30pm in the Youth Room.
URL:https://www.mercypres.org/event-occurrence/youth-group/2026-02-04/
LOCATION:Mercy Presbyterian Church\, 1997 Thomas Jefferson Rd\, Forest\, VA\, 24551\, United States
CATEGORIES:Youth
ATTACH;FMTTYPE=image/png:https://www.mercypres.org/wp-content/uploads/2025/01/Youth-e1753905588668.png
ORGANIZER;CN="Jeremiah Sheets":MAILTO:jeremiah.sheets@mercypres.org
END:VEVENT
BEGIN:VEVENT
DTSTART;TZID=America/New_York:20260204T183000
DTEND;TZID=America/New_York:20260204T201500
DTSTAMP:20260423T124420
CREATED:20251211T150709Z
LAST-MODIFIED:20251211T150833Z
UID:10005777-1770229800-1770236100@www.mercypres.org
SUMMARY:Women's Bible Study (evening)
DESCRIPTION:Our Women’s Bible Studies are studying the book of Deuteronomy with W. Robert Godfrey’s Discovering Deuteronomy video teaching series and study guide. \nClick here to register for a women’s Bible study. \nGroups will meet for 10-11 weeks at the following times & locations: \n\nMonday evenings\, 7 – 8:30 pm\, virtual\nContact: Kimberly Hall\nMonday evenings\, 7 – 8:30 pm\, in-person at Erica Fox’s home (Bedford)\nContact: Erica Fox\nWednesday evenings\, 6:30-8:15 pm\, in-person at Mercy\nContact: Melanie Merkle\nThursday mornings\, 9:30-11:30 am\, in-person at Mercy\nChildcare provided\nContact: Marti Long\n\nThe study guide can be purchased online from various retailers like Ligonier and Amazon.
URL:https://www.mercypres.org/event-occurrence/womens-bible-study-evening/2026-02-04/
LOCATION:Mercy Presbyterian Church\, 1997 Thomas Jefferson Rd\, Forest\, VA\, 24551\, United States
CATEGORIES:Women
ATTACH;FMTTYPE=image/png:https://www.mercypres.org/wp-content/uploads/2025/01/Community-e1754930328627.png
ORGANIZER;CN="Melanie Merkle":MAILTO:mvmerkle@gmail.com
END:VEVENT
BEGIN:VEVENT
DTSTART;TZID=America/New_York:20260204T190000
DTEND;TZID=America/New_York:20260204T203000
DTSTAMP:20260423T124420
CREATED:20250827T134554Z
LAST-MODIFIED:20251118T152853Z
UID:10004513-1770231600-1770237000@www.mercypres.org
SUMMARY:Men's Study Group (evening)
DESCRIPTION:We have 2 men’s groups meeting on Wednesday evenings: \n\n2nd and 4th Wed.\, 7pm\nEast Home\nJohn East (john.east@mercypres.org) \n\n1st and 3rd Wed.\, 7pm\nMercy\nScott Robinson (scott.robinson@mercypres.org) \n 
URL:https://www.mercypres.org/event-occurrence/mens-study-group-evening/2026-02-04/
LOCATION:VA
CATEGORIES:Men
ATTACH;FMTTYPE=image/jpeg:https://www.mercypres.org/wp-content/uploads/2025/08/mens-4-e1755287285514.jpg
END:VEVENT
BEGIN:VEVENT
DTSTART;TZID=America/New_York:20260205T070000
DTEND;TZID=America/New_York:20260205T080000
DTSTAMP:20260423T124420
CREATED:20250815T202120Z
LAST-MODIFIED:20260305T192035Z
UID:10004256-1770274800-1770278400@www.mercypres.org
SUMMARY:Prayer Meeting
DESCRIPTION:Everyone is invited to our weekly prayer gathering. During our time together\, we open with a time of Adoration and Confession\, followed by prayers of Thanksgiving and Supplication\, using the Mercy prayer needs list as a guide. No one is ever required to pray aloud\, so feel free to simply come and pray quietly with us if you prefer.
URL:https://www.mercypres.org/event-occurrence/prayer-meeting/2026-02-05/
LOCATION:Mercy Presbyterian Church\, 1997 Thomas Jefferson Rd\, Forest\, VA\, 24551\, United States
CATEGORIES:Prayer
ATTACH;FMTTYPE=image/jpeg:https://www.mercypres.org/wp-content/uploads/2025/08/website-event-image-1.jpg
ORGANIZER;CN="Karen Woodall":MAILTO:kwoodall23@juno.com
END:VEVENT
BEGIN:VEVENT
DTSTART;TZID=America/New_York:20260205T093000
DTEND;TZID=America/New_York:20260205T111500
DTSTAMP:20260423T124420
CREATED:20251211T151111Z
LAST-MODIFIED:20251211T151111Z
UID:10005801-1770283800-1770290100@www.mercypres.org
SUMMARY:Women's Bible Study (morning)
DESCRIPTION:Our Women’s Bible Studies are studying the book of Deuteronomy with W. Robert Godfrey’s Discovering Deuteronomy video teaching series and study guide. \nClick here to register for a women’s Bible study. \n  \n\nMonday evenings\, 7 – 8:30 pm\, virtual\nPOC: Kimberly Hall\nMonday evenings\, 7 – 8:30 pm\, in-person at Erica Fox’s home (Bedford)\nPOC: Erica Fox\nWednesday evenings\, 6:30-8:15 pm\, in-person at Mercy\nPOC: Melanie Merkle\nThursday mornings\, 9:30-11:30 am\, in-person at Mercy\nChildcare provided\nPOC: Marti Long\n\nThe study guide can be purchased online from various retailers like Ligonier and Amazon.
URL:https://www.mercypres.org/event-occurrence/womens-bible-study-morning/2026-02-05/
LOCATION:Mercy Presbyterian Church\, 1997 Thomas Jefferson Rd\, Forest\, VA\, 24551\, United States
CATEGORIES:Women
ATTACH;FMTTYPE=image/png:https://www.mercypres.org/wp-content/uploads/2025/01/Community-2-e1753146821577.png
ORGANIZER;CN="Marti Long":MAILTO:snmhlong@yahoo.com
END:VEVENT
BEGIN:VEVENT
DTSTART;VALUE=DATE:20260206
DTEND;VALUE=DATE:20260208
DTSTAMP:20260423T124420
CREATED:20251118T135806Z
LAST-MODIFIED:20251218T181223Z
UID:10005673-1770336000-1770508799@www.mercypres.org
SUMMARY:Men's Retreat
DESCRIPTION:Mercy Men’s Retreat\n\nCome Gather and be Equipped in Christ! \nOur Mercy Men’s Retreat for 2026 will be at Crossroads Conference Center (Lowesville\, VA) from Friday evening (5pm) through Saturday afternoon (4pm). \nThe cost is $50 for a cabin bunk room\, $75 for a semi-private room\, and $100 for a single hotel room. \n\n\nRegister at this link.
URL:https://www.mercypres.org/event-occurrence/mens-retreat/
LOCATION:Crossroads Conference Center\, 2247 Little Piney Rd #6063\, Lowesville\, 22967\, United States
CATEGORIES:Men
ATTACH;FMTTYPE=image/jpeg:https://www.mercypres.org/wp-content/uploads/2025/11/M-Retreat.jpg
ORGANIZER;CN="Nate Fowler":MAILTO:nate.fowler@mercypres.org
END:VEVENT
BEGIN:VEVENT
DTSTART;TZID=America/New_York:20260208T081500
DTEND;TZID=America/New_York:20260208T094500
DTSTAMP:20260423T124420
CREATED:20250730T133232Z
LAST-MODIFIED:20250806T142520Z
UID:10003027-1770538500-1770543900@www.mercypres.org
SUMMARY:Worship (1st Service)
DESCRIPTION:Join us each Sunday for worship at 8:15am.
URL:https://www.mercypres.org/event-occurrence/worship-1st-service-copy/2026-02-08/
LOCATION:Mercy Presbyterian Church\, 1997 Thomas Jefferson Rd\, Forest\, VA\, 24551\, United States
CATEGORIES:Sunday Worship
ATTACH;FMTTYPE=image/jpeg:https://www.mercypres.org/wp-content/uploads/2025/07/worship-e1753882275602.jpg
END:VEVENT
BEGIN:VEVENT
DTSTART;TZID=UTC:20260208T094500
DTEND;TZID=UTC:20260208T104500
DTSTAMP:20260423T124420
CREATED:20260206T021401Z
LAST-MODIFIED:20260211T135645Z
UID:10003569-1770543900-1770547500@www.mercypres.org
SUMMARY:Sunday School
DESCRIPTION:For more information about Sunday School for the whole family\, see MercyPres.org/Sunday-School.
URL:https://www.mercypres.org/event-occurrence/ss-2/2026-02-08/
LOCATION:Mercy Presbyterian Church\, 1997 Thomas Jefferson Rd\, Forest\, VA\, 24551\, United States
CATEGORIES:Sunday School
ATTACH;FMTTYPE=image/jpeg:https://www.mercypres.org/wp-content/uploads/2026/02/Sunday-School.jpg
ORGANIZER;CN="Kate Rigg":MAILTO:katelyn.rigg@gmail.com
END:VEVENT
BEGIN:VEVENT
DTSTART;TZID=America/New_York:20260208T110000
DTEND;TZID=America/New_York:20260208T123000
DTSTAMP:20260423T124420
CREATED:20250730T133214Z
LAST-MODIFIED:20250806T142258Z
UID:10002704-1770548400-1770553800@www.mercypres.org
SUMMARY:Worship (2nd Service)
DESCRIPTION:Join us each Sunday for worship at 11:00am.
URL:https://www.mercypres.org/event-occurrence/worship-1st-service/2026-02-08/
LOCATION:Mercy Presbyterian Church\, 1997 Thomas Jefferson Rd\, Forest\, VA\, 24551\, United States
CATEGORIES:Sunday Worship
ATTACH;FMTTYPE=image/jpeg:https://www.mercypres.org/wp-content/uploads/2025/07/worship-e1753882275602.jpg
END:VEVENT
BEGIN:VEVENT
DTSTART;TZID=America/New_York:20260208T163000
DTEND;TZID=America/New_York:20260208T173000
DTSTAMP:20260423T124420
CREATED:20251105T005902Z
LAST-MODIFIED:20260114T003044Z
UID:10005658-1770568200-1770571800@www.mercypres.org
SUMMARY:Mission & Members Class Begins
DESCRIPTION:The Mission and Members class is for anyone\, whether new to our church or attending regularly\, who would like to find out more about what we believe as a church and how that shapes our ministry. Even if you are not sure about becoming a member\, we would love for you to come. \nWe offer two Mission & Members classes: one in the fall and one in the spring. Classes meet for 5 weeks. Childcare will be offered as needed. \nRegister here.
URL:https://www.mercypres.org/event-occurrence/mission-members-class-begins/
LOCATION:Mercy Presbyterian Church\, 1997 Thomas Jefferson Rd\, Forest\, VA\, 24551\, United States
CATEGORIES:Mission & Members Class
ATTACH;FMTTYPE=image/jpeg:https://www.mercypres.org/wp-content/uploads/2025/07/IMG_8267-e1753986113207.jpg
END:VEVENT
BEGIN:VEVENT
DTSTART;TZID=America/New_York:20260209T190000
DTEND;TZID=America/New_York:20260209T203000
DTSTAMP:20260423T124420
CREATED:20251211T150439Z
LAST-MODIFIED:20251211T150439Z
UID:10005726-1770663600-1770669000@www.mercypres.org
SUMMARY:Women's Bible Study (Bedford)
DESCRIPTION:Our Women’s Bible Studies are studying the book of Deuteronomy with W. Robert Godfrey’s Discovering Deuteronomy video teaching series and study guide. \nClick here to register for a women’s Bible study. \nGroups will meet for 10-11 weeks at the following times & locations: \n\nMonday evenings\, 7 – 8:30 pm\, virtual\nPOC: Kimberly Hall\nMonday evenings\, 7 – 8:30 pm\, in-person at Erica Fox’s home (Bedford)\nPOC: Erica Fox\nWednesday evenings\, 6:30-8:15 pm\, in-person at Mercy\nPOC: Melanie Merkle\nThursday mornings\, 9:30-11:30 am\, in-person at Mercy\n  Childcare provided\n  POC: Marti Long\n\nThe study guide can be purchased online from various retailers like Ligonier and Amazon.
URL:https://www.mercypres.org/event-occurrence/womens-bible-study-bedford-2/2026-02-09/
LOCATION:Bedford\, Bedford\, VA\, United States
CATEGORIES:Women
ATTACH;FMTTYPE=image/jpeg:https://www.mercypres.org/wp-content/uploads/2025/08/bedford-e1754923935364.jpg
ORGANIZER;CN="Erica Fox":MAILTO:ericamfox28@gmail.com
END:VEVENT
BEGIN:VEVENT
DTSTART;TZID=America/New_York:20260209T190000
DTEND;TZID=America/New_York:20260209T203000
DTSTAMP:20260423T124420
CREATED:20251211T150615Z
LAST-MODIFIED:20251211T150615Z
UID:10005750-1770663600-1770669000@www.mercypres.org
SUMMARY:Women's Bible Study (virtual)
DESCRIPTION:Our Women’s Bible Studies are studying the book of Deuteronomy with W. Robert Godfrey’s Discovering Deuteronomy video teaching series and study guide. \nClick here to register for a women’s Bible study. \nGroups will meet for 10-11 weeks at the following times & locations: \n\nMonday evenings\, 7 – 8:30 pm\, virtual\nPOC: Kimberly Hall\nMonday evenings\, 7 – 8:30 pm\, in-person at Erica Fox’s home (Bedford)\nPOC: Erica Fox\nWednesday evenings\, 6:30-8:15 pm\, in-person at Mercy\nPOC: Melanie Merkle\nThursday mornings\, 9:30-11:30 am\, in-person at Mercy\n  Childcare provided\n  POC: Marti Long\n\nThe study guide can be purchased online from various retailers like Ligonier and Amazon.
URL:https://www.mercypres.org/event-occurrence/womens-bible-study-virtual-2/2026-02-09/
LOCATION:Virtual
CATEGORIES:Women
ATTACH;FMTTYPE=image/png:https://www.mercypres.org/wp-content/uploads/2025/01/Community-1-e1753147098578.png
ORGANIZER;CN="Kimberly Hall":MAILTO:sml.kimberly@icloud.com
END:VEVENT
BEGIN:VEVENT
DTSTART;TZID=America/New_York:20260210T063000
DTEND;TZID=America/New_York:20260210T080000
DTSTAMP:20260423T124420
CREATED:20250827T135855Z
LAST-MODIFIED:20250827T140326Z
UID:10005029-1770705000-1770710400@www.mercypres.org
SUMMARY:Men's Study Group (morning)
DESCRIPTION:Join us for a weekly men’s Bible study on Tuesday mornings. \n  \nContact:\nDick Bitzer
URL:https://www.mercypres.org/event-occurrence/mens-study-group-morning/2026-02-10/
LOCATION:Mercy Presbyterian Church\, 1997 Thomas Jefferson Rd\, Forest\, VA\, 24551\, United States
CATEGORIES:Men
ATTACH;FMTTYPE=image/jpeg:https://www.mercypres.org/wp-content/uploads/2025/08/website-event-image.jpg
ORGANIZER;CN="Dick Bitzer":MAILTO:dlbitzer08@gmail.com
END:VEVENT
BEGIN:VEVENT
DTSTART;TZID=America/New_York:20260210T193000
DTEND;TZID=America/New_York:20260210T210000
DTSTAMP:20260423T124420
CREATED:20250812T133949Z
LAST-MODIFIED:20250925T131638Z
UID:10004221-1770751800-1770757200@www.mercypres.org
SUMMARY:Reformed University Fellowship
DESCRIPTION:
URL:https://www.mercypres.org/event-occurrence/reformed-university-fellowship/2026-02-10/
LOCATION:VA
CATEGORIES:College
ATTACH;FMTTYPE=image/jpeg:https://www.mercypres.org/wp-content/uploads/2025/08/LU-e1755005978340.jpg
END:VEVENT
BEGIN:VEVENT
DTSTART;TZID=UTC:20260211T183000
DTEND;TZID=UTC:20260211T201500
DTSTAMP:20260423T124420
CREATED:20250130T012917Z
LAST-MODIFIED:20250926T000446Z
UID:10003314-1770834600-1770840900@www.mercypres.org
SUMMARY:Youth Group
DESCRIPTION:Our student ministry exists to gather young people from the Forest area and to disciple them to bear the image of Christ. Youth Group meets most Wednesday nights at 6:30pm in the Youth Room.
URL:https://www.mercypres.org/event-occurrence/youth-group/2026-02-11/
LOCATION:Mercy Presbyterian Church\, 1997 Thomas Jefferson Rd\, Forest\, VA\, 24551\, United States
CATEGORIES:Youth
ATTACH;FMTTYPE=image/png:https://www.mercypres.org/wp-content/uploads/2025/01/Youth-e1753905588668.png
ORGANIZER;CN="Jeremiah Sheets":MAILTO:jeremiah.sheets@mercypres.org
END:VEVENT
BEGIN:VEVENT
DTSTART;TZID=America/New_York:20260211T183000
DTEND;TZID=America/New_York:20260211T201500
DTSTAMP:20260423T124420
CREATED:20251211T150709Z
LAST-MODIFIED:20251211T150833Z
UID:10005778-1770834600-1770840900@www.mercypres.org
SUMMARY:Women's Bible Study (evening)
DESCRIPTION:Our Women’s Bible Studies are studying the book of Deuteronomy with W. Robert Godfrey’s Discovering Deuteronomy video teaching series and study guide. \nClick here to register for a women’s Bible study. \nGroups will meet for 10-11 weeks at the following times & locations: \n\nMonday evenings\, 7 – 8:30 pm\, virtual\nContact: Kimberly Hall\nMonday evenings\, 7 – 8:30 pm\, in-person at Erica Fox’s home (Bedford)\nContact: Erica Fox\nWednesday evenings\, 6:30-8:15 pm\, in-person at Mercy\nContact: Melanie Merkle\nThursday mornings\, 9:30-11:30 am\, in-person at Mercy\nChildcare provided\nContact: Marti Long\n\nThe study guide can be purchased online from various retailers like Ligonier and Amazon.
URL:https://www.mercypres.org/event-occurrence/womens-bible-study-evening/2026-02-11/
LOCATION:Mercy Presbyterian Church\, 1997 Thomas Jefferson Rd\, Forest\, VA\, 24551\, United States
CATEGORIES:Women
ATTACH;FMTTYPE=image/png:https://www.mercypres.org/wp-content/uploads/2025/01/Community-e1754930328627.png
ORGANIZER;CN="Melanie Merkle":MAILTO:mvmerkle@gmail.com
END:VEVENT
BEGIN:VEVENT
DTSTART;TZID=America/New_York:20260211T190000
DTEND;TZID=America/New_York:20260211T203000
DTSTAMP:20260423T124420
CREATED:20250827T134554Z
LAST-MODIFIED:20251118T152853Z
UID:10004514-1770836400-1770841800@www.mercypres.org
SUMMARY:Men's Study Group (evening)
DESCRIPTION:We have 2 men’s groups meeting on Wednesday evenings: \n\n2nd and 4th Wed.\, 7pm\nEast Home\nJohn East (john.east@mercypres.org) \n\n1st and 3rd Wed.\, 7pm\nMercy\nScott Robinson (scott.robinson@mercypres.org) \n 
URL:https://www.mercypres.org/event-occurrence/mens-study-group-evening/2026-02-11/
LOCATION:VA
CATEGORIES:Men
ATTACH;FMTTYPE=image/jpeg:https://www.mercypres.org/wp-content/uploads/2025/08/mens-4-e1755287285514.jpg
END:VEVENT
BEGIN:VEVENT
DTSTART;TZID=America/New_York:20260212T070000
DTEND;TZID=America/New_York:20260212T080000
DTSTAMP:20260423T124420
CREATED:20250815T202120Z
LAST-MODIFIED:20260305T192035Z
UID:10004257-1770879600-1770883200@www.mercypres.org
SUMMARY:Prayer Meeting
DESCRIPTION:Everyone is invited to our weekly prayer gathering. During our time together\, we open with a time of Adoration and Confession\, followed by prayers of Thanksgiving and Supplication\, using the Mercy prayer needs list as a guide. No one is ever required to pray aloud\, so feel free to simply come and pray quietly with us if you prefer.
URL:https://www.mercypres.org/event-occurrence/prayer-meeting/2026-02-12/
LOCATION:Mercy Presbyterian Church\, 1997 Thomas Jefferson Rd\, Forest\, VA\, 24551\, United States
CATEGORIES:Prayer
ATTACH;FMTTYPE=image/jpeg:https://www.mercypres.org/wp-content/uploads/2025/08/website-event-image-1.jpg
ORGANIZER;CN="Karen Woodall":MAILTO:kwoodall23@juno.com
END:VEVENT
BEGIN:VEVENT
DTSTART;TZID=America/New_York:20260214T090000
DTEND;TZID=America/New_York:20260214T110000
DTSTAMP:20260423T124420
CREATED:20260120T144213Z
LAST-MODIFIED:20260304T172513Z
UID:10005828-1771059600-1771066800@www.mercypres.org
SUMMARY:GriefShare
DESCRIPTION:13-week program | Begins February 14\n\n\n\n\nGrief can feel overwhelming\, confusing\, and lonely. The GriefShare Grief Support Group at Mercy Presbyterian Church offers a safe and caring place to find help\, hope\, and understanding after the loss of a loved one. \nGriefShare is a 13-week grief support program for people who have experienced the death of a family member or friend. Each session provides guidance\, encouragement\, and a supportive community where you can heal at your own pace. \nGrief does not follow a set timeline. In this group\, you will learn what is normal in grief\, what to expect in the weeks ahead\, and healthy ways to cope with grief as it changes over time. \n\n\nMore Info: MercyPres.org/GriefShare\nRegister: Click Here
URL:https://www.mercypres.org/event-occurrence/griefshare-start-date/2026-02-14/
LOCATION:Mercy Presbyterian Church\, 1997 Thomas Jefferson Rd\, Forest\, VA\, 24551\, United States
CATEGORIES:Misc.
ATTACH;FMTTYPE=image/jpeg:https://www.mercypres.org/wp-content/uploads/2026/01/4.jpg
END:VEVENT
BEGIN:VEVENT
DTSTART;TZID=America/New_York:20260215T081500
DTEND;TZID=America/New_York:20260215T094500
DTSTAMP:20260423T124420
CREATED:20250730T133232Z
LAST-MODIFIED:20250806T142520Z
UID:10003028-1771143300-1771148700@www.mercypres.org
SUMMARY:Worship (1st Service)
DESCRIPTION:Join us each Sunday for worship at 8:15am.
URL:https://www.mercypres.org/event-occurrence/worship-1st-service-copy/2026-02-15/
LOCATION:Mercy Presbyterian Church\, 1997 Thomas Jefferson Rd\, Forest\, VA\, 24551\, United States
CATEGORIES:Sunday Worship
ATTACH;FMTTYPE=image/jpeg:https://www.mercypres.org/wp-content/uploads/2025/07/worship-e1753882275602.jpg
END:VEVENT
BEGIN:VEVENT
DTSTART;TZID=UTC:20260215T094500
DTEND;TZID=UTC:20260215T104500
DTSTAMP:20260423T124420
CREATED:20260206T021401Z
LAST-MODIFIED:20260211T135645Z
UID:10003570-1771148700-1771152300@www.mercypres.org
SUMMARY:Sunday School
DESCRIPTION:For more information about Sunday School for the whole family\, see MercyPres.org/Sunday-School.
URL:https://www.mercypres.org/event-occurrence/ss-2/2026-02-15/
LOCATION:Mercy Presbyterian Church\, 1997 Thomas Jefferson Rd\, Forest\, VA\, 24551\, United States
CATEGORIES:Sunday School
ATTACH;FMTTYPE=image/jpeg:https://www.mercypres.org/wp-content/uploads/2026/02/Sunday-School.jpg
ORGANIZER;CN="Kate Rigg":MAILTO:katelyn.rigg@gmail.com
END:VEVENT
BEGIN:VEVENT
DTSTART;TZID=UTC:20260215T100000
DTEND;TZID=UTC:20260215T103000
DTSTAMP:20260423T124420
CREATED:20250911T175338Z
LAST-MODIFIED:20251001T153742Z
UID:10005454-1771149600-1771151400@www.mercypres.org
SUMMARY:Special Needs Prayer
DESCRIPTION:Any and all are welcome to join us in the counseling office as we pray together and lift up those in our congregation touched by disability.
URL:https://www.mercypres.org/event-occurrence/special-needs-prayer-2/2026-02-15/
LOCATION:Mercy Presbyterian Church\, 1997 Thomas Jefferson Rd\, Forest\, VA\, 24551\, United States
CATEGORIES:Prayer
ATTACH;FMTTYPE=image/webp:https://www.mercypres.org/wp-content/uploads/2025/07/prayer-e1753835337595.webp
ORGANIZER;CN="Meagan Johnston":MAILTO:mLwhee2@gmail.com
END:VEVENT
END:VCALENDAR