BEGIN:VCALENDAR
VERSION:2.0
PRODID:-//Mercy Presbyterian Church - ECPv6.15.20//NONSGML v1.0//EN
CALSCALE:GREGORIAN
METHOD:PUBLISH
X-WR-CALNAME:Mercy Presbyterian Church
X-ORIGINAL-URL:https://www.mercypres.org
X-WR-CALDESC:Events for Mercy Presbyterian Church
REFRESH-INTERVAL;VALUE=DURATION:PT1H
X-Robots-Tag:noindex
X-PUBLISHED-TTL:PT1H
BEGIN:VTIMEZONE
TZID:UTC
BEGIN:STANDARD
TZOFFSETFROM:+0000
TZOFFSETTO:+0000
TZNAME:UTC
DTSTART:20230101T000000
END:STANDARD
END:VTIMEZONE
BEGIN:VEVENT
DTSTART;TZID=UTC:20241224T183000
DTEND;TZID=UTC:20241224T193000
DTSTAMP:20260424T024959
CREATED:20241128T024001Z
LAST-MODIFIED:20241128T024001Z
UID:10000010-1735065000-1735068600@www.mercypres.org
SUMMARY:Lessons & Carols
DESCRIPTION:
URL:https://www.mercypres.org/event-occurrence/lessons-carols/
LOCATION:Mercy Presbyterian Church\, 1997 Thomas Jefferson Rd\, Forest\, VA\, 24551\, United States
CATEGORIES:Churchwide Events
ATTACH;FMTTYPE=image/jpeg:https://www.mercypres.org/wp-content/uploads/2024/11/poinsettias-og.jpg
END:VEVENT
BEGIN:VEVENT
DTSTART;TZID=UTC:20241116T093000
DTEND;TZID=UTC:20241116T120000
DTSTAMP:20260424T024959
CREATED:20240917T161024Z
LAST-MODIFIED:20241106T001350Z
UID:10000002-1731749400-1731758400@www.mercypres.org
SUMMARY:Landscaping Day
DESCRIPTION:Children welcome\,
URL:https://www.mercypres.org/event-occurrence/mercy-presbyterian-church-calendar-copy/
LOCATION:Mercy Presbyterian Church\, 1997 Thomas Jefferson Rd\, Forest\, VA\, 24551\, United States
END:VEVENT
END:VCALENDAR