BEGIN:VCALENDAR
VERSION:2.0
PRODID:-//Mercy Presbyterian Church - ECPv6.15.20//NONSGML v1.0//EN
CALSCALE:GREGORIAN
METHOD:PUBLISH
X-WR-CALNAME:Mercy Presbyterian Church
X-ORIGINAL-URL:https://www.mercypres.org
X-WR-CALDESC:Events for Mercy Presbyterian Church
REFRESH-INTERVAL;VALUE=DURATION:PT1H
X-Robots-Tag:noindex
X-PUBLISHED-TTL:PT1H
BEGIN:VTIMEZONE
TZID:America/New_York
BEGIN:DAYLIGHT
TZOFFSETFROM:-0500
TZOFFSETTO:-0400
TZNAME:EDT
DTSTART:20240310T070000
END:DAYLIGHT
BEGIN:STANDARD
TZOFFSETFROM:-0400
TZOFFSETTO:-0500
TZNAME:EST
DTSTART:20241103T060000
END:STANDARD
BEGIN:DAYLIGHT
TZOFFSETFROM:-0500
TZOFFSETTO:-0400
TZNAME:EDT
DTSTART:20250309T070000
END:DAYLIGHT
BEGIN:STANDARD
TZOFFSETFROM:-0400
TZOFFSETTO:-0500
TZNAME:EST
DTSTART:20251102T060000
END:STANDARD
BEGIN:DAYLIGHT
TZOFFSETFROM:-0500
TZOFFSETTO:-0400
TZNAME:EDT
DTSTART:20260308T070000
END:DAYLIGHT
BEGIN:STANDARD
TZOFFSETFROM:-0400
TZOFFSETTO:-0500
TZNAME:EST
DTSTART:20261101T060000
END:STANDARD
END:VTIMEZONE
BEGIN:VTIMEZONE
TZID:UTC
BEGIN:STANDARD
TZOFFSETFROM:+0000
TZOFFSETTO:+0000
TZNAME:UTC
DTSTART:20240101T000000
END:STANDARD
END:VTIMEZONE
BEGIN:VEVENT
DTSTART;TZID=America/New_York:20251130T110000
DTEND;TZID=America/New_York:20251130T123000
DTSTAMP:20260423T194752
CREATED:20250730T133214Z
LAST-MODIFIED:20250806T142258Z
UID:10002694-1764500400-1764505800@www.mercypres.org
SUMMARY:Worship (2nd Service)
DESCRIPTION:Join us each Sunday for worship at 11:00am.
URL:https://www.mercypres.org/event-occurrence/worship-1st-service/2025-11-30/
LOCATION:Mercy Presbyterian Church\, 1997 Thomas Jefferson Rd\, Forest\, VA\, 24551\, United States
CATEGORIES:Sunday Worship
ATTACH;FMTTYPE=image/jpeg:https://www.mercypres.org/wp-content/uploads/2025/07/worship-e1753882275602.jpg
END:VEVENT
BEGIN:VEVENT
DTSTART;TZID=America/New_York:20251130T081500
DTEND;TZID=America/New_York:20251130T094500
DTSTAMP:20260423T194752
CREATED:20250730T133232Z
LAST-MODIFIED:20250806T142520Z
UID:10003017-1764490500-1764495900@www.mercypres.org
SUMMARY:Worship (1st Service)
DESCRIPTION:Join us each Sunday for worship at 8:15am.
URL:https://www.mercypres.org/event-occurrence/worship-1st-service-copy/2025-11-30/
LOCATION:Mercy Presbyterian Church\, 1997 Thomas Jefferson Rd\, Forest\, VA\, 24551\, United States
CATEGORIES:Sunday Worship
ATTACH;FMTTYPE=image/jpeg:https://www.mercypres.org/wp-content/uploads/2025/07/worship-e1753882275602.jpg
END:VEVENT
BEGIN:VEVENT
DTSTART;TZID=America/New_York:20251126T183000
DTEND;TZID=America/New_York:20251126T193000
DTSTAMP:20260423T194752
CREATED:20251112T160446Z
LAST-MODIFIED:20251112T160446Z
UID:10005672-1764181800-1764185400@www.mercypres.org
SUMMARY:Solemn Service of Thanksgiving
DESCRIPTION:Please join us for a solemn service of thanksgiving on Wednesday\, November 26\, at 6:30 to praise the Lord for His care and provision for us throughout 2025.
URL:https://www.mercypres.org/event-occurrence/solemn-service-of-thanksgiving/
LOCATION:Mercy Presbyterian Church\, 1997 Thomas Jefferson Rd\, Forest\, VA\, 24551\, United States
CATEGORIES:Misc.
ATTACH;FMTTYPE=image/jpeg:https://www.mercypres.org/wp-content/uploads/2025/11/tgiving.jpg
END:VEVENT
BEGIN:VEVENT
DTSTART;TZID=America/New_York:20251123T160000
DTEND;TZID=America/New_York:20251123T180000
DTSTAMP:20260423T194752
CREATED:20250911T174235Z
LAST-MODIFIED:20251118T145219Z
UID:10005278-1763913600-1763920800@www.mercypres.org
SUMMARY:Bedford Plant Meeting
DESCRIPTION:Join us the 4th Sunday of each month\, at 4pm\, for dinner and discussion about our Bedford church plant. \nLocation: Brueck home \nPotluck signup here. \nQuestions? Contact Richard Brueck.
URL:https://www.mercypres.org/event-occurrence/bedford-plant-meeting/
LOCATION:VA
CATEGORIES:Bedford Church Plant
ATTACH;FMTTYPE=image/jpeg:https://www.mercypres.org/wp-content/uploads/2025/09/Bedford-e1757611745181.jpg
ORGANIZER;CN="Richard Brueck":MAILTO:richard.brueck@mercypres.org
END:VEVENT
BEGIN:VEVENT
DTSTART;TZID=UTC:20251123T094500
DTEND;TZID=UTC:20251123T104500
DTSTAMP:20260423T194752
CREATED:20241106T000804Z
LAST-MODIFIED:20250809T160836Z
UID:10003558-1763891100-1763894700@www.mercypres.org
SUMMARY:Sunday School
DESCRIPTION:For more information about Sunday School for the whole family\, see MercyPres.org/Sunday-School.
URL:https://www.mercypres.org/event-occurrence/ss/2025-11-23/
LOCATION:Mercy Presbyterian Church\, 1997 Thomas Jefferson Rd\, Forest\, VA\, 24551\, United States
CATEGORIES:Sunday School
ATTACH;FMTTYPE=image/jpeg:https://www.mercypres.org/wp-content/uploads/2024/11/istockphoto-1495306109-612x612-1-e1753883552957.jpg
ORGANIZER;CN="Kate Rigg":MAILTO:katelyn.rigg@gmail.com
END:VEVENT
BEGIN:VEVENT
DTSTART;TZID=America/New_York:20251121T100000
DTEND;TZID=America/New_York:20251121T120000
DTSTAMP:20260423T194752
CREATED:20250904T140701Z
LAST-MODIFIED:20250904T140701Z
UID:10005268-1763719200-1763726400@www.mercypres.org
SUMMARY:Homeschool Fellowship
DESCRIPTION:Homeschool families of Mercy are invited to a monthly fellowship gathering. We usually meet on the third Friday of each month\, from 10am-12pm; however\, some months we take a field trip\, in which case dates/times/locations are subject to change. \nContact Katelin Hobson to be added to the communication group\, where updates about each month’s gathering are shared.
URL:https://www.mercypres.org/event-occurrence/homeschool-fellowship-2/2025-11-21/
LOCATION:Mercy Presbyterian Church\, 1997 Thomas Jefferson Rd\, Forest\, VA\, 24551\, United States
CATEGORIES:Homeschool Fellowship
ATTACH;FMTTYPE=image/jpeg:https://www.mercypres.org/wp-content/uploads/2025/09/HS-Fell-e1756994733766.jpg
ORGANIZER;CN="Katelin Hobson":MAILTO:kmhobson@protonmail.com
END:VEVENT
BEGIN:VEVENT
DTSTART;TZID=America/New_York:20251120T070000
DTEND;TZID=America/New_York:20251120T080000
DTSTAMP:20260423T194752
CREATED:20250815T202120Z
LAST-MODIFIED:20260305T192035Z
UID:10004247-1763622000-1763625600@www.mercypres.org
SUMMARY:Prayer Meeting
DESCRIPTION:Everyone is invited to our weekly prayer gathering. During our time together\, we open with a time of Adoration and Confession\, followed by prayers of Thanksgiving and Supplication\, using the Mercy prayer needs list as a guide. No one is ever required to pray aloud\, so feel free to simply come and pray quietly with us if you prefer.
URL:https://www.mercypres.org/event-occurrence/prayer-meeting/2025-11-20/
LOCATION:Mercy Presbyterian Church\, 1997 Thomas Jefferson Rd\, Forest\, VA\, 24551\, United States
CATEGORIES:Prayer
ATTACH;FMTTYPE=image/jpeg:https://www.mercypres.org/wp-content/uploads/2025/08/website-event-image-1.jpg
ORGANIZER;CN="Karen Woodall":MAILTO:kwoodall23@juno.com
END:VEVENT
BEGIN:VEVENT
DTSTART;TZID=America/New_York:20251119T190000
DTEND;TZID=America/New_York:20251119T203000
DTSTAMP:20260423T194752
CREATED:20250827T134554Z
LAST-MODIFIED:20251118T152853Z
UID:10004504-1763578800-1763584200@www.mercypres.org
SUMMARY:Men's Study Group (evening)
DESCRIPTION:We have 2 men’s groups meeting on Wednesday evenings: \n\n2nd and 4th Wed.\, 7pm\nEast Home\nJohn East (john.east@mercypres.org) \n\n1st and 3rd Wed.\, 7pm\nMercy\nScott Robinson (scott.robinson@mercypres.org) \n 
URL:https://www.mercypres.org/event-occurrence/mens-study-group-evening/2025-11-19/
LOCATION:VA
CATEGORIES:Men
ATTACH;FMTTYPE=image/jpeg:https://www.mercypres.org/wp-content/uploads/2025/08/mens-4-e1755287285514.jpg
END:VEVENT
BEGIN:VEVENT
DTSTART;TZID=America/New_York:20251119T183000
DTEND;TZID=America/New_York:20251119T201500
DTSTAMP:20260423T194752
CREATED:20250811T145521Z
LAST-MODIFIED:20251014T165214Z
UID:10004201-1763577000-1763583300@www.mercypres.org
SUMMARY:Women's Bible Study (evening)
DESCRIPTION:Our Women’s Bible Studies this fall will study the book of Deuteronomy with W. Robert Godfrey’s Discovering Deuteronomy video teaching series and study guide. \nClick here to register for a women’s Bible study. \nGroups will meet for 10-11 weeks at the following times & locations: \n\nMonday evenings\, 7 – 8:30 pm\, virtual\nBegins Sept. 15\nContact: Kimberly Hall\nMonday evenings\, 7 – 8:30 pm\, in-person at Erica Fox’s home (Bedford)\nBegins Sept. 8\nContact: Erica Fox\nWednesday evenings\, 6:30-8:15 pm\, in-person at Mercy\nBegins Sept. 10\nContact: Melanie Merkle\nThursday mornings\, 9:30-11:30 am\, in-person at Mercy\nBegins Sept. 11\nChildcare provided\nContact: Marti Long\n\nThe study guide can be purchased online from various retailers like Ligonier and Amazon.
URL:https://www.mercypres.org/event-occurrence/womens-bible-study/2025-11-19/
LOCATION:Mercy Presbyterian Church\, 1997 Thomas Jefferson Rd\, Forest\, VA\, 24551\, United States
CATEGORIES:Women
ATTACH;FMTTYPE=image/png:https://www.mercypres.org/wp-content/uploads/2025/01/Community-e1754930328627.png
ORGANIZER;CN="Melanie Merkle":MAILTO:mvmerkle@gmail.com
END:VEVENT
BEGIN:VEVENT
DTSTART;TZID=UTC:20251119T183000
DTEND;TZID=UTC:20251119T201500
DTSTAMP:20260423T194752
CREATED:20250130T012917Z
LAST-MODIFIED:20250926T000446Z
UID:10003302-1763577000-1763583300@www.mercypres.org
SUMMARY:Youth Group
DESCRIPTION:Our student ministry exists to gather young people from the Forest area and to disciple them to bear the image of Christ. Youth Group meets most Wednesday nights at 6:30pm in the Youth Room.
URL:https://www.mercypres.org/event-occurrence/youth-group/2025-11-19/
LOCATION:Mercy Presbyterian Church\, 1997 Thomas Jefferson Rd\, Forest\, VA\, 24551\, United States
CATEGORIES:Youth
ATTACH;FMTTYPE=image/png:https://www.mercypres.org/wp-content/uploads/2025/01/Youth-e1753905588668.png
ORGANIZER;CN="Jeremiah Sheets":MAILTO:jeremiah.sheets@mercypres.org
END:VEVENT
BEGIN:VEVENT
DTSTART;TZID=America/New_York:20251118T193000
DTEND;TZID=America/New_York:20251118T210000
DTSTAMP:20260423T194752
CREATED:20250812T133949Z
LAST-MODIFIED:20250925T131638Z
UID:10004215-1763494200-1763499600@www.mercypres.org
SUMMARY:Reformed University Fellowship
DESCRIPTION:
URL:https://www.mercypres.org/event-occurrence/reformed-university-fellowship/2025-11-18/
LOCATION:VA
CATEGORIES:College
ATTACH;FMTTYPE=image/jpeg:https://www.mercypres.org/wp-content/uploads/2025/08/LU-e1755005978340.jpg
END:VEVENT
BEGIN:VEVENT
DTSTART;TZID=America/New_York:20251117T190000
DTEND;TZID=America/New_York:20251117T203000
DTSTAMP:20260423T194752
CREATED:20250811T145233Z
LAST-MODIFIED:20250811T163456Z
UID:10004148-1763406000-1763411400@www.mercypres.org
SUMMARY:Women's Bible Study (Bedford)
DESCRIPTION:Our Women’s Bible Studies this fall will study the book of Deuteronomy with W. Robert Godfrey’s Discovering Deuteronomy video teaching series and study guide. \nClick here to register for a women’s Bible study. \nGroups will meet for 10-11 weeks at the following times & locations: \n\nMonday evenings\, 7 – 8:30 pm\, virtual\n  Begins Sept. 15\nPOC: Kimberly Hall\nMonday evenings\, 7 – 8:30 pm\, in-person at Erica Fox’s home (Bedford)\nBegins Sept. 8\nPOC: Erica Fox\nWednesday evenings\, 6:30-8:15 pm\, in-person at Mercy\nBegins Sept. 10\nPOC: Melanie Merkle\nThursday mornings\, 9:30-11:30 am\, in-person at Mercy\nBegins Sept. 11\n  Childcare provided\n  POC: Marti Long\n\nThe study guide can be purchased online from various retailers like Ligonier and Amazon.virginiirva
URL:https://www.mercypres.org/event-occurrence/womens-bible-study-bedford/2025-11-17/
LOCATION:Bedford\, Bedford\, VA\, United States
CATEGORIES:Women
ATTACH;FMTTYPE=image/jpeg:https://www.mercypres.org/wp-content/uploads/2025/08/bedford-e1754923935364.jpg
ORGANIZER;CN="Erica Fox":MAILTO:ericamfox28@gmail.com
END:VEVENT
BEGIN:VEVENT
DTSTART;TZID=America/New_York:20251117T190000
DTEND;TZID=America/New_York:20251117T203000
DTSTAMP:20260423T194752
CREATED:20250811T144738Z
LAST-MODIFIED:20250811T163600Z
UID:10004137-1763406000-1763411400@www.mercypres.org
SUMMARY:Women's Bible Study (virtual)
DESCRIPTION:Our Women’s Bible Studies this fall will study the book of Deuteronomy with W. Robert Godfrey’s Discovering Deuteronomy video teaching series and study guide. \nClick here to register for a women’s Bible study. \nGroups will meet for 10-11 weeks at the following times & locations: \n\nMonday evenings\, 7 – 8:30 pm\, virtual\n  Begins Sept. 15\nPOC: Kimberly Hall\nMonday evenings\, 7 – 8:30 pm\, in-person at Erica Fox’s home (Bedford)\nBegins Sept. 8\nPOC: Erica Fox\nWednesday evenings\, 6:30-8:15 pm\, in-person at Mercy\nBegins Sept. 10\nPOC: Melanie Merkle\nThursday mornings\, 9:30-11:30 am\, in-person at Mercy\nBegins Sept. 11\n  Childcare provided\n  POC: Marti Long\n\nThe study guide can be purchased online from various retailers like Ligonier and Amazon.
URL:https://www.mercypres.org/event-occurrence/womens-bible-study-virtual/2025-11-17/
LOCATION:Virtual
CATEGORIES:Women
ATTACH;FMTTYPE=image/png:https://www.mercypres.org/wp-content/uploads/2025/01/Community-1-e1753147098578.png
ORGANIZER;CN="Kimberly Hall":MAILTO:sml.kimberly@icloud.com
END:VEVENT
BEGIN:VEVENT
DTSTART;TZID=UTC:20251116T100000
DTEND;TZID=UTC:20251116T103000
DTSTAMP:20260423T194752
CREATED:20250911T175338Z
LAST-MODIFIED:20251001T153742Z
UID:10005451-1763287200-1763289000@www.mercypres.org
SUMMARY:Special Needs Prayer
DESCRIPTION:Any and all are welcome to join us in the counseling office as we pray together and lift up those in our congregation touched by disability.
URL:https://www.mercypres.org/event-occurrence/special-needs-prayer-2/2025-11-16/
LOCATION:Mercy Presbyterian Church\, 1997 Thomas Jefferson Rd\, Forest\, VA\, 24551\, United States
CATEGORIES:Prayer
ATTACH;FMTTYPE=image/webp:https://www.mercypres.org/wp-content/uploads/2025/07/prayer-e1753835337595.webp
ORGANIZER;CN="Meagan Johnston":MAILTO:mLwhee2@gmail.com
END:VEVENT
BEGIN:VEVENT
DTSTART;TZID=America/New_York:20251113T093000
DTEND;TZID=America/New_York:20251113T111500
DTSTAMP:20260423T194752
CREATED:20250811T171555Z
LAST-MODIFIED:20250811T174002Z
UID:10004191-1763026200-1763032500@www.mercypres.org
SUMMARY:Women's Bible Study (morning)
DESCRIPTION:Our Women’s Bible Studies this fall will study the book of Deuteronomy with W. Robert Godfrey’s Discovering Deuteronomy video teaching series and study guide. \nClick here to register for a women’s Bible study. \nGroups will meet for 10-11 weeks at the following times & locations: \n\nMonday evenings\, 7 – 8:30 pm\, virtual\nBegins Sept. 15\nPOC: Kimberly Hall\nMonday evenings\, 7 – 8:30 pm\, in-person at Erica Fox’s home (Bedford)\nBegins Sept. 8\nPOC: Erica Fox\nWednesday evenings\, 6:30-8:15 pm\, in-person at Mercy\nBegins Sept. 10\nPOC: Melanie Merkle\nThursday mornings\, 9:30-11:30 am\, in-person at Mercy\nBegins Sept. 11\nChildcare provided\nPOC: Marti Long\n\nThe study guide can be purchased online from various retailers like Ligonier and Amazon.
URL:https://www.mercypres.org/event-occurrence/womens-bible-study-2/2025-11-13/
LOCATION:Mercy Presbyterian Church\, 1997 Thomas Jefferson Rd\, Forest\, VA\, 24551\, United States
CATEGORIES:Women
ATTACH;FMTTYPE=image/png:https://www.mercypres.org/wp-content/uploads/2025/01/Community-2-e1753146821577.png
ORGANIZER;CN="Marti Long":MAILTO:snmhlong@yahoo.com
END:VEVENT
BEGIN:VEVENT
DTSTART;TZID=America/New_York:20251109T153000
DTEND;TZID=America/New_York:20251109T170000
DTSTAMP:20260423T194752
CREATED:20251006T172222Z
LAST-MODIFIED:20251016T194456Z
UID:10005512-1762702200-1762707600@www.mercypres.org
SUMMARY:Seniors' Gathering
DESCRIPTION:Daryl DeVries invites you to a seniors’ gathering\, planned for Sunday\, November 9\, at the church from 3:30-5:00 pm. Please email Daryl DeVries if you plan on coming.
URL:https://www.mercypres.org/event-occurrence/seniors-gathering/
LOCATION:Mercy Presbyterian Church\, 1997 Thomas Jefferson Rd\, Forest\, VA\, 24551\, United States
CATEGORIES:Misc.
ATTACH;FMTTYPE=image/png:https://www.mercypres.org/wp-content/uploads/2025/10/Seniors-e1759434176270.png
ORGANIZER;CN="Daryl DeVries":MAILTO:HisRenown2@gmail.com
END:VEVENT
BEGIN:VEVENT
DTSTART;TZID=America/New_York:20251109T143000
DTEND;TZID=America/New_York:20251109T153000
DTSTAMP:20260423T194752
CREATED:20250827T134956Z
LAST-MODIFIED:20250827T134956Z
UID:10004755-1762698600-1762702200@www.mercypres.org
SUMMARY:Men's Study Group (Sundays)
DESCRIPTION:Join us for a weekly men’s Bible study on Sunday afternoons. \n  \nContacts:\nVic Ritter\nSteve Rudolph
URL:https://www.mercypres.org/event-occurrence/mens-study-group-sundays/2025-11-09/
LOCATION:Mercy Presbyterian Church\, 1997 Thomas Jefferson Rd\, Forest\, VA\, 24551\, United States
CATEGORIES:Men
ATTACH;FMTTYPE=image/jpeg:https://www.mercypres.org/wp-content/uploads/2025/08/mens3-e1755287237345.jpg
END:VEVENT
BEGIN:VEVENT
DTSTART;TZID=America/New_York:20251102T180000
DTEND;TZID=America/New_York:20251102T190000
DTSTAMP:20260423T194752
CREATED:20251003T121027Z
LAST-MODIFIED:20251003T121027Z
UID:10005511-1762106400-1762110000@www.mercypres.org
SUMMARY:Installation Service: Richard Brueck
DESCRIPTION:Join us for a special installation service for Assistant Pastor Richard Brueck\, who has been hired at Mercy to lead our Bedford church plant.
URL:https://www.mercypres.org/event-occurrence/installation-service-richard-brueck/
LOCATION:Mercy Presbyterian Church\, 1997 Thomas Jefferson Rd\, Forest\, VA\, 24551\, United States
CATEGORIES:Bedford Church Plant
ATTACH;FMTTYPE=image/jpeg:https://www.mercypres.org/wp-content/uploads/2025/10/Brueck_install.jpg
END:VEVENT
BEGIN:VEVENT
DTSTART;TZID=America/New_York:20251029T183000
DTEND;TZID=America/New_York:20251029T201500
DTSTAMP:20260423T194752
CREATED:20250925T235650Z
LAST-MODIFIED:20250925T235809Z
UID:10005440-1761762600-1761768900@www.mercypres.org
SUMMARY:Youth Fall Costume Party
DESCRIPTION:
URL:https://www.mercypres.org/event-occurrence/youth-fall-costume-party/
LOCATION:Mercy Presbyterian Church\, 1997 Thomas Jefferson Rd\, Forest\, VA\, 24551\, United States
CATEGORIES:Youth
ATTACH;FMTTYPE=image/jpeg:https://www.mercypres.org/wp-content/uploads/2025/09/youth_costume-party-e1758844531719.jpg
ORGANIZER;CN="Jeremiah Sheets":MAILTO:jeremiah.sheets@mercypres.org
END:VEVENT
BEGIN:VEVENT
DTSTART;TZID=America/New_York:20251026T170000
DTEND;TZID=America/New_York:20251026T190000
DTSTAMP:20260423T194752
CREATED:20250730T112855Z
LAST-MODIFIED:20250904T151752Z
UID:10002938-1761498000-1761505200@www.mercypres.org
SUMMARY:ChiliFest
DESCRIPTION:Join us for an evening of chili and fellowship. This year’s ChiliFest is a chili cook-off! Bring your best chili and see how it stacks up. Dessert and drinks will be provided. \nPlease bring a side of your choice to share (salads\, fruits\, vegetables\, etc.) along with lawn games\, chairs/blankets and some friends who aren’t in church. \nSign up here to bring chili and side dishes. \n  \n 
URL:https://www.mercypres.org/event-occurrence/chilifest/
LOCATION:American Legion\, 1301 Greenview Drive\, Lynchburg\, VA\, 24502\, United States
CATEGORIES:Churchwide Events
ATTACH;FMTTYPE=image/jpeg:https://www.mercypres.org/wp-content/uploads/2025/07/download-e1753874774786.jpg
ORGANIZER;CN="Tim Magee":MAILTO:events@mercypres.org
END:VEVENT
BEGIN:VEVENT
DTSTART;TZID=America/New_York:20251026T094500
DTEND;TZID=America/New_York:20251026T104500
DTSTAMP:20260423T194752
CREATED:20251003T115033Z
LAST-MODIFIED:20251006T163511Z
UID:10005510-1761471900-1761475500@www.mercypres.org
SUMMARY:Missions Update
DESCRIPTION:The missions committee is excited to host a fall update from your Mercy missionaries on October 26 during the Sunday School hour. All ages are invited! \nPlease come to learn about what God is doing among the nations. You will hear directly from your missionaries\, and we will share a special time in prayer for each of the ministries the Lord has partnered us with.
URL:https://www.mercypres.org/event-occurrence/missions-fair/
LOCATION:Mercy Presbyterian Church\, 1997 Thomas Jefferson Rd\, Forest\, VA\, 24551\, United States
CATEGORIES:Churchwide Events
ATTACH;FMTTYPE=image/jpeg:https://www.mercypres.org/wp-content/uploads/2025/10/globe-e1759435043929.jpg
ORGANIZER;CN="Sara Driggers":MAILTO:missions@mercypres.org
END:VEVENT
BEGIN:VEVENT
DTSTART;TZID=America/New_York:20251019T180000
DTEND;TZID=America/New_York:20251019T190000
DTSTAMP:20260423T194752
CREATED:20250804T195149Z
LAST-MODIFIED:20250804T195715Z
UID:10003808-1760896800-1760900400@www.mercypres.org
SUMMARY:Mission & Members Class 5
DESCRIPTION:The Mission and Members class is for anyone\, whether new to our church or attending regularly\, who would like to find out more about what we believe as a church and how that shapes our ministry. Even if you are not sure about becoming a member\, we would love for you to come. \nWe offer two Mission & Members classes: one in the fall and one in the spring. Classes meet for 5 weeks. Childcare will be offered as needed. \nRegister here.
URL:https://www.mercypres.org/event-occurrence/mission-members-class-6/
LOCATION:Mercy Presbyterian Church\, 1997 Thomas Jefferson Rd\, Forest\, VA\, 24551\, United States
CATEGORIES:Mission & Members Class
ATTACH;FMTTYPE=image/jpeg:https://www.mercypres.org/wp-content/uploads/2025/07/IMG_8267-e1753986113207.jpg
END:VEVENT
BEGIN:VEVENT
DTSTART;TZID=America/New_York:20251018T080000
DTEND;TZID=America/New_York:20251018T093000
DTSTAMP:20260423T194752
CREATED:20250730T192455Z
LAST-MODIFIED:20251002T194948Z
UID:10003803-1760774400-1760779800@www.mercypres.org
SUMMARY:Men's Pancake Breakfast
DESCRIPTION:Join us for pancakes\, toppings\, coffee\, fruit\, and fellowship.
URL:https://www.mercypres.org/event-occurrence/mens-pancake-breakfast/
LOCATION:VA
CATEGORIES:Men
ATTACH;FMTTYPE=image/jpeg:https://www.mercypres.org/wp-content/uploads/2025/07/15751332572_7a29170563_b-e1753903292445.jpg
ORGANIZER;CN="Nate Fowler":MAILTO:nate.fowler@mercypres.org
END:VEVENT
BEGIN:VEVENT
DTSTART;TZID=America/New_York:20251017T093000
DTEND;TZID=America/New_York:20251017T120000
DTSTAMP:20260423T194752
CREATED:20250904T141903Z
LAST-MODIFIED:20250904T141903Z
UID:10005275-1760693400-1760702400@www.mercypres.org
SUMMARY:Homeschool Fellowship Field Trip
DESCRIPTION:For our October Homeschool Fellowship gathering\, we will be meeting at Thomas Jefferson’s Poplar Forest. \nContact Molly Orr for more information.
URL:https://www.mercypres.org/event-occurrence/homeschool-fellowship-field-trip/
LOCATION:VA
CATEGORIES:Homeschool Fellowship
ATTACH;FMTTYPE=image/jpeg:https://www.mercypres.org/wp-content/uploads/2025/09/poplar-forest-e1756995535521.jpg
ORGANIZER;CN="Molly Orr":MAILTO:silverwordsong@gmail.com
END:VEVENT
BEGIN:VEVENT
DTSTART;TZID=America/New_York:20251005T130000
DTEND;TZID=America/New_York:20251005T143000
DTSTAMP:20260423T194752
CREATED:20250731T185000Z
LAST-MODIFIED:20251029T155438Z
UID:10003811-1759669200-1759674600@www.mercypres.org
SUMMARY:College Lunch
DESCRIPTION:You’re invited to a college student fellowship lunch on the first Sunday of each month from Sept.-May. \nWhen: Following the 2nd service\nWhere: Church Lobby\nWho: College aged students\, friends\, any family as well!
URL:https://www.mercypres.org/event-occurrence/college-lunch/2025-10-05/
LOCATION:Mercy Presbyterian Church\, 1997 Thomas Jefferson Rd\, Forest\, VA\, 24551\, United States
CATEGORIES:College
ATTACH;FMTTYPE=image/jpeg:https://www.mercypres.org/wp-content/uploads/2025/07/college-lunch_-e1753987783157.jpg
ORGANIZER;CN="Scott & Marti Long":MAILTO:snmhlong@yahoo.com
END:VEVENT
BEGIN:VEVENT
DTSTART;TZID=America/New_York:20250928T163000
DTEND;TZID=America/New_York:20250928T183000
DTSTAMP:20260423T194752
CREATED:20250911T171645Z
LAST-MODIFIED:20250911T172912Z
UID:10005276-1759077000-1759084200@www.mercypres.org
SUMMARY:Bedford Plant Info Meeting
DESCRIPTION:Join us Sunday\, Sept. 28\, at 4pm\, to learn more about the Bedford Church plant. We will meet for dinner and discussion at the home of Mike and Emilee Ellsworth. \nAnd mark your calendars for our Bedford plant meetings to be held each 4th Sunday of the month\, at the same time and location. \nQuestions? Contact Richard Brueck.
URL:https://www.mercypres.org/event-occurrence/bedford-plant-info-meeting/
LOCATION:VA
CATEGORIES:Bedford Church Plant
ATTACH;FMTTYPE=image/jpeg:https://www.mercypres.org/wp-content/uploads/2025/09/Bedford-e1757611745181.jpg
ORGANIZER;CN="Richard Brueck":MAILTO:richard.brueck@mercypres.org
END:VEVENT
BEGIN:VEVENT
DTSTART;TZID=America/New_York:20250914T094500
DTEND;TZID=America/New_York:20250914T104500
DTSTAMP:20260423T194752
CREATED:20250809T151405Z
LAST-MODIFIED:20250809T152057Z
UID:10004126-1757843100-1757846700@www.mercypres.org
SUMMARY:Adult SS: Ten Commandments Series Begins
DESCRIPTION:The Ten Commandments\nSept. 14 – Oct. 19\nTaught by: Christopher Miller \nJoin us for our first study of the year. Through our Ten Commandments study\, we’ll consider the importance of a Law in becoming a “People.” We will do this by taking a look at the most-well known Laws in the Bible to see what kind of people God wants His People to be. Each commandment shows the way that God wants His People to relate to Himself\, to each other\, and to the World to establish them as a People.
URL:https://www.mercypres.org/event-occurrence/adult-ss-isaiah-series-begins-2/
LOCATION:Mercy Presbyterian Church\, 1997 Thomas Jefferson Rd\, Forest\, VA\, 24551\, United States
CATEGORIES:Sunday School
ATTACH;FMTTYPE=image/jpeg:https://www.mercypres.org/wp-content/uploads/2025/01/ben-white-W8Qqn1PmQH0-unsplash-scaled-e1754752215401.jpg
ORGANIZER;CN="Christopher Miller":MAILTO:cemiller0@gmail.com
END:VEVENT
BEGIN:VEVENT
DTSTART;TZID=America/New_York:20250907T094500
DTEND;TZID=America/New_York:20250907T104500
DTSTAMP:20260423T194752
CREATED:20250815T164735Z
LAST-MODIFIED:20250815T164822Z
UID:10004232-1757238300-1757241900@www.mercypres.org
SUMMARY:Community Group Fair
DESCRIPTION:Join us for a special Coffee & Community on September 7\, where you’ll have an opportunity to learn about our community groups which resume meeting that week. Group leaders will be available to meet you\, provide information about their first meeting\, and answer questions. More info about each group to come. Children will meet in their Sunday School classes during this time.
URL:https://www.mercypres.org/event-occurrence/community-group-fair/
LOCATION:Mercy Presbyterian Church\, 1997 Thomas Jefferson Rd\, Forest\, VA\, 24551\, United States
CATEGORIES:Churchwide Events
ATTACH;FMTTYPE=image/jpeg:https://www.mercypres.org/wp-content/uploads/2025/08/aerial-e1755276300673.jpg
ORGANIZER;CN="Nate Fowler":MAILTO:nate.fowler@mercypres.org
END:VEVENT
BEGIN:VEVENT
DTSTART;TZID=America/New_York:20250907T094500
DTEND;TZID=America/New_York:20250907T104500
DTSTAMP:20260423T194752
CREATED:20250809T141707Z
LAST-MODIFIED:20250809T192415Z
UID:10004125-1757238300-1757241900@www.mercypres.org
SUMMARY:Children's Sunday School Begins
DESCRIPTION:We look forward to a new year of Sunday School\, from 9:45-10:45am\, beginning September 7. \nIf you have children from age 0* through 5th grade\, please complete this registration form for each child. This will allow us to plan our class rosters and be prepared to serve your children right from the first day. \n*Note: Classes start at age 2. Nursery for ages 0-1 will be offered only if there is need expressed via registration.
URL:https://www.mercypres.org/event-occurrence/childrens-sunday-school-launch/
LOCATION:Mercy Presbyterian Church\, 1997 Thomas Jefferson Rd\, Forest\, VA\, 24551\, United States
CATEGORIES:Sunday School
ATTACH;FMTTYPE=image/png:https://www.mercypres.org/wp-content/uploads/2025/08/css-e1754748982300.png
ORGANIZER;CN="Kate Rigg":MAILTO:katelyn.rigg@gmail.com
END:VEVENT
BEGIN:VEVENT
DTSTART;TZID=America/New_York:20250824T130000
DTEND;TZID=America/New_York:20250824T200000
DTSTAMP:20260423T194752
CREATED:20250731T190459Z
LAST-MODIFIED:20250731T191349Z
UID:10003830-1756040400-1756065600@www.mercypres.org
SUMMARY:Youth Lake Day
DESCRIPTION:Youth Lake Day at the Hall’s house. Leave from the church after 2nd service. Contact Jeremiah Sheets for more info.
URL:https://www.mercypres.org/event-occurrence/youth-lake-day/
LOCATION:VA
CATEGORIES:Youth
ATTACH;FMTTYPE=image/jpeg:https://www.mercypres.org/wp-content/uploads/2025/07/Lake-Day-e1753988679495.jpg
ORGANIZER;CN="Jeremiah Sheets":MAILTO:jeremiah.sheets@mercypres.org
END:VEVENT
END:VCALENDAR