BEGIN:VCALENDAR
VERSION:2.0
PRODID:-//Mercy Presbyterian Church - ECPv6.15.20//NONSGML v1.0//EN
CALSCALE:GREGORIAN
METHOD:PUBLISH
X-ORIGINAL-URL:https://www.mercypres.org
X-WR-CALDESC:Events for Mercy Presbyterian Church
REFRESH-INTERVAL;VALUE=DURATION:PT1H
X-Robots-Tag:noindex
X-PUBLISHED-TTL:PT1H
BEGIN:VTIMEZONE
TZID:America/New_York
BEGIN:DAYLIGHT
TZOFFSETFROM:-0500
TZOFFSETTO:-0400
TZNAME:EDT
DTSTART:20240310T070000
END:DAYLIGHT
BEGIN:STANDARD
TZOFFSETFROM:-0400
TZOFFSETTO:-0500
TZNAME:EST
DTSTART:20241103T060000
END:STANDARD
BEGIN:DAYLIGHT
TZOFFSETFROM:-0500
TZOFFSETTO:-0400
TZNAME:EDT
DTSTART:20250309T070000
END:DAYLIGHT
BEGIN:STANDARD
TZOFFSETFROM:-0400
TZOFFSETTO:-0500
TZNAME:EST
DTSTART:20251102T060000
END:STANDARD
BEGIN:DAYLIGHT
TZOFFSETFROM:-0500
TZOFFSETTO:-0400
TZNAME:EDT
DTSTART:20260308T070000
END:DAYLIGHT
BEGIN:STANDARD
TZOFFSETFROM:-0400
TZOFFSETTO:-0500
TZNAME:EST
DTSTART:20261101T060000
END:STANDARD
END:VTIMEZONE
BEGIN:VEVENT
DTSTART;TZID=America/New_York:20251221T081500
DTEND;TZID=America/New_York:20251221T094500
DTSTAMP:20260423T194429
CREATED:20250730T133232Z
LAST-MODIFIED:20250806T142520Z
UID:10003020-1766304900-1766310300@www.mercypres.org
SUMMARY:Worship (1st Service)
DESCRIPTION:Join us each Sunday for worship at 8:15am.
URL:https://www.mercypres.org/event-occurrence/worship-1st-service-copy/2025-12-21/
LOCATION:Mercy Presbyterian Church\, 1997 Thomas Jefferson Rd\, Forest\, VA\, 24551\, United States
CATEGORIES:Sunday Worship
ATTACH;FMTTYPE=image/jpeg:https://www.mercypres.org/wp-content/uploads/2025/07/worship-e1753882275602.jpg
END:VEVENT
BEGIN:VEVENT
DTSTART;TZID=America/New_York:20251221T094500
DTEND;TZID=America/New_York:20251221T104500
DTSTAMP:20260423T194429
CREATED:20251126T190508Z
LAST-MODIFIED:20251126T190508Z
UID:10005695-1766310300-1766313900@www.mercypres.org
SUMMARY:Christmas Cookie Sunday at Coffee & Community
DESCRIPTION:Bring a batch of your favorite Christmas cookies to share during Coffee & Community on December 21\, from 9:45-10:45am\, in the lobby.
URL:https://www.mercypres.org/event-occurrence/coffee-community-2/
LOCATION:Mercy Presbyterian Church\, 1997 Thomas Jefferson Rd\, Forest\, VA\, 24551\, United States
CATEGORIES:Churchwide Events
ATTACH;FMTTYPE=image/jpeg:https://www.mercypres.org/wp-content/uploads/2025/11/3.jpg
ORGANIZER;CN="Steve Kapusta":MAILTO:stephan.kapusta@gmail.com
END:VEVENT
BEGIN:VEVENT
DTSTART;TZID=America/New_York:20251221T110000
DTEND;TZID=America/New_York:20251221T123000
DTSTAMP:20260423T194429
CREATED:20250730T133214Z
LAST-MODIFIED:20250806T142258Z
UID:10002697-1766314800-1766320200@www.mercypres.org
SUMMARY:Worship (2nd Service)
DESCRIPTION:Join us each Sunday for worship at 11:00am.
URL:https://www.mercypres.org/event-occurrence/worship-1st-service/2025-12-21/
LOCATION:Mercy Presbyterian Church\, 1997 Thomas Jefferson Rd\, Forest\, VA\, 24551\, United States
CATEGORIES:Sunday Worship
ATTACH;FMTTYPE=image/jpeg:https://www.mercypres.org/wp-content/uploads/2025/07/worship-e1753882275602.jpg
END:VEVENT
BEGIN:VEVENT
DTSTART;TZID=America/New_York:20251224T183000
DTEND;TZID=America/New_York:20251224T193000
DTSTAMP:20260423T194429
CREATED:20251008T135558Z
LAST-MODIFIED:20251126T184432Z
UID:10005513-1766601000-1766604600@www.mercypres.org
SUMMARY:Christmas Eve Service
DESCRIPTION:Our annual Lessons and Carols service will be held on Christmas Eve. The Service of Lessons and Carols is a traditional Christmas worship service reminding us that throughout Scripture there is one story\, with one major theme\, that centers on one character\, Jesus the Christ.
URL:https://www.mercypres.org/event-occurrence/christmas-eve-service/
LOCATION:Mercy Presbyterian Church\, 1997 Thomas Jefferson Rd\, Forest\, VA\, 24551\, United States
CATEGORIES:Misc.
ATTACH;FMTTYPE=image/jpeg:https://www.mercypres.org/wp-content/uploads/2025/11/1.jpg
END:VEVENT
END:VCALENDAR