BEGIN:VCALENDAR
VERSION:2.0
PRODID:-//Mercy Presbyterian Church - ECPv6.15.20//NONSGML v1.0//EN
CALSCALE:GREGORIAN
METHOD:PUBLISH
X-ORIGINAL-URL:https://www.mercypres.org
X-WR-CALDESC:Events for Mercy Presbyterian Church
REFRESH-INTERVAL;VALUE=DURATION:PT1H
X-Robots-Tag:noindex
X-PUBLISHED-TTL:PT1H
BEGIN:VTIMEZONE
TZID:America/New_York
BEGIN:DAYLIGHT
TZOFFSETFROM:-0500
TZOFFSETTO:-0400
TZNAME:EDT
DTSTART:20250309T070000
END:DAYLIGHT
BEGIN:STANDARD
TZOFFSETFROM:-0400
TZOFFSETTO:-0500
TZNAME:EST
DTSTART:20251102T060000
END:STANDARD
BEGIN:DAYLIGHT
TZOFFSETFROM:-0500
TZOFFSETTO:-0400
TZNAME:EDT
DTSTART:20260308T070000
END:DAYLIGHT
BEGIN:STANDARD
TZOFFSETFROM:-0400
TZOFFSETTO:-0500
TZNAME:EST
DTSTART:20261101T060000
END:STANDARD
BEGIN:DAYLIGHT
TZOFFSETFROM:-0500
TZOFFSETTO:-0400
TZNAME:EDT
DTSTART:20270314T070000
END:DAYLIGHT
BEGIN:STANDARD
TZOFFSETFROM:-0400
TZOFFSETTO:-0500
TZNAME:EST
DTSTART:20271107T060000
END:STANDARD
END:VTIMEZONE
BEGIN:VTIMEZONE
TZID:UTC
BEGIN:STANDARD
TZOFFSETFROM:+0000
TZOFFSETTO:+0000
TZNAME:UTC
DTSTART:20250101T000000
END:STANDARD
END:VTIMEZONE
BEGIN:VEVENT
DTSTART;TZID=America/New_York:20260215T081500
DTEND;TZID=America/New_York:20260215T094500
DTSTAMP:20260423T160102
CREATED:20250730T133232Z
LAST-MODIFIED:20250806T142520Z
UID:10003028-1771143300-1771148700@www.mercypres.org
SUMMARY:Worship (1st Service)
DESCRIPTION:Join us each Sunday for worship at 8:15am.
URL:https://www.mercypres.org/event-occurrence/worship-1st-service-copy/2026-02-15/
LOCATION:Mercy Presbyterian Church\, 1997 Thomas Jefferson Rd\, Forest\, VA\, 24551\, United States
CATEGORIES:Sunday Worship
ATTACH;FMTTYPE=image/jpeg:https://www.mercypres.org/wp-content/uploads/2025/07/worship-e1753882275602.jpg
END:VEVENT
BEGIN:VEVENT
DTSTART;TZID=UTC:20260215T094500
DTEND;TZID=UTC:20260215T104500
DTSTAMP:20260423T160102
CREATED:20260206T021401Z
LAST-MODIFIED:20260211T135645Z
UID:10003570-1771148700-1771152300@www.mercypres.org
SUMMARY:Sunday School
DESCRIPTION:For more information about Sunday School for the whole family\, see MercyPres.org/Sunday-School.
URL:https://www.mercypres.org/event-occurrence/ss-2/2026-02-15/
LOCATION:Mercy Presbyterian Church\, 1997 Thomas Jefferson Rd\, Forest\, VA\, 24551\, United States
CATEGORIES:Sunday School
ATTACH;FMTTYPE=image/jpeg:https://www.mercypres.org/wp-content/uploads/2026/02/Sunday-School.jpg
ORGANIZER;CN="Kate Rigg":MAILTO:katelyn.rigg@gmail.com
END:VEVENT
BEGIN:VEVENT
DTSTART;TZID=UTC:20260215T100000
DTEND;TZID=UTC:20260215T103000
DTSTAMP:20260423T160102
CREATED:20250911T175338Z
LAST-MODIFIED:20251001T153742Z
UID:10005454-1771149600-1771151400@www.mercypres.org
SUMMARY:Special Needs Prayer
DESCRIPTION:Any and all are welcome to join us in the counseling office as we pray together and lift up those in our congregation touched by disability.
URL:https://www.mercypres.org/event-occurrence/special-needs-prayer-2/2026-02-15/
LOCATION:Mercy Presbyterian Church\, 1997 Thomas Jefferson Rd\, Forest\, VA\, 24551\, United States
CATEGORIES:Prayer
ATTACH;FMTTYPE=image/webp:https://www.mercypres.org/wp-content/uploads/2025/07/prayer-e1753835337595.webp
ORGANIZER;CN="Meagan Johnston":MAILTO:mLwhee2@gmail.com
END:VEVENT
BEGIN:VEVENT
DTSTART;TZID=America/New_York:20260215T110000
DTEND;TZID=America/New_York:20260215T123000
DTSTAMP:20260423T160102
CREATED:20250730T133214Z
LAST-MODIFIED:20250806T142258Z
UID:10002705-1771153200-1771158600@www.mercypres.org
SUMMARY:Worship (2nd Service)
DESCRIPTION:Join us each Sunday for worship at 11:00am.
URL:https://www.mercypres.org/event-occurrence/worship-1st-service/2026-02-15/
LOCATION:Mercy Presbyterian Church\, 1997 Thomas Jefferson Rd\, Forest\, VA\, 24551\, United States
CATEGORIES:Sunday Worship
ATTACH;FMTTYPE=image/jpeg:https://www.mercypres.org/wp-content/uploads/2025/07/worship-e1753882275602.jpg
END:VEVENT
BEGIN:VEVENT
DTSTART;TZID=America/New_York:20260216T190000
DTEND;TZID=America/New_York:20260216T203000
DTSTAMP:20260423T160102
CREATED:20251211T150439Z
LAST-MODIFIED:20251211T150439Z
UID:10005727-1771268400-1771273800@www.mercypres.org
SUMMARY:Women's Bible Study (Bedford)
DESCRIPTION:Our Women’s Bible Studies are studying the book of Deuteronomy with W. Robert Godfrey’s Discovering Deuteronomy video teaching series and study guide. \nClick here to register for a women’s Bible study. \nGroups will meet for 10-11 weeks at the following times & locations: \n\nMonday evenings\, 7 – 8:30 pm\, virtual\nPOC: Kimberly Hall\nMonday evenings\, 7 – 8:30 pm\, in-person at Erica Fox’s home (Bedford)\nPOC: Erica Fox\nWednesday evenings\, 6:30-8:15 pm\, in-person at Mercy\nPOC: Melanie Merkle\nThursday mornings\, 9:30-11:30 am\, in-person at Mercy\n  Childcare provided\n  POC: Marti Long\n\nThe study guide can be purchased online from various retailers like Ligonier and Amazon.
URL:https://www.mercypres.org/event-occurrence/womens-bible-study-bedford-2/2026-02-16/
LOCATION:Bedford\, Bedford\, VA\, United States
CATEGORIES:Women
ATTACH;FMTTYPE=image/jpeg:https://www.mercypres.org/wp-content/uploads/2025/08/bedford-e1754923935364.jpg
ORGANIZER;CN="Erica Fox":MAILTO:ericamfox28@gmail.com
END:VEVENT
BEGIN:VEVENT
DTSTART;TZID=America/New_York:20260216T190000
DTEND;TZID=America/New_York:20260216T203000
DTSTAMP:20260423T160102
CREATED:20251211T150615Z
LAST-MODIFIED:20251211T150615Z
UID:10005751-1771268400-1771273800@www.mercypres.org
SUMMARY:Women's Bible Study (virtual)
DESCRIPTION:Our Women’s Bible Studies are studying the book of Deuteronomy with W. Robert Godfrey’s Discovering Deuteronomy video teaching series and study guide. \nClick here to register for a women’s Bible study. \nGroups will meet for 10-11 weeks at the following times & locations: \n\nMonday evenings\, 7 – 8:30 pm\, virtual\nPOC: Kimberly Hall\nMonday evenings\, 7 – 8:30 pm\, in-person at Erica Fox’s home (Bedford)\nPOC: Erica Fox\nWednesday evenings\, 6:30-8:15 pm\, in-person at Mercy\nPOC: Melanie Merkle\nThursday mornings\, 9:30-11:30 am\, in-person at Mercy\n  Childcare provided\n  POC: Marti Long\n\nThe study guide can be purchased online from various retailers like Ligonier and Amazon.
URL:https://www.mercypres.org/event-occurrence/womens-bible-study-virtual-2/2026-02-16/
LOCATION:Virtual
CATEGORIES:Women
ATTACH;FMTTYPE=image/png:https://www.mercypres.org/wp-content/uploads/2025/01/Community-1-e1753147098578.png
ORGANIZER;CN="Kimberly Hall":MAILTO:sml.kimberly@icloud.com
END:VEVENT
BEGIN:VEVENT
DTSTART;TZID=America/New_York:20260217T063000
DTEND;TZID=America/New_York:20260217T080000
DTSTAMP:20260423T160102
CREATED:20250827T135855Z
LAST-MODIFIED:20250827T140326Z
UID:10005030-1771309800-1771315200@www.mercypres.org
SUMMARY:Men's Study Group (morning)
DESCRIPTION:Join us for a weekly men’s Bible study on Tuesday mornings. \n  \nContact:\nDick Bitzer
URL:https://www.mercypres.org/event-occurrence/mens-study-group-morning/2026-02-17/
LOCATION:Mercy Presbyterian Church\, 1997 Thomas Jefferson Rd\, Forest\, VA\, 24551\, United States
CATEGORIES:Men
ATTACH;FMTTYPE=image/jpeg:https://www.mercypres.org/wp-content/uploads/2025/08/website-event-image.jpg
ORGANIZER;CN="Dick Bitzer":MAILTO:dlbitzer08@gmail.com
END:VEVENT
BEGIN:VEVENT
DTSTART;TZID=America/New_York:20260217T193000
DTEND;TZID=America/New_York:20260217T210000
DTSTAMP:20260423T160102
CREATED:20250812T133949Z
LAST-MODIFIED:20250925T131638Z
UID:10004222-1771356600-1771362000@www.mercypres.org
SUMMARY:Reformed University Fellowship
DESCRIPTION:
URL:https://www.mercypres.org/event-occurrence/reformed-university-fellowship/2026-02-17/
LOCATION:VA
CATEGORIES:College
ATTACH;FMTTYPE=image/jpeg:https://www.mercypres.org/wp-content/uploads/2025/08/LU-e1755005978340.jpg
END:VEVENT
BEGIN:VEVENT
DTSTART;TZID=America/New_York:20260218T093000
DTEND;TZID=America/New_York:20260218T110000
DTSTAMP:20260423T160102
CREATED:20260126T170951Z
LAST-MODIFIED:20260220T010736Z
UID:10005829-1771407000-1771412400@www.mercypres.org
SUMMARY:Moms of Littles Meetup
DESCRIPTION:Moms of Littles\, please join us for a casual hang out in the church nursery on the 1st and 3rd Wednesdays of the month\, from 9:30-11am\, through May 6. This will be a time for kiddos to play with toys together and moms to enjoy some fellowship.
URL:https://www.mercypres.org/event-occurrence/moms-of-littles-meetup/2026-02-18/
LOCATION:Mercy Presbyterian Church\, 1997 Thomas Jefferson Rd\, Forest\, VA\, 24551\, United States
CATEGORIES:Women
ATTACH;FMTTYPE=image/jpeg:https://www.mercypres.org/wp-content/uploads/2026/01/moms-meetup.jpg
ORGANIZER;CN="Hannah Shelley":MAILTO:Hannahshelley2023@gmail.com
END:VEVENT
BEGIN:VEVENT
DTSTART;TZID=UTC:20260218T183000
DTEND;TZID=UTC:20260218T201500
DTSTAMP:20260423T160102
CREATED:20250130T012917Z
LAST-MODIFIED:20250926T000446Z
UID:10003315-1771439400-1771445700@www.mercypres.org
SUMMARY:Youth Group
DESCRIPTION:Our student ministry exists to gather young people from the Forest area and to disciple them to bear the image of Christ. Youth Group meets most Wednesday nights at 6:30pm in the Youth Room.
URL:https://www.mercypres.org/event-occurrence/youth-group/2026-02-18/
LOCATION:Mercy Presbyterian Church\, 1997 Thomas Jefferson Rd\, Forest\, VA\, 24551\, United States
CATEGORIES:Youth
ATTACH;FMTTYPE=image/png:https://www.mercypres.org/wp-content/uploads/2025/01/Youth-e1753905588668.png
ORGANIZER;CN="Jeremiah Sheets":MAILTO:jeremiah.sheets@mercypres.org
END:VEVENT
BEGIN:VEVENT
DTSTART;TZID=America/New_York:20260218T183000
DTEND;TZID=America/New_York:20260218T201500
DTSTAMP:20260423T160102
CREATED:20251211T150709Z
LAST-MODIFIED:20251211T150833Z
UID:10005779-1771439400-1771445700@www.mercypres.org
SUMMARY:Women's Bible Study (evening)
DESCRIPTION:Our Women’s Bible Studies are studying the book of Deuteronomy with W. Robert Godfrey’s Discovering Deuteronomy video teaching series and study guide. \nClick here to register for a women’s Bible study. \nGroups will meet for 10-11 weeks at the following times & locations: \n\nMonday evenings\, 7 – 8:30 pm\, virtual\nContact: Kimberly Hall\nMonday evenings\, 7 – 8:30 pm\, in-person at Erica Fox’s home (Bedford)\nContact: Erica Fox\nWednesday evenings\, 6:30-8:15 pm\, in-person at Mercy\nContact: Melanie Merkle\nThursday mornings\, 9:30-11:30 am\, in-person at Mercy\nChildcare provided\nContact: Marti Long\n\nThe study guide can be purchased online from various retailers like Ligonier and Amazon.
URL:https://www.mercypres.org/event-occurrence/womens-bible-study-evening/2026-02-18/
LOCATION:Mercy Presbyterian Church\, 1997 Thomas Jefferson Rd\, Forest\, VA\, 24551\, United States
CATEGORIES:Women
ATTACH;FMTTYPE=image/png:https://www.mercypres.org/wp-content/uploads/2025/01/Community-e1754930328627.png
ORGANIZER;CN="Melanie Merkle":MAILTO:mvmerkle@gmail.com
END:VEVENT
BEGIN:VEVENT
DTSTART;TZID=America/New_York:20260218T190000
DTEND;TZID=America/New_York:20260218T203000
DTSTAMP:20260423T160102
CREATED:20250827T134554Z
LAST-MODIFIED:20251118T152853Z
UID:10004515-1771441200-1771446600@www.mercypres.org
SUMMARY:Men's Study Group (evening)
DESCRIPTION:We have 2 men’s groups meeting on Wednesday evenings: \n\n2nd and 4th Wed.\, 7pm\nEast Home\nJohn East (john.east@mercypres.org) \n\n1st and 3rd Wed.\, 7pm\nMercy\nScott Robinson (scott.robinson@mercypres.org) \n 
URL:https://www.mercypres.org/event-occurrence/mens-study-group-evening/2026-02-18/
LOCATION:VA
CATEGORIES:Men
ATTACH;FMTTYPE=image/jpeg:https://www.mercypres.org/wp-content/uploads/2025/08/mens-4-e1755287285514.jpg
END:VEVENT
BEGIN:VEVENT
DTSTART;TZID=America/New_York:20260219T070000
DTEND;TZID=America/New_York:20260219T080000
DTSTAMP:20260423T160102
CREATED:20250815T202120Z
LAST-MODIFIED:20260305T192035Z
UID:10004258-1771484400-1771488000@www.mercypres.org
SUMMARY:Prayer Meeting
DESCRIPTION:Everyone is invited to our weekly prayer gathering. During our time together\, we open with a time of Adoration and Confession\, followed by prayers of Thanksgiving and Supplication\, using the Mercy prayer needs list as a guide. No one is ever required to pray aloud\, so feel free to simply come and pray quietly with us if you prefer.
URL:https://www.mercypres.org/event-occurrence/prayer-meeting/2026-02-19/
LOCATION:Mercy Presbyterian Church\, 1997 Thomas Jefferson Rd\, Forest\, VA\, 24551\, United States
CATEGORIES:Prayer
ATTACH;FMTTYPE=image/jpeg:https://www.mercypres.org/wp-content/uploads/2025/08/website-event-image-1.jpg
ORGANIZER;CN="Karen Woodall":MAILTO:kwoodall23@juno.com
END:VEVENT
BEGIN:VEVENT
DTSTART;TZID=America/New_York:20260219T093000
DTEND;TZID=America/New_York:20260219T111500
DTSTAMP:20260423T160102
CREATED:20251211T151111Z
LAST-MODIFIED:20251211T151111Z
UID:10005802-1771493400-1771499700@www.mercypres.org
SUMMARY:Women's Bible Study (morning)
DESCRIPTION:Our Women’s Bible Studies are studying the book of Deuteronomy with W. Robert Godfrey’s Discovering Deuteronomy video teaching series and study guide. \nClick here to register for a women’s Bible study. \n  \n\nMonday evenings\, 7 – 8:30 pm\, virtual\nPOC: Kimberly Hall\nMonday evenings\, 7 – 8:30 pm\, in-person at Erica Fox’s home (Bedford)\nPOC: Erica Fox\nWednesday evenings\, 6:30-8:15 pm\, in-person at Mercy\nPOC: Melanie Merkle\nThursday mornings\, 9:30-11:30 am\, in-person at Mercy\nChildcare provided\nPOC: Marti Long\n\nThe study guide can be purchased online from various retailers like Ligonier and Amazon.
URL:https://www.mercypres.org/event-occurrence/womens-bible-study-morning/2026-02-19/
LOCATION:Mercy Presbyterian Church\, 1997 Thomas Jefferson Rd\, Forest\, VA\, 24551\, United States
CATEGORIES:Women
ATTACH;FMTTYPE=image/png:https://www.mercypres.org/wp-content/uploads/2025/01/Community-2-e1753146821577.png
ORGANIZER;CN="Marti Long":MAILTO:snmhlong@yahoo.com
END:VEVENT
BEGIN:VEVENT
DTSTART;TZID=America/New_York:20260220T100000
DTEND;TZID=America/New_York:20260220T120000
DTSTAMP:20260423T160102
CREATED:20250904T140701Z
LAST-MODIFIED:20250904T140701Z
UID:10005271-1771581600-1771588800@www.mercypres.org
SUMMARY:Homeschool Fellowship
DESCRIPTION:Homeschool families of Mercy are invited to a monthly fellowship gathering. We usually meet on the third Friday of each month\, from 10am-12pm; however\, some months we take a field trip\, in which case dates/times/locations are subject to change. \nContact Katelin Hobson to be added to the communication group\, where updates about each month’s gathering are shared.
URL:https://www.mercypres.org/event-occurrence/homeschool-fellowship-2/2026-02-20/
LOCATION:Mercy Presbyterian Church\, 1997 Thomas Jefferson Rd\, Forest\, VA\, 24551\, United States
CATEGORIES:Homeschool Fellowship
ATTACH;FMTTYPE=image/jpeg:https://www.mercypres.org/wp-content/uploads/2025/09/HS-Fell-e1756994733766.jpg
ORGANIZER;CN="Katelin Hobson":MAILTO:kmhobson@protonmail.com
END:VEVENT
BEGIN:VEVENT
DTSTART;TZID=America/New_York:20260221T090000
DTEND;TZID=America/New_York:20260221T110000
DTSTAMP:20260423T160102
CREATED:20260120T144213Z
LAST-MODIFIED:20260304T172513Z
UID:10005881-1771664400-1771671600@www.mercypres.org
SUMMARY:GriefShare
DESCRIPTION:13-week program | Begins February 14\n\n\n\n\nGrief can feel overwhelming\, confusing\, and lonely. The GriefShare Grief Support Group at Mercy Presbyterian Church offers a safe and caring place to find help\, hope\, and understanding after the loss of a loved one. \nGriefShare is a 13-week grief support program for people who have experienced the death of a family member or friend. Each session provides guidance\, encouragement\, and a supportive community where you can heal at your own pace. \nGrief does not follow a set timeline. In this group\, you will learn what is normal in grief\, what to expect in the weeks ahead\, and healthy ways to cope with grief as it changes over time. \n\n\nMore Info: MercyPres.org/GriefShare\nRegister: Click Here
URL:https://www.mercypres.org/event-occurrence/griefshare-start-date/2026-02-21/
LOCATION:Mercy Presbyterian Church\, 1997 Thomas Jefferson Rd\, Forest\, VA\, 24551\, United States
CATEGORIES:Misc.
ATTACH;FMTTYPE=image/jpeg:https://www.mercypres.org/wp-content/uploads/2026/01/4.jpg
END:VEVENT
END:VCALENDAR