BEGIN:VCALENDAR
VERSION:2.0
PRODID:-//Mercy Presbyterian Church - ECPv6.15.20//NONSGML v1.0//EN
CALSCALE:GREGORIAN
METHOD:PUBLISH
X-ORIGINAL-URL:https://www.mercypres.org
X-WR-CALDESC:Events for Mercy Presbyterian Church
REFRESH-INTERVAL;VALUE=DURATION:PT1H
X-Robots-Tag:noindex
X-PUBLISHED-TTL:PT1H
BEGIN:VTIMEZONE
TZID:America/New_York
BEGIN:DAYLIGHT
TZOFFSETFROM:-0500
TZOFFSETTO:-0400
TZNAME:EDT
DTSTART:20250309T070000
END:DAYLIGHT
BEGIN:STANDARD
TZOFFSETFROM:-0400
TZOFFSETTO:-0500
TZNAME:EST
DTSTART:20251102T060000
END:STANDARD
BEGIN:DAYLIGHT
TZOFFSETFROM:-0500
TZOFFSETTO:-0400
TZNAME:EDT
DTSTART:20260308T070000
END:DAYLIGHT
BEGIN:STANDARD
TZOFFSETFROM:-0400
TZOFFSETTO:-0500
TZNAME:EST
DTSTART:20261101T060000
END:STANDARD
BEGIN:DAYLIGHT
TZOFFSETFROM:-0500
TZOFFSETTO:-0400
TZNAME:EDT
DTSTART:20270314T070000
END:DAYLIGHT
BEGIN:STANDARD
TZOFFSETFROM:-0400
TZOFFSETTO:-0500
TZNAME:EST
DTSTART:20271107T060000
END:STANDARD
END:VTIMEZONE
BEGIN:VTIMEZONE
TZID:UTC
BEGIN:STANDARD
TZOFFSETFROM:+0000
TZOFFSETTO:+0000
TZNAME:UTC
DTSTART:20250101T000000
END:STANDARD
END:VTIMEZONE
BEGIN:VEVENT
DTSTART;TZID=America/New_York:20260222T081500
DTEND;TZID=America/New_York:20260222T094500
DTSTAMP:20260423T143506
CREATED:20250730T133232Z
LAST-MODIFIED:20250806T142520Z
UID:10003029-1771748100-1771753500@www.mercypres.org
SUMMARY:Worship (1st Service)
DESCRIPTION:Join us each Sunday for worship at 8:15am.
URL:https://www.mercypres.org/event-occurrence/worship-1st-service-copy/2026-02-22/
LOCATION:Mercy Presbyterian Church\, 1997 Thomas Jefferson Rd\, Forest\, VA\, 24551\, United States
CATEGORIES:Sunday Worship
ATTACH;FMTTYPE=image/jpeg:https://www.mercypres.org/wp-content/uploads/2025/07/worship-e1753882275602.jpg
END:VEVENT
BEGIN:VEVENT
DTSTART;TZID=UTC:20260222T094500
DTEND;TZID=UTC:20260222T104500
DTSTAMP:20260423T143506
CREATED:20260206T021401Z
LAST-MODIFIED:20260211T135645Z
UID:10003571-1771753500-1771757100@www.mercypres.org
SUMMARY:Sunday School
DESCRIPTION:For more information about Sunday School for the whole family\, see MercyPres.org/Sunday-School.
URL:https://www.mercypres.org/event-occurrence/ss-2/2026-02-22/
LOCATION:Mercy Presbyterian Church\, 1997 Thomas Jefferson Rd\, Forest\, VA\, 24551\, United States
CATEGORIES:Sunday School
ATTACH;FMTTYPE=image/jpeg:https://www.mercypres.org/wp-content/uploads/2026/02/Sunday-School.jpg
ORGANIZER;CN="Kate Rigg":MAILTO:katelyn.rigg@gmail.com
END:VEVENT
BEGIN:VEVENT
DTSTART;TZID=America/New_York:20260222T110000
DTEND;TZID=America/New_York:20260222T123000
DTSTAMP:20260423T143506
CREATED:20250730T133214Z
LAST-MODIFIED:20250806T142258Z
UID:10002706-1771758000-1771763400@www.mercypres.org
SUMMARY:Worship (2nd Service)
DESCRIPTION:Join us each Sunday for worship at 11:00am.
URL:https://www.mercypres.org/event-occurrence/worship-1st-service/2026-02-22/
LOCATION:Mercy Presbyterian Church\, 1997 Thomas Jefferson Rd\, Forest\, VA\, 24551\, United States
CATEGORIES:Sunday Worship
ATTACH;FMTTYPE=image/jpeg:https://www.mercypres.org/wp-content/uploads/2025/07/worship-e1753882275602.jpg
END:VEVENT
BEGIN:VEVENT
DTSTART;TZID=America/New_York:20260223T173000
DTEND;TZID=America/New_York:20260223T203000
DTSTAMP:20260423T143506
CREATED:20260126T171337Z
LAST-MODIFIED:20260126T171349Z
UID:10005830-1771867800-1771878600@www.mercypres.org
SUMMARY:Women's Soup & Sourdough
DESCRIPTION:Soup and Sourdough: Monday\, February 23\, 5:30-8:30 pm\, at the Moss Home.  \nJoin us for an easy meal and to learn more about all things sourdough with Ashlee Granger. Ask questions\, get feedback\, and be inspired! Feel free to bring a sourdough creation to share or trade.  \nFor more info or to RSVP contact Dona Moss (view in directory). 
URL:https://www.mercypres.org/event-occurrence/womens-soup-sourdough/
LOCATION:Mercy Presbyterian Church\, 1997 Thomas Jefferson Rd\, Forest\, VA\, 24551\, United States
CATEGORIES:Women
ATTACH;FMTTYPE=image/jpeg:https://www.mercypres.org/wp-content/uploads/2026/01/sourdough.jpg
ORGANIZER;CN="Dona Moss":MAILTO:donacmoss@gmail.com
END:VEVENT
BEGIN:VEVENT
DTSTART;TZID=America/New_York:20260223T190000
DTEND;TZID=America/New_York:20260223T203000
DTSTAMP:20260423T143506
CREATED:20251211T150439Z
LAST-MODIFIED:20251211T150439Z
UID:10005728-1771873200-1771878600@www.mercypres.org
SUMMARY:Women's Bible Study (Bedford)
DESCRIPTION:Our Women’s Bible Studies are studying the book of Deuteronomy with W. Robert Godfrey’s Discovering Deuteronomy video teaching series and study guide. \nClick here to register for a women’s Bible study. \nGroups will meet for 10-11 weeks at the following times & locations: \n\nMonday evenings\, 7 – 8:30 pm\, virtual\nPOC: Kimberly Hall\nMonday evenings\, 7 – 8:30 pm\, in-person at Erica Fox’s home (Bedford)\nPOC: Erica Fox\nWednesday evenings\, 6:30-8:15 pm\, in-person at Mercy\nPOC: Melanie Merkle\nThursday mornings\, 9:30-11:30 am\, in-person at Mercy\n  Childcare provided\n  POC: Marti Long\n\nThe study guide can be purchased online from various retailers like Ligonier and Amazon.
URL:https://www.mercypres.org/event-occurrence/womens-bible-study-bedford-2/2026-02-23/
LOCATION:Bedford\, Bedford\, VA\, United States
CATEGORIES:Women
ATTACH;FMTTYPE=image/jpeg:https://www.mercypres.org/wp-content/uploads/2025/08/bedford-e1754923935364.jpg
ORGANIZER;CN="Erica Fox":MAILTO:ericamfox28@gmail.com
END:VEVENT
BEGIN:VEVENT
DTSTART;TZID=America/New_York:20260223T190000
DTEND;TZID=America/New_York:20260223T203000
DTSTAMP:20260423T143506
CREATED:20251211T150615Z
LAST-MODIFIED:20251211T150615Z
UID:10005752-1771873200-1771878600@www.mercypres.org
SUMMARY:Women's Bible Study (virtual)
DESCRIPTION:Our Women’s Bible Studies are studying the book of Deuteronomy with W. Robert Godfrey’s Discovering Deuteronomy video teaching series and study guide. \nClick here to register for a women’s Bible study. \nGroups will meet for 10-11 weeks at the following times & locations: \n\nMonday evenings\, 7 – 8:30 pm\, virtual\nPOC: Kimberly Hall\nMonday evenings\, 7 – 8:30 pm\, in-person at Erica Fox’s home (Bedford)\nPOC: Erica Fox\nWednesday evenings\, 6:30-8:15 pm\, in-person at Mercy\nPOC: Melanie Merkle\nThursday mornings\, 9:30-11:30 am\, in-person at Mercy\n  Childcare provided\n  POC: Marti Long\n\nThe study guide can be purchased online from various retailers like Ligonier and Amazon.
URL:https://www.mercypres.org/event-occurrence/womens-bible-study-virtual-2/2026-02-23/
LOCATION:Virtual
CATEGORIES:Women
ATTACH;FMTTYPE=image/png:https://www.mercypres.org/wp-content/uploads/2025/01/Community-1-e1753147098578.png
ORGANIZER;CN="Kimberly Hall":MAILTO:sml.kimberly@icloud.com
END:VEVENT
BEGIN:VEVENT
DTSTART;TZID=America/New_York:20260224T063000
DTEND;TZID=America/New_York:20260224T080000
DTSTAMP:20260423T143506
CREATED:20250827T135855Z
LAST-MODIFIED:20250827T140326Z
UID:10005031-1771914600-1771920000@www.mercypres.org
SUMMARY:Men's Study Group (morning)
DESCRIPTION:Join us for a weekly men’s Bible study on Tuesday mornings. \n  \nContact:\nDick Bitzer
URL:https://www.mercypres.org/event-occurrence/mens-study-group-morning/2026-02-24/
LOCATION:Mercy Presbyterian Church\, 1997 Thomas Jefferson Rd\, Forest\, VA\, 24551\, United States
CATEGORIES:Men
ATTACH;FMTTYPE=image/jpeg:https://www.mercypres.org/wp-content/uploads/2025/08/website-event-image.jpg
ORGANIZER;CN="Dick Bitzer":MAILTO:dlbitzer08@gmail.com
END:VEVENT
BEGIN:VEVENT
DTSTART;TZID=America/New_York:20260224T193000
DTEND;TZID=America/New_York:20260224T210000
DTSTAMP:20260423T143506
CREATED:20250812T133949Z
LAST-MODIFIED:20250925T131638Z
UID:10004223-1771961400-1771966800@www.mercypres.org
SUMMARY:Reformed University Fellowship
DESCRIPTION:
URL:https://www.mercypres.org/event-occurrence/reformed-university-fellowship/2026-02-24/
LOCATION:VA
CATEGORIES:College
ATTACH;FMTTYPE=image/jpeg:https://www.mercypres.org/wp-content/uploads/2025/08/LU-e1755005978340.jpg
END:VEVENT
BEGIN:VEVENT
DTSTART;TZID=UTC:20260225T183000
DTEND;TZID=UTC:20260225T201500
DTSTAMP:20260423T143506
CREATED:20250130T012917Z
LAST-MODIFIED:20250926T000446Z
UID:10003316-1772044200-1772050500@www.mercypres.org
SUMMARY:Youth Group
DESCRIPTION:Our student ministry exists to gather young people from the Forest area and to disciple them to bear the image of Christ. Youth Group meets most Wednesday nights at 6:30pm in the Youth Room.
URL:https://www.mercypres.org/event-occurrence/youth-group/2026-02-25/
LOCATION:Mercy Presbyterian Church\, 1997 Thomas Jefferson Rd\, Forest\, VA\, 24551\, United States
CATEGORIES:Youth
ATTACH;FMTTYPE=image/png:https://www.mercypres.org/wp-content/uploads/2025/01/Youth-e1753905588668.png
ORGANIZER;CN="Jeremiah Sheets":MAILTO:jeremiah.sheets@mercypres.org
END:VEVENT
BEGIN:VEVENT
DTSTART;TZID=America/New_York:20260225T183000
DTEND;TZID=America/New_York:20260225T201500
DTSTAMP:20260423T143506
CREATED:20251211T150709Z
LAST-MODIFIED:20251211T150833Z
UID:10005780-1772044200-1772050500@www.mercypres.org
SUMMARY:Women's Bible Study (evening)
DESCRIPTION:Our Women’s Bible Studies are studying the book of Deuteronomy with W. Robert Godfrey’s Discovering Deuteronomy video teaching series and study guide. \nClick here to register for a women’s Bible study. \nGroups will meet for 10-11 weeks at the following times & locations: \n\nMonday evenings\, 7 – 8:30 pm\, virtual\nContact: Kimberly Hall\nMonday evenings\, 7 – 8:30 pm\, in-person at Erica Fox’s home (Bedford)\nContact: Erica Fox\nWednesday evenings\, 6:30-8:15 pm\, in-person at Mercy\nContact: Melanie Merkle\nThursday mornings\, 9:30-11:30 am\, in-person at Mercy\nChildcare provided\nContact: Marti Long\n\nThe study guide can be purchased online from various retailers like Ligonier and Amazon.
URL:https://www.mercypres.org/event-occurrence/womens-bible-study-evening/2026-02-25/
LOCATION:Mercy Presbyterian Church\, 1997 Thomas Jefferson Rd\, Forest\, VA\, 24551\, United States
CATEGORIES:Women
ATTACH;FMTTYPE=image/png:https://www.mercypres.org/wp-content/uploads/2025/01/Community-e1754930328627.png
ORGANIZER;CN="Melanie Merkle":MAILTO:mvmerkle@gmail.com
END:VEVENT
BEGIN:VEVENT
DTSTART;TZID=America/New_York:20260225T190000
DTEND;TZID=America/New_York:20260225T203000
DTSTAMP:20260423T143506
CREATED:20250827T134554Z
LAST-MODIFIED:20251118T152853Z
UID:10004516-1772046000-1772051400@www.mercypres.org
SUMMARY:Men's Study Group (evening)
DESCRIPTION:We have 2 men’s groups meeting on Wednesday evenings: \n\n2nd and 4th Wed.\, 7pm\nEast Home\nJohn East (john.east@mercypres.org) \n\n1st and 3rd Wed.\, 7pm\nMercy\nScott Robinson (scott.robinson@mercypres.org) \n 
URL:https://www.mercypres.org/event-occurrence/mens-study-group-evening/2026-02-25/
LOCATION:VA
CATEGORIES:Men
ATTACH;FMTTYPE=image/jpeg:https://www.mercypres.org/wp-content/uploads/2025/08/mens-4-e1755287285514.jpg
END:VEVENT
BEGIN:VEVENT
DTSTART;VALUE=DATE:20260226
DTEND;VALUE=DATE:20260301
DTSTAMP:20260423T143506
CREATED:20251105T012851Z
LAST-MODIFIED:20260105T213008Z
UID:10005659-1772064000-1772323199@www.mercypres.org
SUMMARY:Women's Retreat
DESCRIPTION:Blue Ridge Women’s Retreat\n\nCome join us for a weekend (Thursday evening-Saturday) full of encouragement\, fellowship\, fun\, and great teaching at Rockbridge Alum Springs Camp in Goshen\, VA. \nMercy Women will be registering together as a group to attend this Presbytery-wide women’s retreat. \nClick here to register by February 9. \n\n\n  \n__\nWeekend Theme: Reviving Our Souls: Learning from the Skies and Scriptures \nWe all long for peace. In our day-to-day lives\, we often turn to entertainment\, possessions\, careers\, or politics in search of it. Yet these things frequently leave us feeling more overwhelmed and disheartened. \nThankfully\, the Psalms remind us that true peace\, peace that revives the soul and brings joy to the heart\, is found in the Lord. \nAt this retreat\, we’ll explore how David\, through the artistry of Psalm 19\, invites us to slow down and behold the power\, wisdom\, and goodness of God. Together\, we’ll reflect on how the Lord is revealed through the world around us\, through His Word before us\, and how these revelations draw us into deeper worship and lasting joy in Him. \nWeekend Teaching Outline:\nLesson 1: Introduction/Devotional\nLesson 2: God Reveals Himself in His World\nLesson 3: God Reveals Himself in His Word\nLesson 4: God Reveals Himself in His Worshippers \n  \n\nOur Speaker: Becky Kiern\nBecky enjoys exploring how the good news of God’s grace impacts every aspect of our lives. She is a graduate of Covenant Theological Seminary (2011)\, the author of several books\, and a practicing RN\, specializing in the care of adult cardiac surgery patients. She is currently a doctoral student at Trinity Evangelical Divinity School and resides in Nashville TN.\nhttps://www.beckykiern.com/ \n  \nActivities: Climbing wall\, ropes course\, fire pits\, coffee shop\, rocking chairs\, and more.
URL:https://www.mercypres.org/event-occurrence/womens-retreat/
LOCATION:Mercy Presbyterian Church\, 1997 Thomas Jefferson Rd\, Forest\, VA\, 24551\, United States
CATEGORIES:Women
ATTACH;FMTTYPE=image/jpeg:https://www.mercypres.org/wp-content/uploads/2025/11/retreat.jpg
ORGANIZER;CN="Emilee Ellsworth":MAILTO:emilee.ellsworth@mercypres.org
END:VEVENT
BEGIN:VEVENT
DTSTART;TZID=America/New_York:20260226T070000
DTEND;TZID=America/New_York:20260226T080000
DTSTAMP:20260423T143506
CREATED:20250815T202120Z
LAST-MODIFIED:20260305T192035Z
UID:10004259-1772089200-1772092800@www.mercypres.org
SUMMARY:Prayer Meeting
DESCRIPTION:Everyone is invited to our weekly prayer gathering. During our time together\, we open with a time of Adoration and Confession\, followed by prayers of Thanksgiving and Supplication\, using the Mercy prayer needs list as a guide. No one is ever required to pray aloud\, so feel free to simply come and pray quietly with us if you prefer.
URL:https://www.mercypres.org/event-occurrence/prayer-meeting/2026-02-26/
LOCATION:Mercy Presbyterian Church\, 1997 Thomas Jefferson Rd\, Forest\, VA\, 24551\, United States
CATEGORIES:Prayer
ATTACH;FMTTYPE=image/jpeg:https://www.mercypres.org/wp-content/uploads/2025/08/website-event-image-1.jpg
ORGANIZER;CN="Karen Woodall":MAILTO:kwoodall23@juno.com
END:VEVENT
BEGIN:VEVENT
DTSTART;TZID=America/New_York:20260226T093000
DTEND;TZID=America/New_York:20260226T111500
DTSTAMP:20260423T143506
CREATED:20251211T151111Z
LAST-MODIFIED:20251211T151111Z
UID:10005803-1772098200-1772104500@www.mercypres.org
SUMMARY:Women's Bible Study (morning)
DESCRIPTION:Our Women’s Bible Studies are studying the book of Deuteronomy with W. Robert Godfrey’s Discovering Deuteronomy video teaching series and study guide. \nClick here to register for a women’s Bible study. \n  \n\nMonday evenings\, 7 – 8:30 pm\, virtual\nPOC: Kimberly Hall\nMonday evenings\, 7 – 8:30 pm\, in-person at Erica Fox’s home (Bedford)\nPOC: Erica Fox\nWednesday evenings\, 6:30-8:15 pm\, in-person at Mercy\nPOC: Melanie Merkle\nThursday mornings\, 9:30-11:30 am\, in-person at Mercy\nChildcare provided\nPOC: Marti Long\n\nThe study guide can be purchased online from various retailers like Ligonier and Amazon.
URL:https://www.mercypres.org/event-occurrence/womens-bible-study-morning/2026-02-26/
LOCATION:Mercy Presbyterian Church\, 1997 Thomas Jefferson Rd\, Forest\, VA\, 24551\, United States
CATEGORIES:Women
ATTACH;FMTTYPE=image/png:https://www.mercypres.org/wp-content/uploads/2025/01/Community-2-e1753146821577.png
ORGANIZER;CN="Marti Long":MAILTO:snmhlong@yahoo.com
END:VEVENT
BEGIN:VEVENT
DTSTART;TZID=America/New_York:20260228T090000
DTEND;TZID=America/New_York:20260228T110000
DTSTAMP:20260423T143506
CREATED:20260120T144213Z
LAST-MODIFIED:20260304T172513Z
UID:10005882-1772269200-1772276400@www.mercypres.org
SUMMARY:GriefShare
DESCRIPTION:13-week program | Begins February 14\n\n\n\n\nGrief can feel overwhelming\, confusing\, and lonely. The GriefShare Grief Support Group at Mercy Presbyterian Church offers a safe and caring place to find help\, hope\, and understanding after the loss of a loved one. \nGriefShare is a 13-week grief support program for people who have experienced the death of a family member or friend. Each session provides guidance\, encouragement\, and a supportive community where you can heal at your own pace. \nGrief does not follow a set timeline. In this group\, you will learn what is normal in grief\, what to expect in the weeks ahead\, and healthy ways to cope with grief as it changes over time. \n\n\nMore Info: MercyPres.org/GriefShare\nRegister: Click Here
URL:https://www.mercypres.org/event-occurrence/griefshare-start-date/2026-02-28/
LOCATION:Mercy Presbyterian Church\, 1997 Thomas Jefferson Rd\, Forest\, VA\, 24551\, United States
CATEGORIES:Misc.
ATTACH;FMTTYPE=image/jpeg:https://www.mercypres.org/wp-content/uploads/2026/01/4.jpg
END:VEVENT
END:VCALENDAR