BEGIN:VCALENDAR
VERSION:2.0
PRODID:-//Mercy Presbyterian Church - ECPv6.15.20//NONSGML v1.0//EN
CALSCALE:GREGORIAN
METHOD:PUBLISH
X-ORIGINAL-URL:https://www.mercypres.org
X-WR-CALDESC:Events for Mercy Presbyterian Church
REFRESH-INTERVAL;VALUE=DURATION:PT1H
X-Robots-Tag:noindex
X-PUBLISHED-TTL:PT1H
BEGIN:VTIMEZONE
TZID:America/New_York
BEGIN:DAYLIGHT
TZOFFSETFROM:-0500
TZOFFSETTO:-0400
TZNAME:EDT
DTSTART:20250309T070000
END:DAYLIGHT
BEGIN:STANDARD
TZOFFSETFROM:-0400
TZOFFSETTO:-0500
TZNAME:EST
DTSTART:20251102T060000
END:STANDARD
BEGIN:DAYLIGHT
TZOFFSETFROM:-0500
TZOFFSETTO:-0400
TZNAME:EDT
DTSTART:20260308T070000
END:DAYLIGHT
BEGIN:STANDARD
TZOFFSETFROM:-0400
TZOFFSETTO:-0500
TZNAME:EST
DTSTART:20261101T060000
END:STANDARD
BEGIN:DAYLIGHT
TZOFFSETFROM:-0500
TZOFFSETTO:-0400
TZNAME:EDT
DTSTART:20270314T070000
END:DAYLIGHT
BEGIN:STANDARD
TZOFFSETFROM:-0400
TZOFFSETTO:-0500
TZNAME:EST
DTSTART:20271107T060000
END:STANDARD
END:VTIMEZONE
BEGIN:VTIMEZONE
TZID:UTC
BEGIN:STANDARD
TZOFFSETFROM:+0000
TZOFFSETTO:+0000
TZNAME:UTC
DTSTART:20250101T000000
END:STANDARD
END:VTIMEZONE
BEGIN:VEVENT
DTSTART;TZID=America/New_York:20260510T081500
DTEND;TZID=America/New_York:20260510T094500
DTSTAMP:20260423T141932
CREATED:20250730T133232Z
LAST-MODIFIED:20250806T142520Z
UID:10003040-1778400900-1778406300@www.mercypres.org
SUMMARY:Worship (1st Service)
DESCRIPTION:Join us each Sunday for worship at 8:15am.
URL:https://www.mercypres.org/event-occurrence/worship-1st-service-copy/2026-05-10/
LOCATION:Mercy Presbyterian Church\, 1997 Thomas Jefferson Rd\, Forest\, VA\, 24551\, United States
CATEGORIES:Sunday Worship
ATTACH;FMTTYPE=image/jpeg:https://www.mercypres.org/wp-content/uploads/2025/07/worship-e1753882275602.jpg
END:VEVENT
BEGIN:VEVENT
DTSTART;TZID=UTC:20260510T094500
DTEND;TZID=UTC:20260510T104500
DTSTAMP:20260423T141932
CREATED:20260206T021401Z
LAST-MODIFIED:20260211T135645Z
UID:10003582-1778406300-1778409900@www.mercypres.org
SUMMARY:Sunday School
DESCRIPTION:For more information about Sunday School for the whole family\, see MercyPres.org/Sunday-School.
URL:https://www.mercypres.org/event-occurrence/ss-2/2026-05-10/
LOCATION:Mercy Presbyterian Church\, 1997 Thomas Jefferson Rd\, Forest\, VA\, 24551\, United States
CATEGORIES:Sunday School
ATTACH;FMTTYPE=image/jpeg:https://www.mercypres.org/wp-content/uploads/2026/02/Sunday-School.jpg
ORGANIZER;CN="Kate Rigg":MAILTO:katelyn.rigg@gmail.com
END:VEVENT
BEGIN:VEVENT
DTSTART;TZID=America/New_York:20260510T110000
DTEND;TZID=America/New_York:20260510T123000
DTSTAMP:20260423T141932
CREATED:20250730T133214Z
LAST-MODIFIED:20250806T142258Z
UID:10002717-1778410800-1778416200@www.mercypres.org
SUMMARY:Worship (2nd Service)
DESCRIPTION:Join us each Sunday for worship at 11:00am.
URL:https://www.mercypres.org/event-occurrence/worship-1st-service/2026-05-10/
LOCATION:Mercy Presbyterian Church\, 1997 Thomas Jefferson Rd\, Forest\, VA\, 24551\, United States
CATEGORIES:Sunday Worship
ATTACH;FMTTYPE=image/jpeg:https://www.mercypres.org/wp-content/uploads/2025/07/worship-e1753882275602.jpg
END:VEVENT
BEGIN:VEVENT
DTSTART;TZID=America/New_York:20260512T063000
DTEND;TZID=America/New_York:20260512T080000
DTSTAMP:20260423T141932
CREATED:20250827T135855Z
LAST-MODIFIED:20250827T140326Z
UID:10005042-1778567400-1778572800@www.mercypres.org
SUMMARY:Men's Study Group (morning)
DESCRIPTION:Join us for a weekly men’s Bible study on Tuesday mornings. \n  \nContact:\nDick Bitzer
URL:https://www.mercypres.org/event-occurrence/mens-study-group-morning/2026-05-12/
LOCATION:Mercy Presbyterian Church\, 1997 Thomas Jefferson Rd\, Forest\, VA\, 24551\, United States
CATEGORIES:Men
ATTACH;FMTTYPE=image/jpeg:https://www.mercypres.org/wp-content/uploads/2025/08/website-event-image.jpg
ORGANIZER;CN="Dick Bitzer":MAILTO:dlbitzer08@gmail.com
END:VEVENT
BEGIN:VEVENT
DTSTART;TZID=America/New_York:20260512T173000
DTEND;TZID=America/New_York:20260512T203000
DTSTAMP:20260423T141932
CREATED:20260304T141436Z
LAST-MODIFIED:20260422T163325Z
UID:10005880-1778607000-1778617800@www.mercypres.org
SUMMARY:Women's Salad & Sourdough
DESCRIPTION:Salad and Sourdough: Tuesday\, May 12\, 5:30-8:30 pm\, at the Moss Home.  \nNewbies and seasoned bakers are welcome to join us on our sourdough journey. An RSVP to  Dona Moss (view in directory) would be much appreciated\, as would contributions to the evening meal (a salad or sourdough creation).
URL:https://www.mercypres.org/event-occurrence/womens-soup-sourdough-may/
LOCATION:VA
CATEGORIES:Women
ATTACH;FMTTYPE=image/jpeg:https://www.mercypres.org/wp-content/uploads/2026/01/sourdough.jpg
ORGANIZER;CN="Dona Moss":MAILTO:donacmoss@gmail.com
END:VEVENT
BEGIN:VEVENT
DTSTART;TZID=UTC:20260513T183000
DTEND;TZID=UTC:20260513T201500
DTSTAMP:20260423T141932
CREATED:20250130T012917Z
LAST-MODIFIED:20250926T000446Z
UID:10003327-1778697000-1778703300@www.mercypres.org
SUMMARY:Youth Group
DESCRIPTION:Our student ministry exists to gather young people from the Forest area and to disciple them to bear the image of Christ. Youth Group meets most Wednesday nights at 6:30pm in the Youth Room.
URL:https://www.mercypres.org/event-occurrence/youth-group/2026-05-13/
LOCATION:Mercy Presbyterian Church\, 1997 Thomas Jefferson Rd\, Forest\, VA\, 24551\, United States
CATEGORIES:Youth
ATTACH;FMTTYPE=image/png:https://www.mercypres.org/wp-content/uploads/2025/01/Youth-e1753905588668.png
ORGANIZER;CN="Jeremiah Sheets":MAILTO:jeremiah.sheets@mercypres.org
END:VEVENT
BEGIN:VEVENT
DTSTART;TZID=America/New_York:20260513T190000
DTEND;TZID=America/New_York:20260513T203000
DTSTAMP:20260423T141932
CREATED:20250827T134554Z
LAST-MODIFIED:20251118T152853Z
UID:10004526-1778698800-1778704200@www.mercypres.org
SUMMARY:Men's Study Group (evening)
DESCRIPTION:We have 2 men’s groups meeting on Wednesday evenings: \n\n2nd and 4th Wed.\, 7pm\nEast Home\nJohn East (john.east@mercypres.org) \n\n1st and 3rd Wed.\, 7pm\nMercy\nScott Robinson (scott.robinson@mercypres.org) \n 
URL:https://www.mercypres.org/event-occurrence/mens-study-group-evening/2026-05-13/
LOCATION:VA
CATEGORIES:Men
ATTACH;FMTTYPE=image/jpeg:https://www.mercypres.org/wp-content/uploads/2025/08/mens-4-e1755287285514.jpg
END:VEVENT
BEGIN:VEVENT
DTSTART;TZID=America/New_York:20260514T070000
DTEND;TZID=America/New_York:20260514T080000
DTSTAMP:20260423T141932
CREATED:20250815T202120Z
LAST-MODIFIED:20260305T192035Z
UID:10004270-1778742000-1778745600@www.mercypres.org
SUMMARY:Prayer Meeting
DESCRIPTION:Everyone is invited to our weekly prayer gathering. During our time together\, we open with a time of Adoration and Confession\, followed by prayers of Thanksgiving and Supplication\, using the Mercy prayer needs list as a guide. No one is ever required to pray aloud\, so feel free to simply come and pray quietly with us if you prefer.
URL:https://www.mercypres.org/event-occurrence/prayer-meeting/2026-05-14/
LOCATION:Mercy Presbyterian Church\, 1997 Thomas Jefferson Rd\, Forest\, VA\, 24551\, United States
CATEGORIES:Prayer
ATTACH;FMTTYPE=image/jpeg:https://www.mercypres.org/wp-content/uploads/2025/08/website-event-image-1.jpg
ORGANIZER;CN="Karen Woodall":MAILTO:kwoodall23@juno.com
END:VEVENT
BEGIN:VEVENT
DTSTART;TZID=America/New_York:20260515T100000
DTEND;TZID=America/New_York:20260515T120000
DTSTAMP:20260423T141932
CREATED:20250904T140701Z
LAST-MODIFIED:20250904T140701Z
UID:10005274-1778839200-1778846400@www.mercypres.org
SUMMARY:Homeschool Fellowship
DESCRIPTION:Homeschool families of Mercy are invited to a monthly fellowship gathering. We usually meet on the third Friday of each month\, from 10am-12pm; however\, some months we take a field trip\, in which case dates/times/locations are subject to change. \nContact Katelin Hobson to be added to the communication group\, where updates about each month’s gathering are shared.
URL:https://www.mercypres.org/event-occurrence/homeschool-fellowship-2/2026-05-15/
LOCATION:Mercy Presbyterian Church\, 1997 Thomas Jefferson Rd\, Forest\, VA\, 24551\, United States
CATEGORIES:Homeschool Fellowship
ATTACH;FMTTYPE=image/jpeg:https://www.mercypres.org/wp-content/uploads/2025/09/HS-Fell-e1756994733766.jpg
ORGANIZER;CN="Katelin Hobson":MAILTO:kmhobson@protonmail.com
END:VEVENT
END:VCALENDAR